BEGIN:VCALENDAR
VERSION:2.0
PRODID:-//First United Methodist Church - ECPv6.15.16//NONSGML v1.0//EN
CALSCALE:GREGORIAN
METHOD:PUBLISH
X-WR-CALNAME:First United Methodist Church
X-ORIGINAL-URL:https://www.fumcrockport.org
X-WR-CALDESC:Events for First United Methodist Church
REFRESH-INTERVAL;VALUE=DURATION:PT1H
X-Robots-Tag:noindex
X-PUBLISHED-TTL:PT1H
BEGIN:VTIMEZONE
TZID:America/Chicago
BEGIN:DAYLIGHT
TZOFFSETFROM:-0600
TZOFFSETTO:-0500
TZNAME:CDT
DTSTART:20280312T080000
END:DAYLIGHT
BEGIN:STANDARD
TZOFFSETFROM:-0500
TZOFFSETTO:-0600
TZNAME:CST
DTSTART:20281105T070000
END:STANDARD
BEGIN:DAYLIGHT
TZOFFSETFROM:-0600
TZOFFSETTO:-0500
TZNAME:CDT
DTSTART:20290311T080000
END:DAYLIGHT
BEGIN:STANDARD
TZOFFSETFROM:-0500
TZOFFSETTO:-0600
TZNAME:CST
DTSTART:20291104T070000
END:STANDARD
BEGIN:DAYLIGHT
TZOFFSETFROM:-0600
TZOFFSETTO:-0500
TZNAME:CDT
DTSTART:20300310T080000
END:DAYLIGHT
BEGIN:STANDARD
TZOFFSETFROM:-0500
TZOFFSETTO:-0600
TZNAME:CST
DTSTART:20301103T070000
END:STANDARD
END:VTIMEZONE
BEGIN:VEVENT
DTSTART;TZID=America/Chicago:20290220T160000
DTEND;TZID=America/Chicago:20290220T170000
DTSTAMP:20260424T162033
CREATED:20250410T173342Z
LAST-MODIFIED:20260205T163000Z
UID:10002618-1866297600-1866301200@www.fumcrockport.org
SUMMARY:Community Table (First Presbyterian Church)
DESCRIPTION:
URL:https://www.fumcrockport.org/event/community-table-first-presbyterian-church/2029-02-20/
END:VEVENT
BEGIN:VEVENT
DTSTART;TZID=America/Chicago:20290221T173000
DTEND;TZID=America/Chicago:20290221T183000
DTSTAMP:20260424T162033
CREATED:20250410T180559Z
LAST-MODIFIED:20260205T162816Z
UID:10003073-1866389400-1866393000@www.fumcrockport.org
SUMMARY:Praise Team Practice (Choir Room)
DESCRIPTION:
URL:https://www.fumcrockport.org/event/praise-team-practice-choir-room/2029-02-21/
END:VEVENT
BEGIN:VEVENT
DTSTART;TZID=America/Chicago:20290222T100000
DTEND;TZID=America/Chicago:20290222T110000
DTSTAMP:20260424T162033
CREATED:20250410T172809Z
LAST-MODIFIED:20250410T172809Z
UID:10002275-1866448800-1866452400@www.fumcrockport.org
SUMMARY:Seniorcise (FH 1)
DESCRIPTION:
URL:https://www.fumcrockport.org/event/seniorcise-fh-1/2029-02-22/
END:VEVENT
BEGIN:VEVENT
DTSTART;TZID=America/Chicago:20290225T091500
DTEND;TZID=America/Chicago:20290225T220000
DTSTAMP:20260424T162033
CREATED:20250508T172022Z
LAST-MODIFIED:20260205T162701Z
UID:10004516-1866705300-1866751200@www.fumcrockport.org
SUMMARY:Cross Talk Sunday School Class
DESCRIPTION:
URL:https://www.fumcrockport.org/event/cross-talk-sunday-school-class-2/2029-02-25/
END:VEVENT
BEGIN:VEVENT
DTSTART;TZID=America/Chicago:20290225T093000
DTEND;TZID=America/Chicago:20290225T103000
DTSTAMP:20260424T162033
CREATED:20250410T171448Z
LAST-MODIFIED:20250410T171448Z
UID:10000307-1866706200-1866709800@www.fumcrockport.org
SUMMARY:Truth Seekers Sunday School Class
DESCRIPTION:
URL:https://www.fumcrockport.org/event/truth-seekers-sunday-school-class/2029-02-25/
END:VEVENT
BEGIN:VEVENT
DTSTART;TZID=America/Chicago:20290225T104500
DTEND;TZID=America/Chicago:20290225T234500
DTSTAMP:20260424T162033
CREATED:20250410T171603Z
LAST-MODIFIED:20250410T171603Z
UID:10000568-1866710700-1866757500@www.fumcrockport.org
SUMMARY:Together in Spirit Worship Service
DESCRIPTION:
URL:https://www.fumcrockport.org/event/together-in-spirit-worship-service/2029-02-25/
END:VEVENT
BEGIN:VEVENT
DTSTART;TZID=America/Chicago:20290225T180000
DTEND;TZID=America/Chicago:20290225T190000
DTSTAMP:20260424T162033
CREATED:20250410T171649Z
LAST-MODIFIED:20260205T162923Z
UID:10000829-1866736800-1866740400@www.fumcrockport.org
SUMMARY:Living Water Spanish Worship Service
DESCRIPTION:
URL:https://www.fumcrockport.org/event/living-water-spanish-worship-service/2029-02-25/
END:VEVENT
BEGIN:VEVENT
DTSTART;TZID=America/Chicago:20290226T100000
DTEND;TZID=America/Chicago:20290226T110000
DTSTAMP:20260424T162034
CREATED:20250410T172809Z
LAST-MODIFIED:20250410T172809Z
UID:10002276-1866794400-1866798000@www.fumcrockport.org
SUMMARY:Seniorcise (FH 1)
DESCRIPTION:
URL:https://www.fumcrockport.org/event/seniorcise-fh-1/2029-02-26/
END:VEVENT
BEGIN:VEVENT
DTSTART;TZID=America/Chicago:20290226T130000
DTEND;TZID=America/Chicago:20290226T140000
DTSTAMP:20260424T162034
CREATED:20250410T174040Z
LAST-MODIFIED:20260205T162747Z
UID:10002858-1866805200-1866808800@www.fumcrockport.org
SUMMARY:Prescription Assistance (Conf. Room)
DESCRIPTION:
URL:https://www.fumcrockport.org/event/prescription-assistance-conf-room/2029-02-26/
END:VEVENT
BEGIN:VEVENT
DTSTART;TZID=America/Chicago:20290227T100000
DTEND;TZID=America/Chicago:20290227T110000
DTSTAMP:20260424T162034
CREATED:20250410T172809Z
LAST-MODIFIED:20250410T172809Z
UID:10002277-1866880800-1866884400@www.fumcrockport.org
SUMMARY:Seniorcise (FH 1)
DESCRIPTION:
URL:https://www.fumcrockport.org/event/seniorcise-fh-1/2029-02-27/
END:VEVENT
BEGIN:VEVENT
DTSTART;TZID=America/Chicago:20290227T130000
DTEND;TZID=America/Chicago:20290227T140000
DTSTAMP:20260424T162034
CREATED:20260113T163457Z
LAST-MODIFIED:20260205T162542Z
UID:10004790-1866891600-1866895200@www.fumcrockport.org
SUMMARY:Chancel Choir Practice (Choir Room)
DESCRIPTION:
URL:https://www.fumcrockport.org/event/chancel-choir-practice-choir-room-2/2029-02-27/
END:VEVENT
BEGIN:VEVENT
DTSTART;TZID=America/Chicago:20290228T173000
DTEND;TZID=America/Chicago:20290228T183000
DTSTAMP:20260424T162034
CREATED:20250410T180559Z
LAST-MODIFIED:20260205T162816Z
UID:10003074-1866994200-1866997800@www.fumcrockport.org
SUMMARY:Praise Team Practice (Choir Room)
DESCRIPTION:
URL:https://www.fumcrockport.org/event/praise-team-practice-choir-room/2029-02-28/
END:VEVENT
BEGIN:VEVENT
DTSTART;TZID=America/Chicago:20290301T100000
DTEND;TZID=America/Chicago:20290301T110000
DTSTAMP:20260424T162034
CREATED:20250410T172809Z
LAST-MODIFIED:20250410T172809Z
UID:10002278-1867053600-1867057200@www.fumcrockport.org
SUMMARY:Seniorcise (FH 1)
DESCRIPTION:
URL:https://www.fumcrockport.org/event/seniorcise-fh-1/2029-03-01/
END:VEVENT
BEGIN:VEVENT
DTSTART;TZID=America/Chicago:20290304T091500
DTEND;TZID=America/Chicago:20290304T220000
DTSTAMP:20260424T162034
CREATED:20250508T172022Z
LAST-MODIFIED:20260205T162701Z
UID:10004517-1867310100-1867356000@www.fumcrockport.org
SUMMARY:Cross Talk Sunday School Class
DESCRIPTION:
URL:https://www.fumcrockport.org/event/cross-talk-sunday-school-class-2/2029-03-04/
END:VEVENT
BEGIN:VEVENT
DTSTART;TZID=America/Chicago:20290304T093000
DTEND;TZID=America/Chicago:20290304T103000
DTSTAMP:20260424T162034
CREATED:20250410T171448Z
LAST-MODIFIED:20250410T171448Z
UID:10000308-1867311000-1867314600@www.fumcrockport.org
SUMMARY:Truth Seekers Sunday School Class
DESCRIPTION:
URL:https://www.fumcrockport.org/event/truth-seekers-sunday-school-class/2029-03-04/
END:VEVENT
BEGIN:VEVENT
DTSTART;TZID=America/Chicago:20290304T104500
DTEND;TZID=America/Chicago:20290304T234500
DTSTAMP:20260424T162034
CREATED:20250410T171603Z
LAST-MODIFIED:20250410T171603Z
UID:10000569-1867315500-1867362300@www.fumcrockport.org
SUMMARY:Together in Spirit Worship Service
DESCRIPTION:
URL:https://www.fumcrockport.org/event/together-in-spirit-worship-service/2029-03-04/
END:VEVENT
BEGIN:VEVENT
DTSTART;TZID=America/Chicago:20290304T180000
DTEND;TZID=America/Chicago:20290304T190000
DTSTAMP:20260424T162034
CREATED:20250410T171649Z
LAST-MODIFIED:20260205T162923Z
UID:10000830-1867341600-1867345200@www.fumcrockport.org
SUMMARY:Living Water Spanish Worship Service
DESCRIPTION:
URL:https://www.fumcrockport.org/event/living-water-spanish-worship-service/2029-03-04/
END:VEVENT
BEGIN:VEVENT
DTSTART;TZID=America/Chicago:20290305T100000
DTEND;TZID=America/Chicago:20290305T110000
DTSTAMP:20260424T162034
CREATED:20250410T172809Z
LAST-MODIFIED:20250410T172809Z
UID:10002279-1867399200-1867402800@www.fumcrockport.org
SUMMARY:Seniorcise (FH 1)
DESCRIPTION:
URL:https://www.fumcrockport.org/event/seniorcise-fh-1/2029-03-05/
END:VEVENT
BEGIN:VEVENT
DTSTART;TZID=America/Chicago:20290306T100000
DTEND;TZID=America/Chicago:20290306T110000
DTSTAMP:20260424T162034
CREATED:20250410T172809Z
LAST-MODIFIED:20250410T172809Z
UID:10002280-1867485600-1867489200@www.fumcrockport.org
SUMMARY:Seniorcise (FH 1)
DESCRIPTION:
URL:https://www.fumcrockport.org/event/seniorcise-fh-1/2029-03-06/
END:VEVENT
BEGIN:VEVENT
DTSTART;TZID=America/Chicago:20290306T130000
DTEND;TZID=America/Chicago:20290306T140000
DTSTAMP:20260424T162034
CREATED:20260113T163457Z
LAST-MODIFIED:20260205T162542Z
UID:10004791-1867496400-1867500000@www.fumcrockport.org
SUMMARY:Chancel Choir Practice (Choir Room)
DESCRIPTION:
URL:https://www.fumcrockport.org/event/chancel-choir-practice-choir-room-2/2029-03-06/
END:VEVENT
BEGIN:VEVENT
DTSTART;TZID=America/Chicago:20290306T163000
DTEND;TZID=America/Chicago:20290306T173000
DTSTAMP:20260424T162034
CREATED:20250410T173434Z
LAST-MODIFIED:20260205T162723Z
UID:10003777-1867509000-1867512600@www.fumcrockport.org
SUMMARY:Community Table (First Presbyterian Church)
DESCRIPTION:
URL:https://www.fumcrockport.org/event/community-table-first-presbyterian-church-2/2029-03-06/
END:VEVENT
BEGIN:VEVENT
DTSTART;TZID=America/Chicago:20290307T173000
DTEND;TZID=America/Chicago:20290307T183000
DTSTAMP:20260424T162034
CREATED:20250410T180559Z
LAST-MODIFIED:20260205T162816Z
UID:10003075-1867599000-1867602600@www.fumcrockport.org
SUMMARY:Praise Team Practice (Choir Room)
DESCRIPTION:
URL:https://www.fumcrockport.org/event/praise-team-practice-choir-room/2029-03-07/
END:VEVENT
BEGIN:VEVENT
DTSTART;TZID=America/Chicago:20290308T100000
DTEND;TZID=America/Chicago:20290308T110000
DTSTAMP:20260424T162034
CREATED:20250410T172809Z
LAST-MODIFIED:20250410T172809Z
UID:10002281-1867658400-1867662000@www.fumcrockport.org
SUMMARY:Seniorcise (FH 1)
DESCRIPTION:
URL:https://www.fumcrockport.org/event/seniorcise-fh-1/2029-03-08/
END:VEVENT
BEGIN:VEVENT
DTSTART;TZID=America/Chicago:20290311T091500
DTEND;TZID=America/Chicago:20290311T220000
DTSTAMP:20260424T162034
CREATED:20250508T172022Z
LAST-MODIFIED:20260205T162701Z
UID:10004518-1867914900-1867960800@www.fumcrockport.org
SUMMARY:Cross Talk Sunday School Class
DESCRIPTION:
URL:https://www.fumcrockport.org/event/cross-talk-sunday-school-class-2/2029-03-11/
END:VEVENT
BEGIN:VEVENT
DTSTART;TZID=America/Chicago:20290311T093000
DTEND;TZID=America/Chicago:20290311T103000
DTSTAMP:20260424T162034
CREATED:20250410T171448Z
LAST-MODIFIED:20250410T171448Z
UID:10000309-1867915800-1867919400@www.fumcrockport.org
SUMMARY:Truth Seekers Sunday School Class
DESCRIPTION:
URL:https://www.fumcrockport.org/event/truth-seekers-sunday-school-class/2029-03-11/
END:VEVENT
BEGIN:VEVENT
DTSTART;TZID=America/Chicago:20290311T104500
DTEND;TZID=America/Chicago:20290311T234500
DTSTAMP:20260424T162034
CREATED:20250410T171603Z
LAST-MODIFIED:20250410T171603Z
UID:10000570-1867920300-1867967100@www.fumcrockport.org
SUMMARY:Together in Spirit Worship Service
DESCRIPTION:
URL:https://www.fumcrockport.org/event/together-in-spirit-worship-service/2029-03-11/
END:VEVENT
BEGIN:VEVENT
DTSTART;TZID=America/Chicago:20290311T180000
DTEND;TZID=America/Chicago:20290311T190000
DTSTAMP:20260424T162034
CREATED:20250410T171649Z
LAST-MODIFIED:20260205T162923Z
UID:10000831-1867946400-1867950000@www.fumcrockport.org
SUMMARY:Living Water Spanish Worship Service
DESCRIPTION:
URL:https://www.fumcrockport.org/event/living-water-spanish-worship-service/2029-03-11/
END:VEVENT
BEGIN:VEVENT
DTSTART;TZID=America/Chicago:20290312T100000
DTEND;TZID=America/Chicago:20290312T110000
DTSTAMP:20260424T162034
CREATED:20250410T172809Z
LAST-MODIFIED:20250410T172809Z
UID:10002282-1868004000-1868007600@www.fumcrockport.org
SUMMARY:Seniorcise (FH 1)
DESCRIPTION:
URL:https://www.fumcrockport.org/event/seniorcise-fh-1/2029-03-12/
END:VEVENT
BEGIN:VEVENT
DTSTART;TZID=America/Chicago:20290312T130000
DTEND;TZID=America/Chicago:20290312T140000
DTSTAMP:20260424T162034
CREATED:20250410T174137Z
LAST-MODIFIED:20260205T162632Z
UID:10002738-1868014800-1868018400@www.fumcrockport.org
SUMMARY:Prescription Assistance (Conf. Room)
DESCRIPTION:
URL:https://www.fumcrockport.org/event/prescription-assistance-conf-room-2/2029-03-12/
END:VEVENT
BEGIN:VEVENT
DTSTART;TZID=America/Chicago:20290313T100000
DTEND;TZID=America/Chicago:20290313T110000
DTSTAMP:20260424T162034
CREATED:20250410T172809Z
LAST-MODIFIED:20250410T172809Z
UID:10002283-1868090400-1868094000@www.fumcrockport.org
SUMMARY:Seniorcise (FH 1)
DESCRIPTION:
URL:https://www.fumcrockport.org/event/seniorcise-fh-1/2029-03-13/
END:VEVENT
END:VCALENDAR