BEGIN:VCALENDAR
VERSION:2.0
PRODID:-//First United Methodist Church - ECPv6.15.16//NONSGML v1.0//EN
CALSCALE:GREGORIAN
METHOD:PUBLISH
X-WR-CALNAME:First United Methodist Church
X-ORIGINAL-URL:https://www.fumcrockport.org
X-WR-CALDESC:Events for First United Methodist Church
REFRESH-INTERVAL;VALUE=DURATION:PT1H
X-Robots-Tag:noindex
X-PUBLISHED-TTL:PT1H
BEGIN:VTIMEZONE
TZID:America/Chicago
BEGIN:DAYLIGHT
TZOFFSETFROM:-0600
TZOFFSETTO:-0500
TZNAME:CDT
DTSTART:20280312T080000
END:DAYLIGHT
BEGIN:STANDARD
TZOFFSETFROM:-0500
TZOFFSETTO:-0600
TZNAME:CST
DTSTART:20281105T070000
END:STANDARD
BEGIN:DAYLIGHT
TZOFFSETFROM:-0600
TZOFFSETTO:-0500
TZNAME:CDT
DTSTART:20290311T080000
END:DAYLIGHT
BEGIN:STANDARD
TZOFFSETFROM:-0500
TZOFFSETTO:-0600
TZNAME:CST
DTSTART:20291104T070000
END:STANDARD
BEGIN:DAYLIGHT
TZOFFSETFROM:-0600
TZOFFSETTO:-0500
TZNAME:CDT
DTSTART:20300310T080000
END:DAYLIGHT
BEGIN:STANDARD
TZOFFSETFROM:-0500
TZOFFSETTO:-0600
TZNAME:CST
DTSTART:20301103T070000
END:STANDARD
END:VTIMEZONE
BEGIN:VEVENT
DTSTART;TZID=America/Chicago:20290326T100000
DTEND;TZID=America/Chicago:20290326T110000
DTSTAMP:20260424T220111
CREATED:20250410T172809Z
LAST-MODIFIED:20250410T172809Z
UID:10002288-1869213600-1869217200@www.fumcrockport.org
SUMMARY:Seniorcise (FH 1)
DESCRIPTION:
URL:https://www.fumcrockport.org/event/seniorcise-fh-1/2029-03-26/
END:VEVENT
BEGIN:VEVENT
DTSTART;TZID=America/Chicago:20290326T130000
DTEND;TZID=America/Chicago:20290326T140000
DTSTAMP:20260424T220111
CREATED:20250410T174040Z
LAST-MODIFIED:20260205T162747Z
UID:10002859-1869224400-1869228000@www.fumcrockport.org
SUMMARY:Prescription Assistance (Conf. Room)
DESCRIPTION:
URL:https://www.fumcrockport.org/event/prescription-assistance-conf-room/2029-03-26/
END:VEVENT
BEGIN:VEVENT
DTSTART;TZID=America/Chicago:20290327T100000
DTEND;TZID=America/Chicago:20290327T110000
DTSTAMP:20260424T220111
CREATED:20250410T172809Z
LAST-MODIFIED:20250410T172809Z
UID:10002289-1869300000-1869303600@www.fumcrockport.org
SUMMARY:Seniorcise (FH 1)
DESCRIPTION:
URL:https://www.fumcrockport.org/event/seniorcise-fh-1/2029-03-27/
END:VEVENT
BEGIN:VEVENT
DTSTART;TZID=America/Chicago:20290327T130000
DTEND;TZID=America/Chicago:20290327T140000
DTSTAMP:20260424T220111
CREATED:20260113T163457Z
LAST-MODIFIED:20260205T162542Z
UID:10004794-1869310800-1869314400@www.fumcrockport.org
SUMMARY:Chancel Choir Practice (Choir Room)
DESCRIPTION:
URL:https://www.fumcrockport.org/event/chancel-choir-practice-choir-room-2/2029-03-27/
END:VEVENT
BEGIN:VEVENT
DTSTART;TZID=America/Chicago:20290328T173000
DTEND;TZID=America/Chicago:20290328T183000
DTSTAMP:20260424T220111
CREATED:20250410T180559Z
LAST-MODIFIED:20260205T162816Z
UID:10003078-1869413400-1869417000@www.fumcrockport.org
SUMMARY:Praise Team Practice (Choir Room)
DESCRIPTION:
URL:https://www.fumcrockport.org/event/praise-team-practice-choir-room/2029-03-28/
END:VEVENT
BEGIN:VEVENT
DTSTART;TZID=America/Chicago:20290329T100000
DTEND;TZID=America/Chicago:20290329T110000
DTSTAMP:20260424T220111
CREATED:20250410T172809Z
LAST-MODIFIED:20250410T172809Z
UID:10002290-1869472800-1869476400@www.fumcrockport.org
SUMMARY:Seniorcise (FH 1)
DESCRIPTION:
URL:https://www.fumcrockport.org/event/seniorcise-fh-1/2029-03-29/
END:VEVENT
BEGIN:VEVENT
DTSTART;TZID=America/Chicago:20290401T091500
DTEND;TZID=America/Chicago:20290401T220000
DTSTAMP:20260424T220111
CREATED:20250508T172022Z
LAST-MODIFIED:20260205T162701Z
UID:10004521-1869729300-1869775200@www.fumcrockport.org
SUMMARY:Cross Talk Sunday School Class
DESCRIPTION:
URL:https://www.fumcrockport.org/event/cross-talk-sunday-school-class-2/2029-04-01/
END:VEVENT
BEGIN:VEVENT
DTSTART;TZID=America/Chicago:20290401T093000
DTEND;TZID=America/Chicago:20290401T103000
DTSTAMP:20260424T220111
CREATED:20250410T171448Z
LAST-MODIFIED:20250410T171448Z
UID:10000312-1869730200-1869733800@www.fumcrockport.org
SUMMARY:Truth Seekers Sunday School Class
DESCRIPTION:
URL:https://www.fumcrockport.org/event/truth-seekers-sunday-school-class/2029-04-01/
END:VEVENT
BEGIN:VEVENT
DTSTART;TZID=America/Chicago:20290401T104500
DTEND;TZID=America/Chicago:20290401T234500
DTSTAMP:20260424T220111
CREATED:20250410T171603Z
LAST-MODIFIED:20250410T171603Z
UID:10000573-1869734700-1869781500@www.fumcrockport.org
SUMMARY:Together in Spirit Worship Service
DESCRIPTION:
URL:https://www.fumcrockport.org/event/together-in-spirit-worship-service/2029-04-01/
END:VEVENT
BEGIN:VEVENT
DTSTART;TZID=America/Chicago:20290401T180000
DTEND;TZID=America/Chicago:20290401T190000
DTSTAMP:20260424T220111
CREATED:20250410T171649Z
LAST-MODIFIED:20260205T162923Z
UID:10000834-1869760800-1869764400@www.fumcrockport.org
SUMMARY:Living Water Spanish Worship Service
DESCRIPTION:
URL:https://www.fumcrockport.org/event/living-water-spanish-worship-service/2029-04-01/
END:VEVENT
BEGIN:VEVENT
DTSTART;TZID=America/Chicago:20290402T100000
DTEND;TZID=America/Chicago:20290402T110000
DTSTAMP:20260424T220111
CREATED:20250410T172809Z
LAST-MODIFIED:20250410T172809Z
UID:10002291-1869818400-1869822000@www.fumcrockport.org
SUMMARY:Seniorcise (FH 1)
DESCRIPTION:
URL:https://www.fumcrockport.org/event/seniorcise-fh-1/2029-04-02/
END:VEVENT
BEGIN:VEVENT
DTSTART;TZID=America/Chicago:20290403T100000
DTEND;TZID=America/Chicago:20290403T110000
DTSTAMP:20260424T220111
CREATED:20250410T172809Z
LAST-MODIFIED:20250410T172809Z
UID:10002292-1869904800-1869908400@www.fumcrockport.org
SUMMARY:Seniorcise (FH 1)
DESCRIPTION:
URL:https://www.fumcrockport.org/event/seniorcise-fh-1/2029-04-03/
END:VEVENT
BEGIN:VEVENT
DTSTART;TZID=America/Chicago:20290403T130000
DTEND;TZID=America/Chicago:20290403T140000
DTSTAMP:20260424T220111
CREATED:20260113T163457Z
LAST-MODIFIED:20260205T162542Z
UID:10004795-1869915600-1869919200@www.fumcrockport.org
SUMMARY:Chancel Choir Practice (Choir Room)
DESCRIPTION:
URL:https://www.fumcrockport.org/event/chancel-choir-practice-choir-room-2/2029-04-03/
END:VEVENT
BEGIN:VEVENT
DTSTART;TZID=America/Chicago:20290403T163000
DTEND;TZID=America/Chicago:20290403T173000
DTSTAMP:20260424T220111
CREATED:20250410T173434Z
LAST-MODIFIED:20260205T162723Z
UID:10003778-1869928200-1869931800@www.fumcrockport.org
SUMMARY:Community Table (First Presbyterian Church)
DESCRIPTION:
URL:https://www.fumcrockport.org/event/community-table-first-presbyterian-church-2/2029-04-03/
END:VEVENT
BEGIN:VEVENT
DTSTART;TZID=America/Chicago:20290404T173000
DTEND;TZID=America/Chicago:20290404T183000
DTSTAMP:20260424T220111
CREATED:20250410T180559Z
LAST-MODIFIED:20260205T162816Z
UID:10003079-1870018200-1870021800@www.fumcrockport.org
SUMMARY:Praise Team Practice (Choir Room)
DESCRIPTION:
URL:https://www.fumcrockport.org/event/praise-team-practice-choir-room/2029-04-04/
END:VEVENT
BEGIN:VEVENT
DTSTART;TZID=America/Chicago:20290405T100000
DTEND;TZID=America/Chicago:20290405T110000
DTSTAMP:20260424T220111
CREATED:20250410T172809Z
LAST-MODIFIED:20250410T172809Z
UID:10002293-1870077600-1870081200@www.fumcrockport.org
SUMMARY:Seniorcise (FH 1)
DESCRIPTION:
URL:https://www.fumcrockport.org/event/seniorcise-fh-1/2029-04-05/
END:VEVENT
BEGIN:VEVENT
DTSTART;TZID=America/Chicago:20290408T091500
DTEND;TZID=America/Chicago:20290408T220000
DTSTAMP:20260424T220111
CREATED:20250508T172022Z
LAST-MODIFIED:20260205T162701Z
UID:10004522-1870334100-1870380000@www.fumcrockport.org
SUMMARY:Cross Talk Sunday School Class
DESCRIPTION:
URL:https://www.fumcrockport.org/event/cross-talk-sunday-school-class-2/2029-04-08/
END:VEVENT
BEGIN:VEVENT
DTSTART;TZID=America/Chicago:20290408T093000
DTEND;TZID=America/Chicago:20290408T103000
DTSTAMP:20260424T220111
CREATED:20250410T171448Z
LAST-MODIFIED:20250410T171448Z
UID:10000313-1870335000-1870338600@www.fumcrockport.org
SUMMARY:Truth Seekers Sunday School Class
DESCRIPTION:
URL:https://www.fumcrockport.org/event/truth-seekers-sunday-school-class/2029-04-08/
END:VEVENT
BEGIN:VEVENT
DTSTART;TZID=America/Chicago:20290408T104500
DTEND;TZID=America/Chicago:20290408T234500
DTSTAMP:20260424T220111
CREATED:20250410T171603Z
LAST-MODIFIED:20250410T171603Z
UID:10000574-1870339500-1870386300@www.fumcrockport.org
SUMMARY:Together in Spirit Worship Service
DESCRIPTION:
URL:https://www.fumcrockport.org/event/together-in-spirit-worship-service/2029-04-08/
END:VEVENT
BEGIN:VEVENT
DTSTART;TZID=America/Chicago:20290408T180000
DTEND;TZID=America/Chicago:20290408T190000
DTSTAMP:20260424T220111
CREATED:20250410T171649Z
LAST-MODIFIED:20260205T162923Z
UID:10000835-1870365600-1870369200@www.fumcrockport.org
SUMMARY:Living Water Spanish Worship Service
DESCRIPTION:
URL:https://www.fumcrockport.org/event/living-water-spanish-worship-service/2029-04-08/
END:VEVENT
BEGIN:VEVENT
DTSTART;TZID=America/Chicago:20290409T100000
DTEND;TZID=America/Chicago:20290409T110000
DTSTAMP:20260424T220111
CREATED:20250410T172809Z
LAST-MODIFIED:20250410T172809Z
UID:10002294-1870423200-1870426800@www.fumcrockport.org
SUMMARY:Seniorcise (FH 1)
DESCRIPTION:
URL:https://www.fumcrockport.org/event/seniorcise-fh-1/2029-04-09/
END:VEVENT
BEGIN:VEVENT
DTSTART;TZID=America/Chicago:20290409T130000
DTEND;TZID=America/Chicago:20290409T140000
DTSTAMP:20260424T220111
CREATED:20250410T174137Z
LAST-MODIFIED:20260205T162632Z
UID:10002739-1870434000-1870437600@www.fumcrockport.org
SUMMARY:Prescription Assistance (Conf. Room)
DESCRIPTION:
URL:https://www.fumcrockport.org/event/prescription-assistance-conf-room-2/2029-04-09/
END:VEVENT
BEGIN:VEVENT
DTSTART;TZID=America/Chicago:20290410T100000
DTEND;TZID=America/Chicago:20290410T110000
DTSTAMP:20260424T220111
CREATED:20250410T172809Z
LAST-MODIFIED:20250410T172809Z
UID:10002295-1870509600-1870513200@www.fumcrockport.org
SUMMARY:Seniorcise (FH 1)
DESCRIPTION:
URL:https://www.fumcrockport.org/event/seniorcise-fh-1/2029-04-10/
END:VEVENT
BEGIN:VEVENT
DTSTART;TZID=America/Chicago:20290410T120000
DTEND;TZID=America/Chicago:20290410T130000
DTSTAMP:20260424T220111
CREATED:20250410T174224Z
LAST-MODIFIED:20250410T174224Z
UID:10002799-1870516800-1870520400@www.fumcrockport.org
SUMMARY:Diabetic Support Group (Rec. Room)
DESCRIPTION:
URL:https://www.fumcrockport.org/event/diabetic-support-group-rec-room/2029-04-10/
END:VEVENT
BEGIN:VEVENT
DTSTART;TZID=America/Chicago:20290410T130000
DTEND;TZID=America/Chicago:20290410T140000
DTSTAMP:20260424T220111
CREATED:20260113T163457Z
LAST-MODIFIED:20260205T162542Z
UID:10004796-1870520400-1870524000@www.fumcrockport.org
SUMMARY:Chancel Choir Practice (Choir Room)
DESCRIPTION:
URL:https://www.fumcrockport.org/event/chancel-choir-practice-choir-room-2/2029-04-10/
END:VEVENT
BEGIN:VEVENT
DTSTART;TZID=America/Chicago:20290411T173000
DTEND;TZID=America/Chicago:20290411T183000
DTSTAMP:20260424T220111
CREATED:20250410T180559Z
LAST-MODIFIED:20260205T162816Z
UID:10003080-1870623000-1870626600@www.fumcrockport.org
SUMMARY:Praise Team Practice (Choir Room)
DESCRIPTION:
URL:https://www.fumcrockport.org/event/praise-team-practice-choir-room/2029-04-11/
END:VEVENT
BEGIN:VEVENT
DTSTART;TZID=America/Chicago:20290412T100000
DTEND;TZID=America/Chicago:20290412T110000
DTSTAMP:20260424T220111
CREATED:20250410T172809Z
LAST-MODIFIED:20250410T172809Z
UID:10002296-1870682400-1870686000@www.fumcrockport.org
SUMMARY:Seniorcise (FH 1)
DESCRIPTION:
URL:https://www.fumcrockport.org/event/seniorcise-fh-1/2029-04-12/
END:VEVENT
BEGIN:VEVENT
DTSTART;TZID=America/Chicago:20290415T091500
DTEND;TZID=America/Chicago:20290415T220000
DTSTAMP:20260424T220111
CREATED:20250508T172022Z
LAST-MODIFIED:20260205T162701Z
UID:10004523-1870938900-1870984800@www.fumcrockport.org
SUMMARY:Cross Talk Sunday School Class
DESCRIPTION:
URL:https://www.fumcrockport.org/event/cross-talk-sunday-school-class-2/2029-04-15/
END:VEVENT
BEGIN:VEVENT
DTSTART;TZID=America/Chicago:20290415T093000
DTEND;TZID=America/Chicago:20290415T103000
DTSTAMP:20260424T220111
CREATED:20250410T171448Z
LAST-MODIFIED:20250410T171448Z
UID:10000314-1870939800-1870943400@www.fumcrockport.org
SUMMARY:Truth Seekers Sunday School Class
DESCRIPTION:
URL:https://www.fumcrockport.org/event/truth-seekers-sunday-school-class/2029-04-15/
END:VEVENT
BEGIN:VEVENT
DTSTART;TZID=America/Chicago:20290415T104500
DTEND;TZID=America/Chicago:20290415T234500
DTSTAMP:20260424T220111
CREATED:20250410T171603Z
LAST-MODIFIED:20250410T171603Z
UID:10000575-1870944300-1870991100@www.fumcrockport.org
SUMMARY:Together in Spirit Worship Service
DESCRIPTION:
URL:https://www.fumcrockport.org/event/together-in-spirit-worship-service/2029-04-15/
END:VEVENT
END:VCALENDAR