BEGIN:VCALENDAR
VERSION:2.0
PRODID:-//First United Methodist Church - ECPv6.15.16//NONSGML v1.0//EN
CALSCALE:GREGORIAN
METHOD:PUBLISH
X-ORIGINAL-URL:https://www.fumcrockport.org
X-WR-CALDESC:Events for First United Methodist Church
REFRESH-INTERVAL;VALUE=DURATION:PT1H
X-Robots-Tag:noindex
X-PUBLISHED-TTL:PT1H
BEGIN:VTIMEZONE
TZID:America/Chicago
BEGIN:DAYLIGHT
TZOFFSETFROM:-0600
TZOFFSETTO:-0500
TZNAME:CDT
DTSTART:20260308T080000
END:DAYLIGHT
BEGIN:STANDARD
TZOFFSETFROM:-0500
TZOFFSETTO:-0600
TZNAME:CST
DTSTART:20261101T070000
END:STANDARD
BEGIN:DAYLIGHT
TZOFFSETFROM:-0600
TZOFFSETTO:-0500
TZNAME:CDT
DTSTART:20270314T080000
END:DAYLIGHT
BEGIN:STANDARD
TZOFFSETFROM:-0500
TZOFFSETTO:-0600
TZNAME:CST
DTSTART:20271107T070000
END:STANDARD
BEGIN:DAYLIGHT
TZOFFSETFROM:-0600
TZOFFSETTO:-0500
TZNAME:CDT
DTSTART:20280312T080000
END:DAYLIGHT
BEGIN:STANDARD
TZOFFSETFROM:-0500
TZOFFSETTO:-0600
TZNAME:CST
DTSTART:20281105T070000
END:STANDARD
END:VTIMEZONE
BEGIN:VEVENT
DTSTART;TZID=America/Chicago:20271107T093000
DTEND;TZID=America/Chicago:20271107T103000
DTSTAMP:20260421T040908
CREATED:20250410T171448Z
LAST-MODIFIED:20250410T171448Z
UID:10000239-1825579800-1825583400@www.fumcrockport.org
SUMMARY:Truth Seekers Sunday School Class
DESCRIPTION:
URL:https://www.fumcrockport.org/event/truth-seekers-sunday-school-class/2027-11-07/
END:VEVENT
BEGIN:VEVENT
DTSTART;TZID=America/Chicago:20271107T104500
DTEND;TZID=America/Chicago:20271107T234500
DTSTAMP:20260421T040908
CREATED:20250410T171603Z
LAST-MODIFIED:20250410T171603Z
UID:10000500-1825584300-1825631100@www.fumcrockport.org
SUMMARY:Together in Spirit Worship Service
DESCRIPTION:
URL:https://www.fumcrockport.org/event/together-in-spirit-worship-service/2027-11-07/
END:VEVENT
BEGIN:VEVENT
DTSTART;TZID=America/Chicago:20271107T180000
DTEND;TZID=America/Chicago:20271107T190000
DTSTAMP:20260421T040908
CREATED:20250410T171649Z
LAST-MODIFIED:20260205T162923Z
UID:10000761-1825610400-1825614000@www.fumcrockport.org
SUMMARY:Living Water Spanish Worship Service
DESCRIPTION:
URL:https://www.fumcrockport.org/event/living-water-spanish-worship-service/2027-11-07/
END:VEVENT
BEGIN:VEVENT
DTSTART;TZID=America/Chicago:20271108T100000
DTEND;TZID=America/Chicago:20271108T110000
DTSTAMP:20260421T040908
CREATED:20250410T172809Z
LAST-MODIFIED:20250410T172809Z
UID:10002072-1825668000-1825671600@www.fumcrockport.org
SUMMARY:Seniorcise (FH 1)
DESCRIPTION:
URL:https://www.fumcrockport.org/event/seniorcise-fh-1/2027-11-08/
END:VEVENT
BEGIN:VEVENT
DTSTART;TZID=America/Chicago:20271108T130000
DTEND;TZID=America/Chicago:20271108T140000
DTSTAMP:20260421T040908
CREATED:20250410T174137Z
LAST-MODIFIED:20260205T162632Z
UID:10002722-1825678800-1825682400@www.fumcrockport.org
SUMMARY:Prescription Assistance (Conf. Room)
DESCRIPTION:
URL:https://www.fumcrockport.org/event/prescription-assistance-conf-room-2/2027-11-08/
END:VEVENT
BEGIN:VEVENT
DTSTART;TZID=America/Chicago:20271109T100000
DTEND;TZID=America/Chicago:20271109T110000
DTSTAMP:20260421T040908
CREATED:20250410T172809Z
LAST-MODIFIED:20250410T172809Z
UID:10002073-1825754400-1825758000@www.fumcrockport.org
SUMMARY:Seniorcise (FH 1)
DESCRIPTION:
URL:https://www.fumcrockport.org/event/seniorcise-fh-1/2027-11-09/
END:VEVENT
BEGIN:VEVENT
DTSTART;TZID=America/Chicago:20271109T120000
DTEND;TZID=America/Chicago:20271109T130000
DTSTAMP:20260421T040908
CREATED:20250410T174224Z
LAST-MODIFIED:20250410T174224Z
UID:10002782-1825761600-1825765200@www.fumcrockport.org
SUMMARY:Diabetic Support Group (Rec. Room)
DESCRIPTION:
URL:https://www.fumcrockport.org/event/diabetic-support-group-rec-room/2027-11-09/
END:VEVENT
BEGIN:VEVENT
DTSTART;TZID=America/Chicago:20271109T130000
DTEND;TZID=America/Chicago:20271109T140000
DTSTAMP:20260421T040908
CREATED:20260113T163457Z
LAST-MODIFIED:20260205T162542Z
UID:10004722-1825765200-1825768800@www.fumcrockport.org
SUMMARY:Chancel Choir Practice (Choir Room)
DESCRIPTION:
URL:https://www.fumcrockport.org/event/chancel-choir-practice-choir-room-2/2027-11-09/
END:VEVENT
BEGIN:VEVENT
DTSTART;TZID=America/Chicago:20271110T173000
DTEND;TZID=America/Chicago:20271110T183000
DTSTAMP:20260421T040908
CREATED:20250410T180559Z
LAST-MODIFIED:20260205T162816Z
UID:10003006-1825867800-1825871400@www.fumcrockport.org
SUMMARY:Praise Team Practice (Choir Room)
DESCRIPTION:
URL:https://www.fumcrockport.org/event/praise-team-practice-choir-room/2027-11-10/
END:VEVENT
BEGIN:VEVENT
DTSTART;TZID=America/Chicago:20271111T100000
DTEND;TZID=America/Chicago:20271111T110000
DTSTAMP:20260421T040908
CREATED:20250410T172809Z
LAST-MODIFIED:20250410T172809Z
UID:10002074-1825927200-1825930800@www.fumcrockport.org
SUMMARY:Seniorcise (FH 1)
DESCRIPTION:
URL:https://www.fumcrockport.org/event/seniorcise-fh-1/2027-11-11/
END:VEVENT
BEGIN:VEVENT
DTSTART;TZID=America/Chicago:20271114T091500
DTEND;TZID=America/Chicago:20271114T220000
DTSTAMP:20260421T040908
CREATED:20250508T172022Z
LAST-MODIFIED:20260205T162701Z
UID:10004449-1826183700-1826229600@www.fumcrockport.org
SUMMARY:Cross Talk Sunday School Class
DESCRIPTION:
URL:https://www.fumcrockport.org/event/cross-talk-sunday-school-class-2/2027-11-14/
END:VEVENT
BEGIN:VEVENT
DTSTART;TZID=America/Chicago:20271114T093000
DTEND;TZID=America/Chicago:20271114T103000
DTSTAMP:20260421T040908
CREATED:20250410T171448Z
LAST-MODIFIED:20250410T171448Z
UID:10000240-1826184600-1826188200@www.fumcrockport.org
SUMMARY:Truth Seekers Sunday School Class
DESCRIPTION:
URL:https://www.fumcrockport.org/event/truth-seekers-sunday-school-class/2027-11-14/
END:VEVENT
BEGIN:VEVENT
DTSTART;TZID=America/Chicago:20271114T104500
DTEND;TZID=America/Chicago:20271114T234500
DTSTAMP:20260421T040908
CREATED:20250410T171603Z
LAST-MODIFIED:20250410T171603Z
UID:10000501-1826189100-1826235900@www.fumcrockport.org
SUMMARY:Together in Spirit Worship Service
DESCRIPTION:
URL:https://www.fumcrockport.org/event/together-in-spirit-worship-service/2027-11-14/
END:VEVENT
BEGIN:VEVENT
DTSTART;TZID=America/Chicago:20271114T180000
DTEND;TZID=America/Chicago:20271114T190000
DTSTAMP:20260421T040908
CREATED:20250410T171649Z
LAST-MODIFIED:20260205T162923Z
UID:10000762-1826215200-1826218800@www.fumcrockport.org
SUMMARY:Living Water Spanish Worship Service
DESCRIPTION:
URL:https://www.fumcrockport.org/event/living-water-spanish-worship-service/2027-11-14/
END:VEVENT
BEGIN:VEVENT
DTSTART;TZID=America/Chicago:20271115T100000
DTEND;TZID=America/Chicago:20271115T110000
DTSTAMP:20260421T040908
CREATED:20250410T172809Z
LAST-MODIFIED:20250410T172809Z
UID:10002075-1826272800-1826276400@www.fumcrockport.org
SUMMARY:Seniorcise (FH 1)
DESCRIPTION:
URL:https://www.fumcrockport.org/event/seniorcise-fh-1/2027-11-15/
END:VEVENT
BEGIN:VEVENT
DTSTART;TZID=America/Chicago:20271116T100000
DTEND;TZID=America/Chicago:20271116T110000
DTSTAMP:20260421T040908
CREATED:20250410T172809Z
LAST-MODIFIED:20250410T172809Z
UID:10002076-1826359200-1826362800@www.fumcrockport.org
SUMMARY:Seniorcise (FH 1)
DESCRIPTION:
URL:https://www.fumcrockport.org/event/seniorcise-fh-1/2027-11-16/
END:VEVENT
BEGIN:VEVENT
DTSTART;TZID=America/Chicago:20271116T130000
DTEND;TZID=America/Chicago:20271116T140000
DTSTAMP:20260421T040908
CREATED:20260113T163457Z
LAST-MODIFIED:20260205T162542Z
UID:10004723-1826370000-1826373600@www.fumcrockport.org
SUMMARY:Chancel Choir Practice (Choir Room)
DESCRIPTION:
URL:https://www.fumcrockport.org/event/chancel-choir-practice-choir-room-2/2027-11-16/
END:VEVENT
BEGIN:VEVENT
DTSTART;TZID=America/Chicago:20271116T160000
DTEND;TZID=America/Chicago:20271116T170000
DTSTAMP:20260421T040908
CREATED:20250410T173342Z
LAST-MODIFIED:20260205T163000Z
UID:10002603-1826380800-1826384400@www.fumcrockport.org
SUMMARY:Community Table (First Presbyterian Church)
DESCRIPTION:
URL:https://www.fumcrockport.org/event/community-table-first-presbyterian-church/2027-11-16/
END:VEVENT
BEGIN:VEVENT
DTSTART;TZID=America/Chicago:20271117T173000
DTEND;TZID=America/Chicago:20271117T183000
DTSTAMP:20260421T040908
CREATED:20250410T180559Z
LAST-MODIFIED:20260205T162816Z
UID:10003007-1826472600-1826476200@www.fumcrockport.org
SUMMARY:Praise Team Practice (Choir Room)
DESCRIPTION:
URL:https://www.fumcrockport.org/event/praise-team-practice-choir-room/2027-11-17/
END:VEVENT
BEGIN:VEVENT
DTSTART;TZID=America/Chicago:20271118T100000
DTEND;TZID=America/Chicago:20271118T110000
DTSTAMP:20260421T040908
CREATED:20250410T172809Z
LAST-MODIFIED:20250410T172809Z
UID:10002077-1826532000-1826535600@www.fumcrockport.org
SUMMARY:Seniorcise (FH 1)
DESCRIPTION:
URL:https://www.fumcrockport.org/event/seniorcise-fh-1/2027-11-18/
END:VEVENT
BEGIN:VEVENT
DTSTART;TZID=America/Chicago:20271121T091500
DTEND;TZID=America/Chicago:20271121T220000
DTSTAMP:20260421T040908
CREATED:20250508T172022Z
LAST-MODIFIED:20260205T162701Z
UID:10004450-1826788500-1826834400@www.fumcrockport.org
SUMMARY:Cross Talk Sunday School Class
DESCRIPTION:
URL:https://www.fumcrockport.org/event/cross-talk-sunday-school-class-2/2027-11-21/
END:VEVENT
BEGIN:VEVENT
DTSTART;TZID=America/Chicago:20271121T093000
DTEND;TZID=America/Chicago:20271121T103000
DTSTAMP:20260421T040908
CREATED:20250410T171448Z
LAST-MODIFIED:20250410T171448Z
UID:10000241-1826789400-1826793000@www.fumcrockport.org
SUMMARY:Truth Seekers Sunday School Class
DESCRIPTION:
URL:https://www.fumcrockport.org/event/truth-seekers-sunday-school-class/2027-11-21/
END:VEVENT
BEGIN:VEVENT
DTSTART;TZID=America/Chicago:20271121T104500
DTEND;TZID=America/Chicago:20271121T234500
DTSTAMP:20260421T040908
CREATED:20250410T171603Z
LAST-MODIFIED:20250410T171603Z
UID:10000502-1826793900-1826840700@www.fumcrockport.org
SUMMARY:Together in Spirit Worship Service
DESCRIPTION:
URL:https://www.fumcrockport.org/event/together-in-spirit-worship-service/2027-11-21/
END:VEVENT
BEGIN:VEVENT
DTSTART;TZID=America/Chicago:20271121T180000
DTEND;TZID=America/Chicago:20271121T190000
DTSTAMP:20260421T040908
CREATED:20250410T171649Z
LAST-MODIFIED:20260205T162923Z
UID:10000763-1826820000-1826823600@www.fumcrockport.org
SUMMARY:Living Water Spanish Worship Service
DESCRIPTION:
URL:https://www.fumcrockport.org/event/living-water-spanish-worship-service/2027-11-21/
END:VEVENT
BEGIN:VEVENT
DTSTART;TZID=America/Chicago:20271122T100000
DTEND;TZID=America/Chicago:20271122T110000
DTSTAMP:20260421T040908
CREATED:20250410T172809Z
LAST-MODIFIED:20250410T172809Z
UID:10002078-1826877600-1826881200@www.fumcrockport.org
SUMMARY:Seniorcise (FH 1)
DESCRIPTION:
URL:https://www.fumcrockport.org/event/seniorcise-fh-1/2027-11-22/
END:VEVENT
BEGIN:VEVENT
DTSTART;TZID=America/Chicago:20271122T130000
DTEND;TZID=America/Chicago:20271122T140000
DTSTAMP:20260421T040908
CREATED:20250410T174040Z
LAST-MODIFIED:20260205T162747Z
UID:10002843-1826888400-1826892000@www.fumcrockport.org
SUMMARY:Prescription Assistance (Conf. Room)
DESCRIPTION:
URL:https://www.fumcrockport.org/event/prescription-assistance-conf-room/2027-11-22/
END:VEVENT
BEGIN:VEVENT
DTSTART;TZID=America/Chicago:20271123T100000
DTEND;TZID=America/Chicago:20271123T110000
DTSTAMP:20260421T040908
CREATED:20250410T172809Z
LAST-MODIFIED:20250410T172809Z
UID:10002079-1826964000-1826967600@www.fumcrockport.org
SUMMARY:Seniorcise (FH 1)
DESCRIPTION:
URL:https://www.fumcrockport.org/event/seniorcise-fh-1/2027-11-23/
END:VEVENT
BEGIN:VEVENT
DTSTART;TZID=America/Chicago:20271123T130000
DTEND;TZID=America/Chicago:20271123T140000
DTSTAMP:20260421T040909
CREATED:20260113T163457Z
LAST-MODIFIED:20260205T162542Z
UID:10004724-1826974800-1826978400@www.fumcrockport.org
SUMMARY:Chancel Choir Practice (Choir Room)
DESCRIPTION:
URL:https://www.fumcrockport.org/event/chancel-choir-practice-choir-room-2/2027-11-23/
END:VEVENT
BEGIN:VEVENT
DTSTART;TZID=America/Chicago:20271124T173000
DTEND;TZID=America/Chicago:20271124T183000
DTSTAMP:20260421T040909
CREATED:20250410T180559Z
LAST-MODIFIED:20260205T162816Z
UID:10003008-1827077400-1827081000@www.fumcrockport.org
SUMMARY:Praise Team Practice (Choir Room)
DESCRIPTION:
URL:https://www.fumcrockport.org/event/praise-team-practice-choir-room/2027-11-24/
END:VEVENT
BEGIN:VEVENT
DTSTART;TZID=America/Chicago:20271125T100000
DTEND;TZID=America/Chicago:20271125T110000
DTSTAMP:20260421T040909
CREATED:20250410T172809Z
LAST-MODIFIED:20250410T172809Z
UID:10002080-1827136800-1827140400@www.fumcrockport.org
SUMMARY:Seniorcise (FH 1)
DESCRIPTION:
URL:https://www.fumcrockport.org/event/seniorcise-fh-1/2027-11-25/
END:VEVENT
END:VCALENDAR