BEGIN:VCALENDAR
VERSION:2.0
PRODID:-//First United Methodist Church - ECPv6.15.16//NONSGML v1.0//EN
CALSCALE:GREGORIAN
METHOD:PUBLISH
X-ORIGINAL-URL:https://www.fumcrockport.org
X-WR-CALDESC:Events for First United Methodist Church
REFRESH-INTERVAL;VALUE=DURATION:PT1H
X-Robots-Tag:noindex
X-PUBLISHED-TTL:PT1H
BEGIN:VTIMEZONE
TZID:America/Chicago
BEGIN:DAYLIGHT
TZOFFSETFROM:-0600
TZOFFSETTO:-0500
TZNAME:CDT
DTSTART:20260308T080000
END:DAYLIGHT
BEGIN:STANDARD
TZOFFSETFROM:-0500
TZOFFSETTO:-0600
TZNAME:CST
DTSTART:20261101T070000
END:STANDARD
BEGIN:DAYLIGHT
TZOFFSETFROM:-0600
TZOFFSETTO:-0500
TZNAME:CDT
DTSTART:20270314T080000
END:DAYLIGHT
BEGIN:STANDARD
TZOFFSETFROM:-0500
TZOFFSETTO:-0600
TZNAME:CST
DTSTART:20271107T070000
END:STANDARD
BEGIN:DAYLIGHT
TZOFFSETFROM:-0600
TZOFFSETTO:-0500
TZNAME:CDT
DTSTART:20280312T080000
END:DAYLIGHT
BEGIN:STANDARD
TZOFFSETFROM:-0500
TZOFFSETTO:-0600
TZNAME:CST
DTSTART:20281105T070000
END:STANDARD
BEGIN:DAYLIGHT
TZOFFSETFROM:-0600
TZOFFSETTO:-0500
TZNAME:CDT
DTSTART:20290311T080000
END:DAYLIGHT
BEGIN:STANDARD
TZOFFSETFROM:-0500
TZOFFSETTO:-0600
TZNAME:CST
DTSTART:20291104T070000
END:STANDARD
END:VTIMEZONE
BEGIN:VEVENT
DTSTART;TZID=America/Chicago:20271219T104500
DTEND;TZID=America/Chicago:20271219T234500
DTSTAMP:20260421T130856
CREATED:20250410T171603Z
LAST-MODIFIED:20250410T171603Z
UID:10000506-1829213100-1829259900@www.fumcrockport.org
SUMMARY:Together in Spirit Worship Service
DESCRIPTION:
URL:https://www.fumcrockport.org/event/together-in-spirit-worship-service/2027-12-19/
END:VEVENT
BEGIN:VEVENT
DTSTART;TZID=America/Chicago:20271219T180000
DTEND;TZID=America/Chicago:20271219T190000
DTSTAMP:20260421T130856
CREATED:20250410T171649Z
LAST-MODIFIED:20260205T162923Z
UID:10000767-1829239200-1829242800@www.fumcrockport.org
SUMMARY:Living Water Spanish Worship Service
DESCRIPTION:
URL:https://www.fumcrockport.org/event/living-water-spanish-worship-service/2027-12-19/
END:VEVENT
BEGIN:VEVENT
DTSTART;TZID=America/Chicago:20271220T100000
DTEND;TZID=America/Chicago:20271220T110000
DTSTAMP:20260421T130856
CREATED:20250410T172809Z
LAST-MODIFIED:20250410T172809Z
UID:10002090-1829296800-1829300400@www.fumcrockport.org
SUMMARY:Seniorcise (FH 1)
DESCRIPTION:
URL:https://www.fumcrockport.org/event/seniorcise-fh-1/2027-12-20/
END:VEVENT
BEGIN:VEVENT
DTSTART;TZID=America/Chicago:20271221T100000
DTEND;TZID=America/Chicago:20271221T110000
DTSTAMP:20260421T130856
CREATED:20250410T172809Z
LAST-MODIFIED:20250410T172809Z
UID:10002091-1829383200-1829386800@www.fumcrockport.org
SUMMARY:Seniorcise (FH 1)
DESCRIPTION:
URL:https://www.fumcrockport.org/event/seniorcise-fh-1/2027-12-21/
END:VEVENT
BEGIN:VEVENT
DTSTART;TZID=America/Chicago:20271221T130000
DTEND;TZID=America/Chicago:20271221T140000
DTSTAMP:20260421T130856
CREATED:20260113T163457Z
LAST-MODIFIED:20260205T162542Z
UID:10004728-1829394000-1829397600@www.fumcrockport.org
SUMMARY:Chancel Choir Practice (Choir Room)
DESCRIPTION:
URL:https://www.fumcrockport.org/event/chancel-choir-practice-choir-room-2/2027-12-21/
END:VEVENT
BEGIN:VEVENT
DTSTART;TZID=America/Chicago:20271221T160000
DTEND;TZID=America/Chicago:20271221T170000
DTSTAMP:20260421T130856
CREATED:20250410T173342Z
LAST-MODIFIED:20260205T163000Z
UID:10002604-1829404800-1829408400@www.fumcrockport.org
SUMMARY:Community Table (First Presbyterian Church)
DESCRIPTION:
URL:https://www.fumcrockport.org/event/community-table-first-presbyterian-church/2027-12-21/
END:VEVENT
BEGIN:VEVENT
DTSTART;TZID=America/Chicago:20271222T173000
DTEND;TZID=America/Chicago:20271222T183000
DTSTAMP:20260421T130856
CREATED:20250410T180559Z
LAST-MODIFIED:20260205T162816Z
UID:10003012-1829496600-1829500200@www.fumcrockport.org
SUMMARY:Praise Team Practice (Choir Room)
DESCRIPTION:
URL:https://www.fumcrockport.org/event/praise-team-practice-choir-room/2027-12-22/
END:VEVENT
BEGIN:VEVENT
DTSTART;TZID=America/Chicago:20271223T100000
DTEND;TZID=America/Chicago:20271223T110000
DTSTAMP:20260421T130856
CREATED:20250410T172809Z
LAST-MODIFIED:20250410T172809Z
UID:10002092-1829556000-1829559600@www.fumcrockport.org
SUMMARY:Seniorcise (FH 1)
DESCRIPTION:
URL:https://www.fumcrockport.org/event/seniorcise-fh-1/2027-12-23/
END:VEVENT
BEGIN:VEVENT
DTSTART;TZID=America/Chicago:20271226T091500
DTEND;TZID=America/Chicago:20271226T220000
DTSTAMP:20260421T130856
CREATED:20250508T172022Z
LAST-MODIFIED:20260205T162701Z
UID:10004455-1829812500-1829858400@www.fumcrockport.org
SUMMARY:Cross Talk Sunday School Class
DESCRIPTION:
URL:https://www.fumcrockport.org/event/cross-talk-sunday-school-class-2/2027-12-26/
END:VEVENT
BEGIN:VEVENT
DTSTART;TZID=America/Chicago:20271226T093000
DTEND;TZID=America/Chicago:20271226T103000
DTSTAMP:20260421T130856
CREATED:20250410T171448Z
LAST-MODIFIED:20250410T171448Z
UID:10000246-1829813400-1829817000@www.fumcrockport.org
SUMMARY:Truth Seekers Sunday School Class
DESCRIPTION:
URL:https://www.fumcrockport.org/event/truth-seekers-sunday-school-class/2027-12-26/
END:VEVENT
BEGIN:VEVENT
DTSTART;TZID=America/Chicago:20271226T104500
DTEND;TZID=America/Chicago:20271226T234500
DTSTAMP:20260421T130856
CREATED:20250410T171603Z
LAST-MODIFIED:20250410T171603Z
UID:10000507-1829817900-1829864700@www.fumcrockport.org
SUMMARY:Together in Spirit Worship Service
DESCRIPTION:
URL:https://www.fumcrockport.org/event/together-in-spirit-worship-service/2027-12-26/
END:VEVENT
BEGIN:VEVENT
DTSTART;TZID=America/Chicago:20271226T180000
DTEND;TZID=America/Chicago:20271226T190000
DTSTAMP:20260421T130856
CREATED:20250410T171649Z
LAST-MODIFIED:20260205T162923Z
UID:10000768-1829844000-1829847600@www.fumcrockport.org
SUMMARY:Living Water Spanish Worship Service
DESCRIPTION:
URL:https://www.fumcrockport.org/event/living-water-spanish-worship-service/2027-12-26/
END:VEVENT
BEGIN:VEVENT
DTSTART;TZID=America/Chicago:20271227T100000
DTEND;TZID=America/Chicago:20271227T110000
DTSTAMP:20260421T130856
CREATED:20250410T172809Z
LAST-MODIFIED:20250410T172809Z
UID:10002093-1829901600-1829905200@www.fumcrockport.org
SUMMARY:Seniorcise (FH 1)
DESCRIPTION:
URL:https://www.fumcrockport.org/event/seniorcise-fh-1/2027-12-27/
END:VEVENT
BEGIN:VEVENT
DTSTART;TZID=America/Chicago:20271227T130000
DTEND;TZID=America/Chicago:20271227T140000
DTSTAMP:20260421T130856
CREATED:20250410T174040Z
LAST-MODIFIED:20260205T162747Z
UID:10002844-1829912400-1829916000@www.fumcrockport.org
SUMMARY:Prescription Assistance (Conf. Room)
DESCRIPTION:
URL:https://www.fumcrockport.org/event/prescription-assistance-conf-room/2027-12-27/
END:VEVENT
BEGIN:VEVENT
DTSTART;TZID=America/Chicago:20271228T100000
DTEND;TZID=America/Chicago:20271228T110000
DTSTAMP:20260421T130856
CREATED:20250410T172809Z
LAST-MODIFIED:20250410T172809Z
UID:10002094-1829988000-1829991600@www.fumcrockport.org
SUMMARY:Seniorcise (FH 1)
DESCRIPTION:
URL:https://www.fumcrockport.org/event/seniorcise-fh-1/2027-12-28/
END:VEVENT
BEGIN:VEVENT
DTSTART;TZID=America/Chicago:20271228T130000
DTEND;TZID=America/Chicago:20271228T140000
DTSTAMP:20260421T130856
CREATED:20260113T163457Z
LAST-MODIFIED:20260205T162542Z
UID:10004729-1829998800-1830002400@www.fumcrockport.org
SUMMARY:Chancel Choir Practice (Choir Room)
DESCRIPTION:
URL:https://www.fumcrockport.org/event/chancel-choir-practice-choir-room-2/2027-12-28/
END:VEVENT
BEGIN:VEVENT
DTSTART;TZID=America/Chicago:20271229T173000
DTEND;TZID=America/Chicago:20271229T183000
DTSTAMP:20260421T130856
CREATED:20250410T180559Z
LAST-MODIFIED:20260205T162816Z
UID:10003013-1830101400-1830105000@www.fumcrockport.org
SUMMARY:Praise Team Practice (Choir Room)
DESCRIPTION:
URL:https://www.fumcrockport.org/event/praise-team-practice-choir-room/2027-12-29/
END:VEVENT
BEGIN:VEVENT
DTSTART;TZID=America/Chicago:20271230T100000
DTEND;TZID=America/Chicago:20271230T110000
DTSTAMP:20260421T130856
CREATED:20250410T172809Z
LAST-MODIFIED:20250410T172809Z
UID:10002095-1830160800-1830164400@www.fumcrockport.org
SUMMARY:Seniorcise (FH 1)
DESCRIPTION:
URL:https://www.fumcrockport.org/event/seniorcise-fh-1/2027-12-30/
END:VEVENT
BEGIN:VEVENT
DTSTART;TZID=America/Chicago:20280102T091500
DTEND;TZID=America/Chicago:20280102T220000
DTSTAMP:20260421T130856
CREATED:20250508T172022Z
LAST-MODIFIED:20260205T162701Z
UID:10004456-1830417300-1830463200@www.fumcrockport.org
SUMMARY:Cross Talk Sunday School Class
DESCRIPTION:
URL:https://www.fumcrockport.org/event/cross-talk-sunday-school-class-2/2028-01-02/
END:VEVENT
BEGIN:VEVENT
DTSTART;TZID=America/Chicago:20280102T093000
DTEND;TZID=America/Chicago:20280102T103000
DTSTAMP:20260421T130856
CREATED:20250410T171448Z
LAST-MODIFIED:20250410T171448Z
UID:10000247-1830418200-1830421800@www.fumcrockport.org
SUMMARY:Truth Seekers Sunday School Class
DESCRIPTION:
URL:https://www.fumcrockport.org/event/truth-seekers-sunday-school-class/2028-01-02/
END:VEVENT
BEGIN:VEVENT
DTSTART;TZID=America/Chicago:20280102T104500
DTEND;TZID=America/Chicago:20280102T234500
DTSTAMP:20260421T130856
CREATED:20250410T171603Z
LAST-MODIFIED:20250410T171603Z
UID:10000508-1830422700-1830469500@www.fumcrockport.org
SUMMARY:Together in Spirit Worship Service
DESCRIPTION:
URL:https://www.fumcrockport.org/event/together-in-spirit-worship-service/2028-01-02/
END:VEVENT
BEGIN:VEVENT
DTSTART;TZID=America/Chicago:20280102T180000
DTEND;TZID=America/Chicago:20280102T190000
DTSTAMP:20260421T130856
CREATED:20250410T171649Z
LAST-MODIFIED:20260205T162923Z
UID:10000769-1830448800-1830452400@www.fumcrockport.org
SUMMARY:Living Water Spanish Worship Service
DESCRIPTION:
URL:https://www.fumcrockport.org/event/living-water-spanish-worship-service/2028-01-02/
END:VEVENT
BEGIN:VEVENT
DTSTART;TZID=America/Chicago:20280103T100000
DTEND;TZID=America/Chicago:20280103T110000
DTSTAMP:20260421T130856
CREATED:20250410T172809Z
LAST-MODIFIED:20250410T172809Z
UID:10002096-1830506400-1830510000@www.fumcrockport.org
SUMMARY:Seniorcise (FH 1)
DESCRIPTION:
URL:https://www.fumcrockport.org/event/seniorcise-fh-1/2028-01-03/
END:VEVENT
BEGIN:VEVENT
DTSTART;TZID=America/Chicago:20280104T100000
DTEND;TZID=America/Chicago:20280104T110000
DTSTAMP:20260421T130856
CREATED:20250410T172809Z
LAST-MODIFIED:20250410T172809Z
UID:10002097-1830592800-1830596400@www.fumcrockport.org
SUMMARY:Seniorcise (FH 1)
DESCRIPTION:
URL:https://www.fumcrockport.org/event/seniorcise-fh-1/2028-01-04/
END:VEVENT
BEGIN:VEVENT
DTSTART;TZID=America/Chicago:20280104T130000
DTEND;TZID=America/Chicago:20280104T140000
DTSTAMP:20260421T130856
CREATED:20260113T163457Z
LAST-MODIFIED:20260205T162542Z
UID:10004730-1830603600-1830607200@www.fumcrockport.org
SUMMARY:Chancel Choir Practice (Choir Room)
DESCRIPTION:
URL:https://www.fumcrockport.org/event/chancel-choir-practice-choir-room-2/2028-01-04/
END:VEVENT
BEGIN:VEVENT
DTSTART;TZID=America/Chicago:20280104T163000
DTEND;TZID=America/Chicago:20280104T173000
DTSTAMP:20260421T130856
CREATED:20250410T173434Z
LAST-MODIFIED:20260205T162723Z
UID:10003763-1830616200-1830619800@www.fumcrockport.org
SUMMARY:Community Table (First Presbyterian Church)
DESCRIPTION:
URL:https://www.fumcrockport.org/event/community-table-first-presbyterian-church-2/2028-01-04/
END:VEVENT
BEGIN:VEVENT
DTSTART;TZID=America/Chicago:20280105T173000
DTEND;TZID=America/Chicago:20280105T183000
DTSTAMP:20260421T130856
CREATED:20250410T180559Z
LAST-MODIFIED:20260205T162816Z
UID:10003014-1830706200-1830709800@www.fumcrockport.org
SUMMARY:Praise Team Practice (Choir Room)
DESCRIPTION:
URL:https://www.fumcrockport.org/event/praise-team-practice-choir-room/2028-01-05/
END:VEVENT
BEGIN:VEVENT
DTSTART;TZID=America/Chicago:20280106T100000
DTEND;TZID=America/Chicago:20280106T110000
DTSTAMP:20260421T130856
CREATED:20250410T172809Z
LAST-MODIFIED:20250410T172809Z
UID:10002098-1830765600-1830769200@www.fumcrockport.org
SUMMARY:Seniorcise (FH 1)
DESCRIPTION:
URL:https://www.fumcrockport.org/event/seniorcise-fh-1/2028-01-06/
END:VEVENT
BEGIN:VEVENT
DTSTART;TZID=America/Chicago:20280109T091500
DTEND;TZID=America/Chicago:20280109T220000
DTSTAMP:20260421T130856
CREATED:20250508T172022Z
LAST-MODIFIED:20260205T162701Z
UID:10004457-1831022100-1831068000@www.fumcrockport.org
SUMMARY:Cross Talk Sunday School Class
DESCRIPTION:
URL:https://www.fumcrockport.org/event/cross-talk-sunday-school-class-2/2028-01-09/
END:VEVENT
BEGIN:VEVENT
DTSTART;TZID=America/Chicago:20280109T093000
DTEND;TZID=America/Chicago:20280109T103000
DTSTAMP:20260421T130856
CREATED:20250410T171448Z
LAST-MODIFIED:20250410T171448Z
UID:10000248-1831023000-1831026600@www.fumcrockport.org
SUMMARY:Truth Seekers Sunday School Class
DESCRIPTION:
URL:https://www.fumcrockport.org/event/truth-seekers-sunday-school-class/2028-01-09/
END:VEVENT
END:VCALENDAR