BEGIN:VCALENDAR
VERSION:2.0
PRODID:-//First United Methodist Church - ECPv6.15.16//NONSGML v1.0//EN
CALSCALE:GREGORIAN
METHOD:PUBLISH
X-WR-CALNAME:First United Methodist Church
X-ORIGINAL-URL:https://www.fumcrockport.org
X-WR-CALDESC:Events for First United Methodist Church
REFRESH-INTERVAL;VALUE=DURATION:PT1H
X-Robots-Tag:noindex
X-PUBLISHED-TTL:PT1H
BEGIN:VTIMEZONE
TZID:America/Chicago
BEGIN:DAYLIGHT
TZOFFSETFROM:-0600
TZOFFSETTO:-0500
TZNAME:CDT
DTSTART:20270314T080000
END:DAYLIGHT
BEGIN:STANDARD
TZOFFSETFROM:-0500
TZOFFSETTO:-0600
TZNAME:CST
DTSTART:20271107T070000
END:STANDARD
BEGIN:DAYLIGHT
TZOFFSETFROM:-0600
TZOFFSETTO:-0500
TZNAME:CDT
DTSTART:20280312T080000
END:DAYLIGHT
BEGIN:STANDARD
TZOFFSETFROM:-0500
TZOFFSETTO:-0600
TZNAME:CST
DTSTART:20281105T070000
END:STANDARD
BEGIN:DAYLIGHT
TZOFFSETFROM:-0600
TZOFFSETTO:-0500
TZNAME:CDT
DTSTART:20290311T080000
END:DAYLIGHT
BEGIN:STANDARD
TZOFFSETFROM:-0500
TZOFFSETTO:-0600
TZNAME:CST
DTSTART:20291104T070000
END:STANDARD
END:VTIMEZONE
BEGIN:VEVENT
DTSTART;TZID=America/Chicago:20280127T100000
DTEND;TZID=America/Chicago:20280127T110000
DTSTAMP:20260421T181729
CREATED:20250410T172809Z
LAST-MODIFIED:20250410T172809Z
UID:10002107-1832580000-1832583600@www.fumcrockport.org
SUMMARY:Seniorcise (FH 1)
DESCRIPTION:
URL:https://www.fumcrockport.org/event/seniorcise-fh-1/2028-01-27/
END:VEVENT
BEGIN:VEVENT
DTSTART;TZID=America/Chicago:20280130T091500
DTEND;TZID=America/Chicago:20280130T220000
DTSTAMP:20260421T181729
CREATED:20250508T172022Z
LAST-MODIFIED:20260205T162701Z
UID:10004460-1832836500-1832882400@www.fumcrockport.org
SUMMARY:Cross Talk Sunday School Class
DESCRIPTION:
URL:https://www.fumcrockport.org/event/cross-talk-sunday-school-class-2/2028-01-30/
END:VEVENT
BEGIN:VEVENT
DTSTART;TZID=America/Chicago:20280130T093000
DTEND;TZID=America/Chicago:20280130T103000
DTSTAMP:20260421T181729
CREATED:20250410T171448Z
LAST-MODIFIED:20250410T171448Z
UID:10000251-1832837400-1832841000@www.fumcrockport.org
SUMMARY:Truth Seekers Sunday School Class
DESCRIPTION:
URL:https://www.fumcrockport.org/event/truth-seekers-sunday-school-class/2028-01-30/
END:VEVENT
BEGIN:VEVENT
DTSTART;TZID=America/Chicago:20280130T104500
DTEND;TZID=America/Chicago:20280130T234500
DTSTAMP:20260421T181729
CREATED:20250410T171603Z
LAST-MODIFIED:20250410T171603Z
UID:10000512-1832841900-1832888700@www.fumcrockport.org
SUMMARY:Together in Spirit Worship Service
DESCRIPTION:
URL:https://www.fumcrockport.org/event/together-in-spirit-worship-service/2028-01-30/
END:VEVENT
BEGIN:VEVENT
DTSTART;TZID=America/Chicago:20280130T180000
DTEND;TZID=America/Chicago:20280130T190000
DTSTAMP:20260421T181729
CREATED:20250410T171649Z
LAST-MODIFIED:20260205T162923Z
UID:10000773-1832868000-1832871600@www.fumcrockport.org
SUMMARY:Living Water Spanish Worship Service
DESCRIPTION:
URL:https://www.fumcrockport.org/event/living-water-spanish-worship-service/2028-01-30/
END:VEVENT
BEGIN:VEVENT
DTSTART;TZID=America/Chicago:20280131T100000
DTEND;TZID=America/Chicago:20280131T110000
DTSTAMP:20260421T181729
CREATED:20250410T172809Z
LAST-MODIFIED:20250410T172809Z
UID:10002108-1832925600-1832929200@www.fumcrockport.org
SUMMARY:Seniorcise (FH 1)
DESCRIPTION:
URL:https://www.fumcrockport.org/event/seniorcise-fh-1/2028-01-31/
END:VEVENT
BEGIN:VEVENT
DTSTART;TZID=America/Chicago:20280201T100000
DTEND;TZID=America/Chicago:20280201T110000
DTSTAMP:20260421T181729
CREATED:20250410T172809Z
LAST-MODIFIED:20250410T172809Z
UID:10002109-1833012000-1833015600@www.fumcrockport.org
SUMMARY:Seniorcise (FH 1)
DESCRIPTION:
URL:https://www.fumcrockport.org/event/seniorcise-fh-1/2028-02-01/
END:VEVENT
BEGIN:VEVENT
DTSTART;TZID=America/Chicago:20280201T130000
DTEND;TZID=America/Chicago:20280201T140000
DTSTAMP:20260421T181729
CREATED:20260113T163457Z
LAST-MODIFIED:20260205T162542Z
UID:10004734-1833022800-1833026400@www.fumcrockport.org
SUMMARY:Chancel Choir Practice (Choir Room)
DESCRIPTION:
URL:https://www.fumcrockport.org/event/chancel-choir-practice-choir-room-2/2028-02-01/
END:VEVENT
BEGIN:VEVENT
DTSTART;TZID=America/Chicago:20280201T163000
DTEND;TZID=America/Chicago:20280201T173000
DTSTAMP:20260421T181729
CREATED:20250410T173434Z
LAST-MODIFIED:20260205T162723Z
UID:10003764-1833035400-1833039000@www.fumcrockport.org
SUMMARY:Community Table (First Presbyterian Church)
DESCRIPTION:
URL:https://www.fumcrockport.org/event/community-table-first-presbyterian-church-2/2028-02-01/
END:VEVENT
BEGIN:VEVENT
DTSTART;TZID=America/Chicago:20280202T173000
DTEND;TZID=America/Chicago:20280202T183000
DTSTAMP:20260421T181729
CREATED:20250410T180559Z
LAST-MODIFIED:20260205T162816Z
UID:10003018-1833125400-1833129000@www.fumcrockport.org
SUMMARY:Praise Team Practice (Choir Room)
DESCRIPTION:
URL:https://www.fumcrockport.org/event/praise-team-practice-choir-room/2028-02-02/
END:VEVENT
BEGIN:VEVENT
DTSTART;TZID=America/Chicago:20280203T100000
DTEND;TZID=America/Chicago:20280203T110000
DTSTAMP:20260421T181729
CREATED:20250410T172809Z
LAST-MODIFIED:20250410T172809Z
UID:10002110-1833184800-1833188400@www.fumcrockport.org
SUMMARY:Seniorcise (FH 1)
DESCRIPTION:
URL:https://www.fumcrockport.org/event/seniorcise-fh-1/2028-02-03/
END:VEVENT
BEGIN:VEVENT
DTSTART;TZID=America/Chicago:20280206T091500
DTEND;TZID=America/Chicago:20280206T220000
DTSTAMP:20260421T181729
CREATED:20250508T172022Z
LAST-MODIFIED:20260205T162701Z
UID:10004461-1833441300-1833487200@www.fumcrockport.org
SUMMARY:Cross Talk Sunday School Class
DESCRIPTION:
URL:https://www.fumcrockport.org/event/cross-talk-sunday-school-class-2/2028-02-06/
END:VEVENT
BEGIN:VEVENT
DTSTART;TZID=America/Chicago:20280206T093000
DTEND;TZID=America/Chicago:20280206T103000
DTSTAMP:20260421T181729
CREATED:20250410T171448Z
LAST-MODIFIED:20250410T171448Z
UID:10000252-1833442200-1833445800@www.fumcrockport.org
SUMMARY:Truth Seekers Sunday School Class
DESCRIPTION:
URL:https://www.fumcrockport.org/event/truth-seekers-sunday-school-class/2028-02-06/
END:VEVENT
BEGIN:VEVENT
DTSTART;TZID=America/Chicago:20280206T104500
DTEND;TZID=America/Chicago:20280206T234500
DTSTAMP:20260421T181729
CREATED:20250410T171603Z
LAST-MODIFIED:20250410T171603Z
UID:10000513-1833446700-1833493500@www.fumcrockport.org
SUMMARY:Together in Spirit Worship Service
DESCRIPTION:
URL:https://www.fumcrockport.org/event/together-in-spirit-worship-service/2028-02-06/
END:VEVENT
BEGIN:VEVENT
DTSTART;TZID=America/Chicago:20280206T180000
DTEND;TZID=America/Chicago:20280206T190000
DTSTAMP:20260421T181729
CREATED:20250410T171649Z
LAST-MODIFIED:20260205T162923Z
UID:10000774-1833472800-1833476400@www.fumcrockport.org
SUMMARY:Living Water Spanish Worship Service
DESCRIPTION:
URL:https://www.fumcrockport.org/event/living-water-spanish-worship-service/2028-02-06/
END:VEVENT
BEGIN:VEVENT
DTSTART;TZID=America/Chicago:20280207T100000
DTEND;TZID=America/Chicago:20280207T110000
DTSTAMP:20260421T181729
CREATED:20250410T172809Z
LAST-MODIFIED:20250410T172809Z
UID:10002111-1833530400-1833534000@www.fumcrockport.org
SUMMARY:Seniorcise (FH 1)
DESCRIPTION:
URL:https://www.fumcrockport.org/event/seniorcise-fh-1/2028-02-07/
END:VEVENT
BEGIN:VEVENT
DTSTART;TZID=America/Chicago:20280208T100000
DTEND;TZID=America/Chicago:20280208T110000
DTSTAMP:20260421T181729
CREATED:20250410T172809Z
LAST-MODIFIED:20250410T172809Z
UID:10002112-1833616800-1833620400@www.fumcrockport.org
SUMMARY:Seniorcise (FH 1)
DESCRIPTION:
URL:https://www.fumcrockport.org/event/seniorcise-fh-1/2028-02-08/
END:VEVENT
BEGIN:VEVENT
DTSTART;TZID=America/Chicago:20280208T120000
DTEND;TZID=America/Chicago:20280208T130000
DTSTAMP:20260421T181729
CREATED:20250410T174224Z
LAST-MODIFIED:20250410T174224Z
UID:10002785-1833624000-1833627600@www.fumcrockport.org
SUMMARY:Diabetic Support Group (Rec. Room)
DESCRIPTION:
URL:https://www.fumcrockport.org/event/diabetic-support-group-rec-room/2028-02-08/
END:VEVENT
BEGIN:VEVENT
DTSTART;TZID=America/Chicago:20280208T130000
DTEND;TZID=America/Chicago:20280208T140000
DTSTAMP:20260421T181729
CREATED:20260113T163457Z
LAST-MODIFIED:20260205T162542Z
UID:10004735-1833627600-1833631200@www.fumcrockport.org
SUMMARY:Chancel Choir Practice (Choir Room)
DESCRIPTION:
URL:https://www.fumcrockport.org/event/chancel-choir-practice-choir-room-2/2028-02-08/
END:VEVENT
BEGIN:VEVENT
DTSTART;TZID=America/Chicago:20280209T173000
DTEND;TZID=America/Chicago:20280209T183000
DTSTAMP:20260421T181729
CREATED:20250410T180559Z
LAST-MODIFIED:20260205T162816Z
UID:10003019-1833730200-1833733800@www.fumcrockport.org
SUMMARY:Praise Team Practice (Choir Room)
DESCRIPTION:
URL:https://www.fumcrockport.org/event/praise-team-practice-choir-room/2028-02-09/
END:VEVENT
BEGIN:VEVENT
DTSTART;TZID=America/Chicago:20280210T100000
DTEND;TZID=America/Chicago:20280210T110000
DTSTAMP:20260421T181729
CREATED:20250410T172809Z
LAST-MODIFIED:20250410T172809Z
UID:10002113-1833789600-1833793200@www.fumcrockport.org
SUMMARY:Seniorcise (FH 1)
DESCRIPTION:
URL:https://www.fumcrockport.org/event/seniorcise-fh-1/2028-02-10/
END:VEVENT
BEGIN:VEVENT
DTSTART;TZID=America/Chicago:20280213T091500
DTEND;TZID=America/Chicago:20280213T220000
DTSTAMP:20260421T181729
CREATED:20250508T172022Z
LAST-MODIFIED:20260205T162701Z
UID:10004462-1834046100-1834092000@www.fumcrockport.org
SUMMARY:Cross Talk Sunday School Class
DESCRIPTION:
URL:https://www.fumcrockport.org/event/cross-talk-sunday-school-class-2/2028-02-13/
END:VEVENT
BEGIN:VEVENT
DTSTART;TZID=America/Chicago:20280213T093000
DTEND;TZID=America/Chicago:20280213T103000
DTSTAMP:20260421T181729
CREATED:20250410T171448Z
LAST-MODIFIED:20250410T171448Z
UID:10000253-1834047000-1834050600@www.fumcrockport.org
SUMMARY:Truth Seekers Sunday School Class
DESCRIPTION:
URL:https://www.fumcrockport.org/event/truth-seekers-sunday-school-class/2028-02-13/
END:VEVENT
BEGIN:VEVENT
DTSTART;TZID=America/Chicago:20280213T104500
DTEND;TZID=America/Chicago:20280213T234500
DTSTAMP:20260421T181729
CREATED:20250410T171603Z
LAST-MODIFIED:20250410T171603Z
UID:10000514-1834051500-1834098300@www.fumcrockport.org
SUMMARY:Together in Spirit Worship Service
DESCRIPTION:
URL:https://www.fumcrockport.org/event/together-in-spirit-worship-service/2028-02-13/
END:VEVENT
BEGIN:VEVENT
DTSTART;TZID=America/Chicago:20280213T180000
DTEND;TZID=America/Chicago:20280213T190000
DTSTAMP:20260421T181729
CREATED:20250410T171649Z
LAST-MODIFIED:20260205T162923Z
UID:10000775-1834077600-1834081200@www.fumcrockport.org
SUMMARY:Living Water Spanish Worship Service
DESCRIPTION:
URL:https://www.fumcrockport.org/event/living-water-spanish-worship-service/2028-02-13/
END:VEVENT
BEGIN:VEVENT
DTSTART;TZID=America/Chicago:20280214T100000
DTEND;TZID=America/Chicago:20280214T110000
DTSTAMP:20260421T181729
CREATED:20250410T172809Z
LAST-MODIFIED:20250410T172809Z
UID:10002114-1834135200-1834138800@www.fumcrockport.org
SUMMARY:Seniorcise (FH 1)
DESCRIPTION:
URL:https://www.fumcrockport.org/event/seniorcise-fh-1/2028-02-14/
END:VEVENT
BEGIN:VEVENT
DTSTART;TZID=America/Chicago:20280214T130000
DTEND;TZID=America/Chicago:20280214T140000
DTSTAMP:20260421T181729
CREATED:20250410T174137Z
LAST-MODIFIED:20260205T162632Z
UID:10002725-1834146000-1834149600@www.fumcrockport.org
SUMMARY:Prescription Assistance (Conf. Room)
DESCRIPTION:
URL:https://www.fumcrockport.org/event/prescription-assistance-conf-room-2/2028-02-14/
END:VEVENT
BEGIN:VEVENT
DTSTART;TZID=America/Chicago:20280215T100000
DTEND;TZID=America/Chicago:20280215T110000
DTSTAMP:20260421T181729
CREATED:20250410T172809Z
LAST-MODIFIED:20250410T172809Z
UID:10002115-1834221600-1834225200@www.fumcrockport.org
SUMMARY:Seniorcise (FH 1)
DESCRIPTION:
URL:https://www.fumcrockport.org/event/seniorcise-fh-1/2028-02-15/
END:VEVENT
BEGIN:VEVENT
DTSTART;TZID=America/Chicago:20280215T130000
DTEND;TZID=America/Chicago:20280215T140000
DTSTAMP:20260421T181729
CREATED:20260113T163457Z
LAST-MODIFIED:20260205T162542Z
UID:10004736-1834232400-1834236000@www.fumcrockport.org
SUMMARY:Chancel Choir Practice (Choir Room)
DESCRIPTION:
URL:https://www.fumcrockport.org/event/chancel-choir-practice-choir-room-2/2028-02-15/
END:VEVENT
BEGIN:VEVENT
DTSTART;TZID=America/Chicago:20280215T160000
DTEND;TZID=America/Chicago:20280215T170000
DTSTAMP:20260421T181729
CREATED:20250410T173342Z
LAST-MODIFIED:20260205T163000Z
UID:10002606-1834243200-1834246800@www.fumcrockport.org
SUMMARY:Community Table (First Presbyterian Church)
DESCRIPTION:
URL:https://www.fumcrockport.org/event/community-table-first-presbyterian-church/2028-02-15/
END:VEVENT
END:VCALENDAR