BEGIN:VCALENDAR
VERSION:2.0
PRODID:-//First United Methodist Church - ECPv6.15.16//NONSGML v1.0//EN
CALSCALE:GREGORIAN
METHOD:PUBLISH
X-WR-CALNAME:First United Methodist Church
X-ORIGINAL-URL:https://www.fumcrockport.org
X-WR-CALDESC:Events for First United Methodist Church
REFRESH-INTERVAL;VALUE=DURATION:PT1H
X-Robots-Tag:noindex
X-PUBLISHED-TTL:PT1H
BEGIN:VTIMEZONE
TZID:America/Chicago
BEGIN:DAYLIGHT
TZOFFSETFROM:-0600
TZOFFSETTO:-0500
TZNAME:CDT
DTSTART:20270314T080000
END:DAYLIGHT
BEGIN:STANDARD
TZOFFSETFROM:-0500
TZOFFSETTO:-0600
TZNAME:CST
DTSTART:20271107T070000
END:STANDARD
BEGIN:DAYLIGHT
TZOFFSETFROM:-0600
TZOFFSETTO:-0500
TZNAME:CDT
DTSTART:20280312T080000
END:DAYLIGHT
BEGIN:STANDARD
TZOFFSETFROM:-0500
TZOFFSETTO:-0600
TZNAME:CST
DTSTART:20281105T070000
END:STANDARD
BEGIN:DAYLIGHT
TZOFFSETFROM:-0600
TZOFFSETTO:-0500
TZNAME:CDT
DTSTART:20290311T080000
END:DAYLIGHT
BEGIN:STANDARD
TZOFFSETFROM:-0500
TZOFFSETTO:-0600
TZNAME:CST
DTSTART:20291104T070000
END:STANDARD
END:VTIMEZONE
BEGIN:VEVENT
DTSTART;TZID=America/Chicago:20280302T100000
DTEND;TZID=America/Chicago:20280302T110000
DTSTAMP:20260422T030450
CREATED:20250410T172809Z
LAST-MODIFIED:20250410T172809Z
UID:10002122-1835604000-1835607600@www.fumcrockport.org
SUMMARY:Seniorcise (FH 1)
DESCRIPTION:
URL:https://www.fumcrockport.org/event/seniorcise-fh-1/2028-03-02/
END:VEVENT
BEGIN:VEVENT
DTSTART;TZID=America/Chicago:20280305T091500
DTEND;TZID=America/Chicago:20280305T220000
DTSTAMP:20260422T030450
CREATED:20250508T172022Z
LAST-MODIFIED:20260205T162701Z
UID:10004465-1835860500-1835906400@www.fumcrockport.org
SUMMARY:Cross Talk Sunday School Class
DESCRIPTION:
URL:https://www.fumcrockport.org/event/cross-talk-sunday-school-class-2/2028-03-05/
END:VEVENT
BEGIN:VEVENT
DTSTART;TZID=America/Chicago:20280305T093000
DTEND;TZID=America/Chicago:20280305T103000
DTSTAMP:20260422T030450
CREATED:20250410T171448Z
LAST-MODIFIED:20250410T171448Z
UID:10000256-1835861400-1835865000@www.fumcrockport.org
SUMMARY:Truth Seekers Sunday School Class
DESCRIPTION:
URL:https://www.fumcrockport.org/event/truth-seekers-sunday-school-class/2028-03-05/
END:VEVENT
BEGIN:VEVENT
DTSTART;TZID=America/Chicago:20280305T104500
DTEND;TZID=America/Chicago:20280305T234500
DTSTAMP:20260422T030450
CREATED:20250410T171603Z
LAST-MODIFIED:20250410T171603Z
UID:10000517-1835865900-1835912700@www.fumcrockport.org
SUMMARY:Together in Spirit Worship Service
DESCRIPTION:
URL:https://www.fumcrockport.org/event/together-in-spirit-worship-service/2028-03-05/
END:VEVENT
BEGIN:VEVENT
DTSTART;TZID=America/Chicago:20280305T180000
DTEND;TZID=America/Chicago:20280305T190000
DTSTAMP:20260422T030450
CREATED:20250410T171649Z
LAST-MODIFIED:20260205T162923Z
UID:10000778-1835892000-1835895600@www.fumcrockport.org
SUMMARY:Living Water Spanish Worship Service
DESCRIPTION:
URL:https://www.fumcrockport.org/event/living-water-spanish-worship-service/2028-03-05/
END:VEVENT
BEGIN:VEVENT
DTSTART;TZID=America/Chicago:20280306T100000
DTEND;TZID=America/Chicago:20280306T110000
DTSTAMP:20260422T030450
CREATED:20250410T172809Z
LAST-MODIFIED:20250410T172809Z
UID:10002123-1835949600-1835953200@www.fumcrockport.org
SUMMARY:Seniorcise (FH 1)
DESCRIPTION:
URL:https://www.fumcrockport.org/event/seniorcise-fh-1/2028-03-06/
END:VEVENT
BEGIN:VEVENT
DTSTART;TZID=America/Chicago:20280307T100000
DTEND;TZID=America/Chicago:20280307T110000
DTSTAMP:20260422T030450
CREATED:20250410T172809Z
LAST-MODIFIED:20250410T172809Z
UID:10002124-1836036000-1836039600@www.fumcrockport.org
SUMMARY:Seniorcise (FH 1)
DESCRIPTION:
URL:https://www.fumcrockport.org/event/seniorcise-fh-1/2028-03-07/
END:VEVENT
BEGIN:VEVENT
DTSTART;TZID=America/Chicago:20280307T130000
DTEND;TZID=America/Chicago:20280307T140000
DTSTAMP:20260422T030450
CREATED:20260113T163457Z
LAST-MODIFIED:20260205T162542Z
UID:10004739-1836046800-1836050400@www.fumcrockport.org
SUMMARY:Chancel Choir Practice (Choir Room)
DESCRIPTION:
URL:https://www.fumcrockport.org/event/chancel-choir-practice-choir-room-2/2028-03-07/
END:VEVENT
BEGIN:VEVENT
DTSTART;TZID=America/Chicago:20280307T163000
DTEND;TZID=America/Chicago:20280307T173000
DTSTAMP:20260422T030450
CREATED:20250410T173434Z
LAST-MODIFIED:20260205T162723Z
UID:10003765-1836059400-1836063000@www.fumcrockport.org
SUMMARY:Community Table (First Presbyterian Church)
DESCRIPTION:
URL:https://www.fumcrockport.org/event/community-table-first-presbyterian-church-2/2028-03-07/
END:VEVENT
BEGIN:VEVENT
DTSTART;TZID=America/Chicago:20280308T173000
DTEND;TZID=America/Chicago:20280308T183000
DTSTAMP:20260422T030450
CREATED:20250410T180559Z
LAST-MODIFIED:20260205T162816Z
UID:10003023-1836149400-1836153000@www.fumcrockport.org
SUMMARY:Praise Team Practice (Choir Room)
DESCRIPTION:
URL:https://www.fumcrockport.org/event/praise-team-practice-choir-room/2028-03-08/
END:VEVENT
BEGIN:VEVENT
DTSTART;TZID=America/Chicago:20280309T100000
DTEND;TZID=America/Chicago:20280309T110000
DTSTAMP:20260422T030450
CREATED:20250410T172809Z
LAST-MODIFIED:20250410T172809Z
UID:10002125-1836208800-1836212400@www.fumcrockport.org
SUMMARY:Seniorcise (FH 1)
DESCRIPTION:
URL:https://www.fumcrockport.org/event/seniorcise-fh-1/2028-03-09/
END:VEVENT
BEGIN:VEVENT
DTSTART;TZID=America/Chicago:20280312T091500
DTEND;TZID=America/Chicago:20280312T220000
DTSTAMP:20260422T030451
CREATED:20250508T172022Z
LAST-MODIFIED:20260205T162701Z
UID:10004466-1836465300-1836511200@www.fumcrockport.org
SUMMARY:Cross Talk Sunday School Class
DESCRIPTION:
URL:https://www.fumcrockport.org/event/cross-talk-sunday-school-class-2/2028-03-12/
END:VEVENT
BEGIN:VEVENT
DTSTART;TZID=America/Chicago:20280312T093000
DTEND;TZID=America/Chicago:20280312T103000
DTSTAMP:20260422T030451
CREATED:20250410T171448Z
LAST-MODIFIED:20250410T171448Z
UID:10000257-1836466200-1836469800@www.fumcrockport.org
SUMMARY:Truth Seekers Sunday School Class
DESCRIPTION:
URL:https://www.fumcrockport.org/event/truth-seekers-sunday-school-class/2028-03-12/
END:VEVENT
BEGIN:VEVENT
DTSTART;TZID=America/Chicago:20280312T104500
DTEND;TZID=America/Chicago:20280312T234500
DTSTAMP:20260422T030451
CREATED:20250410T171603Z
LAST-MODIFIED:20250410T171603Z
UID:10000518-1836470700-1836517500@www.fumcrockport.org
SUMMARY:Together in Spirit Worship Service
DESCRIPTION:
URL:https://www.fumcrockport.org/event/together-in-spirit-worship-service/2028-03-12/
END:VEVENT
BEGIN:VEVENT
DTSTART;TZID=America/Chicago:20280312T180000
DTEND;TZID=America/Chicago:20280312T190000
DTSTAMP:20260422T030451
CREATED:20250410T171649Z
LAST-MODIFIED:20260205T162923Z
UID:10000779-1836496800-1836500400@www.fumcrockport.org
SUMMARY:Living Water Spanish Worship Service
DESCRIPTION:
URL:https://www.fumcrockport.org/event/living-water-spanish-worship-service/2028-03-12/
END:VEVENT
BEGIN:VEVENT
DTSTART;TZID=America/Chicago:20280313T100000
DTEND;TZID=America/Chicago:20280313T110000
DTSTAMP:20260422T030451
CREATED:20250410T172809Z
LAST-MODIFIED:20250410T172809Z
UID:10002126-1836554400-1836558000@www.fumcrockport.org
SUMMARY:Seniorcise (FH 1)
DESCRIPTION:
URL:https://www.fumcrockport.org/event/seniorcise-fh-1/2028-03-13/
END:VEVENT
BEGIN:VEVENT
DTSTART;TZID=America/Chicago:20280313T130000
DTEND;TZID=America/Chicago:20280313T140000
DTSTAMP:20260422T030451
CREATED:20250410T174137Z
LAST-MODIFIED:20260205T162632Z
UID:10002726-1836565200-1836568800@www.fumcrockport.org
SUMMARY:Prescription Assistance (Conf. Room)
DESCRIPTION:
URL:https://www.fumcrockport.org/event/prescription-assistance-conf-room-2/2028-03-13/
END:VEVENT
BEGIN:VEVENT
DTSTART;TZID=America/Chicago:20280314T100000
DTEND;TZID=America/Chicago:20280314T110000
DTSTAMP:20260422T030451
CREATED:20250410T172809Z
LAST-MODIFIED:20250410T172809Z
UID:10002127-1836640800-1836644400@www.fumcrockport.org
SUMMARY:Seniorcise (FH 1)
DESCRIPTION:
URL:https://www.fumcrockport.org/event/seniorcise-fh-1/2028-03-14/
END:VEVENT
BEGIN:VEVENT
DTSTART;TZID=America/Chicago:20280314T120000
DTEND;TZID=America/Chicago:20280314T130000
DTSTAMP:20260422T030451
CREATED:20250410T174224Z
LAST-MODIFIED:20250410T174224Z
UID:10002786-1836648000-1836651600@www.fumcrockport.org
SUMMARY:Diabetic Support Group (Rec. Room)
DESCRIPTION:
URL:https://www.fumcrockport.org/event/diabetic-support-group-rec-room/2028-03-14/
END:VEVENT
BEGIN:VEVENT
DTSTART;TZID=America/Chicago:20280314T130000
DTEND;TZID=America/Chicago:20280314T140000
DTSTAMP:20260422T030451
CREATED:20260113T163457Z
LAST-MODIFIED:20260205T162542Z
UID:10004740-1836651600-1836655200@www.fumcrockport.org
SUMMARY:Chancel Choir Practice (Choir Room)
DESCRIPTION:
URL:https://www.fumcrockport.org/event/chancel-choir-practice-choir-room-2/2028-03-14/
END:VEVENT
BEGIN:VEVENT
DTSTART;TZID=America/Chicago:20280315T173000
DTEND;TZID=America/Chicago:20280315T183000
DTSTAMP:20260422T030451
CREATED:20250410T180559Z
LAST-MODIFIED:20260205T162816Z
UID:10003024-1836754200-1836757800@www.fumcrockport.org
SUMMARY:Praise Team Practice (Choir Room)
DESCRIPTION:
URL:https://www.fumcrockport.org/event/praise-team-practice-choir-room/2028-03-15/
END:VEVENT
BEGIN:VEVENT
DTSTART;TZID=America/Chicago:20280316T100000
DTEND;TZID=America/Chicago:20280316T110000
DTSTAMP:20260422T030451
CREATED:20250410T172809Z
LAST-MODIFIED:20250410T172809Z
UID:10002128-1836813600-1836817200@www.fumcrockport.org
SUMMARY:Seniorcise (FH 1)
DESCRIPTION:
URL:https://www.fumcrockport.org/event/seniorcise-fh-1/2028-03-16/
END:VEVENT
BEGIN:VEVENT
DTSTART;TZID=America/Chicago:20280319T091500
DTEND;TZID=America/Chicago:20280319T220000
DTSTAMP:20260422T030451
CREATED:20250508T172022Z
LAST-MODIFIED:20260205T162701Z
UID:10004467-1837070100-1837116000@www.fumcrockport.org
SUMMARY:Cross Talk Sunday School Class
DESCRIPTION:
URL:https://www.fumcrockport.org/event/cross-talk-sunday-school-class-2/2028-03-19/
END:VEVENT
BEGIN:VEVENT
DTSTART;TZID=America/Chicago:20280319T093000
DTEND;TZID=America/Chicago:20280319T103000
DTSTAMP:20260422T030451
CREATED:20250410T171448Z
LAST-MODIFIED:20250410T171448Z
UID:10000258-1837071000-1837074600@www.fumcrockport.org
SUMMARY:Truth Seekers Sunday School Class
DESCRIPTION:
URL:https://www.fumcrockport.org/event/truth-seekers-sunday-school-class/2028-03-19/
END:VEVENT
BEGIN:VEVENT
DTSTART;TZID=America/Chicago:20280319T104500
DTEND;TZID=America/Chicago:20280319T234500
DTSTAMP:20260422T030451
CREATED:20250410T171603Z
LAST-MODIFIED:20250410T171603Z
UID:10000519-1837075500-1837122300@www.fumcrockport.org
SUMMARY:Together in Spirit Worship Service
DESCRIPTION:
URL:https://www.fumcrockport.org/event/together-in-spirit-worship-service/2028-03-19/
END:VEVENT
BEGIN:VEVENT
DTSTART;TZID=America/Chicago:20280319T180000
DTEND;TZID=America/Chicago:20280319T190000
DTSTAMP:20260422T030451
CREATED:20250410T171649Z
LAST-MODIFIED:20260205T162923Z
UID:10000780-1837101600-1837105200@www.fumcrockport.org
SUMMARY:Living Water Spanish Worship Service
DESCRIPTION:
URL:https://www.fumcrockport.org/event/living-water-spanish-worship-service/2028-03-19/
END:VEVENT
BEGIN:VEVENT
DTSTART;TZID=America/Chicago:20280320T100000
DTEND;TZID=America/Chicago:20280320T110000
DTSTAMP:20260422T030451
CREATED:20250410T172809Z
LAST-MODIFIED:20250410T172809Z
UID:10002129-1837159200-1837162800@www.fumcrockport.org
SUMMARY:Seniorcise (FH 1)
DESCRIPTION:
URL:https://www.fumcrockport.org/event/seniorcise-fh-1/2028-03-20/
END:VEVENT
BEGIN:VEVENT
DTSTART;TZID=America/Chicago:20280321T100000
DTEND;TZID=America/Chicago:20280321T110000
DTSTAMP:20260422T030451
CREATED:20250410T172809Z
LAST-MODIFIED:20250410T172809Z
UID:10002130-1837245600-1837249200@www.fumcrockport.org
SUMMARY:Seniorcise (FH 1)
DESCRIPTION:
URL:https://www.fumcrockport.org/event/seniorcise-fh-1/2028-03-21/
END:VEVENT
BEGIN:VEVENT
DTSTART;TZID=America/Chicago:20280321T130000
DTEND;TZID=America/Chicago:20280321T140000
DTSTAMP:20260422T030451
CREATED:20260113T163457Z
LAST-MODIFIED:20260205T162542Z
UID:10004741-1837256400-1837260000@www.fumcrockport.org
SUMMARY:Chancel Choir Practice (Choir Room)
DESCRIPTION:
URL:https://www.fumcrockport.org/event/chancel-choir-practice-choir-room-2/2028-03-21/
END:VEVENT
BEGIN:VEVENT
DTSTART;TZID=America/Chicago:20280321T160000
DTEND;TZID=America/Chicago:20280321T170000
DTSTAMP:20260422T030451
CREATED:20250410T173342Z
LAST-MODIFIED:20260205T163000Z
UID:10002607-1837267200-1837270800@www.fumcrockport.org
SUMMARY:Community Table (First Presbyterian Church)
DESCRIPTION:
URL:https://www.fumcrockport.org/event/community-table-first-presbyterian-church/2028-03-21/
END:VEVENT
END:VCALENDAR