BEGIN:VCALENDAR
VERSION:2.0
PRODID:-//First United Methodist Church - ECPv6.15.16//NONSGML v1.0//EN
CALSCALE:GREGORIAN
METHOD:PUBLISH
X-WR-CALNAME:First United Methodist Church
X-ORIGINAL-URL:https://www.fumcrockport.org
X-WR-CALDESC:Events for First United Methodist Church
REFRESH-INTERVAL;VALUE=DURATION:PT1H
X-Robots-Tag:noindex
X-PUBLISHED-TTL:PT1H
BEGIN:VTIMEZONE
TZID:America/Chicago
BEGIN:DAYLIGHT
TZOFFSETFROM:-0600
TZOFFSETTO:-0500
TZNAME:CDT
DTSTART:20270314T080000
END:DAYLIGHT
BEGIN:STANDARD
TZOFFSETFROM:-0500
TZOFFSETTO:-0600
TZNAME:CST
DTSTART:20271107T070000
END:STANDARD
BEGIN:DAYLIGHT
TZOFFSETFROM:-0600
TZOFFSETTO:-0500
TZNAME:CDT
DTSTART:20280312T080000
END:DAYLIGHT
BEGIN:STANDARD
TZOFFSETFROM:-0500
TZOFFSETTO:-0600
TZNAME:CST
DTSTART:20281105T070000
END:STANDARD
BEGIN:DAYLIGHT
TZOFFSETFROM:-0600
TZOFFSETTO:-0500
TZNAME:CDT
DTSTART:20290311T080000
END:DAYLIGHT
BEGIN:STANDARD
TZOFFSETFROM:-0500
TZOFFSETTO:-0600
TZNAME:CST
DTSTART:20291104T070000
END:STANDARD
END:VTIMEZONE
BEGIN:VEVENT
DTSTART;TZID=America/Chicago:20280319T104500
DTEND;TZID=America/Chicago:20280319T234500
DTSTAMP:20260422T060104
CREATED:20250410T171603Z
LAST-MODIFIED:20250410T171603Z
UID:10000519-1837075500-1837122300@www.fumcrockport.org
SUMMARY:Together in Spirit Worship Service
DESCRIPTION:
URL:https://www.fumcrockport.org/event/together-in-spirit-worship-service/2028-03-19/
END:VEVENT
BEGIN:VEVENT
DTSTART;TZID=America/Chicago:20280319T180000
DTEND;TZID=America/Chicago:20280319T190000
DTSTAMP:20260422T060104
CREATED:20250410T171649Z
LAST-MODIFIED:20260205T162923Z
UID:10000780-1837101600-1837105200@www.fumcrockport.org
SUMMARY:Living Water Spanish Worship Service
DESCRIPTION:
URL:https://www.fumcrockport.org/event/living-water-spanish-worship-service/2028-03-19/
END:VEVENT
BEGIN:VEVENT
DTSTART;TZID=America/Chicago:20280320T100000
DTEND;TZID=America/Chicago:20280320T110000
DTSTAMP:20260422T060104
CREATED:20250410T172809Z
LAST-MODIFIED:20250410T172809Z
UID:10002129-1837159200-1837162800@www.fumcrockport.org
SUMMARY:Seniorcise (FH 1)
DESCRIPTION:
URL:https://www.fumcrockport.org/event/seniorcise-fh-1/2028-03-20/
END:VEVENT
BEGIN:VEVENT
DTSTART;TZID=America/Chicago:20280321T100000
DTEND;TZID=America/Chicago:20280321T110000
DTSTAMP:20260422T060104
CREATED:20250410T172809Z
LAST-MODIFIED:20250410T172809Z
UID:10002130-1837245600-1837249200@www.fumcrockport.org
SUMMARY:Seniorcise (FH 1)
DESCRIPTION:
URL:https://www.fumcrockport.org/event/seniorcise-fh-1/2028-03-21/
END:VEVENT
BEGIN:VEVENT
DTSTART;TZID=America/Chicago:20280321T130000
DTEND;TZID=America/Chicago:20280321T140000
DTSTAMP:20260422T060104
CREATED:20260113T163457Z
LAST-MODIFIED:20260205T162542Z
UID:10004741-1837256400-1837260000@www.fumcrockport.org
SUMMARY:Chancel Choir Practice (Choir Room)
DESCRIPTION:
URL:https://www.fumcrockport.org/event/chancel-choir-practice-choir-room-2/2028-03-21/
END:VEVENT
BEGIN:VEVENT
DTSTART;TZID=America/Chicago:20280321T160000
DTEND;TZID=America/Chicago:20280321T170000
DTSTAMP:20260422T060104
CREATED:20250410T173342Z
LAST-MODIFIED:20260205T163000Z
UID:10002607-1837267200-1837270800@www.fumcrockport.org
SUMMARY:Community Table (First Presbyterian Church)
DESCRIPTION:
URL:https://www.fumcrockport.org/event/community-table-first-presbyterian-church/2028-03-21/
END:VEVENT
BEGIN:VEVENT
DTSTART;TZID=America/Chicago:20280322T173000
DTEND;TZID=America/Chicago:20280322T183000
DTSTAMP:20260422T060104
CREATED:20250410T180559Z
LAST-MODIFIED:20260205T162816Z
UID:10003025-1837359000-1837362600@www.fumcrockport.org
SUMMARY:Praise Team Practice (Choir Room)
DESCRIPTION:
URL:https://www.fumcrockport.org/event/praise-team-practice-choir-room/2028-03-22/
END:VEVENT
BEGIN:VEVENT
DTSTART;TZID=America/Chicago:20280323T100000
DTEND;TZID=America/Chicago:20280323T110000
DTSTAMP:20260422T060104
CREATED:20250410T172809Z
LAST-MODIFIED:20250410T172809Z
UID:10002131-1837418400-1837422000@www.fumcrockport.org
SUMMARY:Seniorcise (FH 1)
DESCRIPTION:
URL:https://www.fumcrockport.org/event/seniorcise-fh-1/2028-03-23/
END:VEVENT
BEGIN:VEVENT
DTSTART;TZID=America/Chicago:20280326T091500
DTEND;TZID=America/Chicago:20280326T220000
DTSTAMP:20260422T060104
CREATED:20250508T172022Z
LAST-MODIFIED:20260205T162701Z
UID:10004468-1837674900-1837720800@www.fumcrockport.org
SUMMARY:Cross Talk Sunday School Class
DESCRIPTION:
URL:https://www.fumcrockport.org/event/cross-talk-sunday-school-class-2/2028-03-26/
END:VEVENT
BEGIN:VEVENT
DTSTART;TZID=America/Chicago:20280326T093000
DTEND;TZID=America/Chicago:20280326T103000
DTSTAMP:20260422T060104
CREATED:20250410T171448Z
LAST-MODIFIED:20250410T171448Z
UID:10000259-1837675800-1837679400@www.fumcrockport.org
SUMMARY:Truth Seekers Sunday School Class
DESCRIPTION:
URL:https://www.fumcrockport.org/event/truth-seekers-sunday-school-class/2028-03-26/
END:VEVENT
BEGIN:VEVENT
DTSTART;TZID=America/Chicago:20280326T104500
DTEND;TZID=America/Chicago:20280326T234500
DTSTAMP:20260422T060104
CREATED:20250410T171603Z
LAST-MODIFIED:20250410T171603Z
UID:10000520-1837680300-1837727100@www.fumcrockport.org
SUMMARY:Together in Spirit Worship Service
DESCRIPTION:
URL:https://www.fumcrockport.org/event/together-in-spirit-worship-service/2028-03-26/
END:VEVENT
BEGIN:VEVENT
DTSTART;TZID=America/Chicago:20280326T180000
DTEND;TZID=America/Chicago:20280326T190000
DTSTAMP:20260422T060104
CREATED:20250410T171649Z
LAST-MODIFIED:20260205T162923Z
UID:10000781-1837706400-1837710000@www.fumcrockport.org
SUMMARY:Living Water Spanish Worship Service
DESCRIPTION:
URL:https://www.fumcrockport.org/event/living-water-spanish-worship-service/2028-03-26/
END:VEVENT
BEGIN:VEVENT
DTSTART;TZID=America/Chicago:20280327T100000
DTEND;TZID=America/Chicago:20280327T110000
DTSTAMP:20260422T060104
CREATED:20250410T172809Z
LAST-MODIFIED:20250410T172809Z
UID:10002132-1837764000-1837767600@www.fumcrockport.org
SUMMARY:Seniorcise (FH 1)
DESCRIPTION:
URL:https://www.fumcrockport.org/event/seniorcise-fh-1/2028-03-27/
END:VEVENT
BEGIN:VEVENT
DTSTART;TZID=America/Chicago:20280327T130000
DTEND;TZID=America/Chicago:20280327T140000
DTSTAMP:20260422T060104
CREATED:20250410T174040Z
LAST-MODIFIED:20260205T162747Z
UID:10002847-1837774800-1837778400@www.fumcrockport.org
SUMMARY:Prescription Assistance (Conf. Room)
DESCRIPTION:
URL:https://www.fumcrockport.org/event/prescription-assistance-conf-room/2028-03-27/
END:VEVENT
BEGIN:VEVENT
DTSTART;TZID=America/Chicago:20280328T100000
DTEND;TZID=America/Chicago:20280328T110000
DTSTAMP:20260422T060104
CREATED:20250410T172809Z
LAST-MODIFIED:20250410T172809Z
UID:10002133-1837850400-1837854000@www.fumcrockport.org
SUMMARY:Seniorcise (FH 1)
DESCRIPTION:
URL:https://www.fumcrockport.org/event/seniorcise-fh-1/2028-03-28/
END:VEVENT
BEGIN:VEVENT
DTSTART;TZID=America/Chicago:20280328T130000
DTEND;TZID=America/Chicago:20280328T140000
DTSTAMP:20260422T060104
CREATED:20260113T163457Z
LAST-MODIFIED:20260205T162542Z
UID:10004742-1837861200-1837864800@www.fumcrockport.org
SUMMARY:Chancel Choir Practice (Choir Room)
DESCRIPTION:
URL:https://www.fumcrockport.org/event/chancel-choir-practice-choir-room-2/2028-03-28/
END:VEVENT
BEGIN:VEVENT
DTSTART;TZID=America/Chicago:20280329T173000
DTEND;TZID=America/Chicago:20280329T183000
DTSTAMP:20260422T060104
CREATED:20250410T180559Z
LAST-MODIFIED:20260205T162816Z
UID:10003026-1837963800-1837967400@www.fumcrockport.org
SUMMARY:Praise Team Practice (Choir Room)
DESCRIPTION:
URL:https://www.fumcrockport.org/event/praise-team-practice-choir-room/2028-03-29/
END:VEVENT
BEGIN:VEVENT
DTSTART;TZID=America/Chicago:20280330T100000
DTEND;TZID=America/Chicago:20280330T110000
DTSTAMP:20260422T060104
CREATED:20250410T172809Z
LAST-MODIFIED:20250410T172809Z
UID:10002134-1838023200-1838026800@www.fumcrockport.org
SUMMARY:Seniorcise (FH 1)
DESCRIPTION:
URL:https://www.fumcrockport.org/event/seniorcise-fh-1/2028-03-30/
END:VEVENT
BEGIN:VEVENT
DTSTART;TZID=America/Chicago:20280402T091500
DTEND;TZID=America/Chicago:20280402T220000
DTSTAMP:20260422T060104
CREATED:20250508T172022Z
LAST-MODIFIED:20260205T162701Z
UID:10004469-1838279700-1838325600@www.fumcrockport.org
SUMMARY:Cross Talk Sunday School Class
DESCRIPTION:
URL:https://www.fumcrockport.org/event/cross-talk-sunday-school-class-2/2028-04-02/
END:VEVENT
BEGIN:VEVENT
DTSTART;TZID=America/Chicago:20280402T093000
DTEND;TZID=America/Chicago:20280402T103000
DTSTAMP:20260422T060104
CREATED:20250410T171448Z
LAST-MODIFIED:20250410T171448Z
UID:10000260-1838280600-1838284200@www.fumcrockport.org
SUMMARY:Truth Seekers Sunday School Class
DESCRIPTION:
URL:https://www.fumcrockport.org/event/truth-seekers-sunday-school-class/2028-04-02/
END:VEVENT
BEGIN:VEVENT
DTSTART;TZID=America/Chicago:20280402T104500
DTEND;TZID=America/Chicago:20280402T234500
DTSTAMP:20260422T060104
CREATED:20250410T171603Z
LAST-MODIFIED:20250410T171603Z
UID:10000521-1838285100-1838331900@www.fumcrockport.org
SUMMARY:Together in Spirit Worship Service
DESCRIPTION:
URL:https://www.fumcrockport.org/event/together-in-spirit-worship-service/2028-04-02/
END:VEVENT
BEGIN:VEVENT
DTSTART;TZID=America/Chicago:20280402T180000
DTEND;TZID=America/Chicago:20280402T190000
DTSTAMP:20260422T060104
CREATED:20250410T171649Z
LAST-MODIFIED:20260205T162923Z
UID:10000782-1838311200-1838314800@www.fumcrockport.org
SUMMARY:Living Water Spanish Worship Service
DESCRIPTION:
URL:https://www.fumcrockport.org/event/living-water-spanish-worship-service/2028-04-02/
END:VEVENT
BEGIN:VEVENT
DTSTART;TZID=America/Chicago:20280403T100000
DTEND;TZID=America/Chicago:20280403T110000
DTSTAMP:20260422T060104
CREATED:20250410T172809Z
LAST-MODIFIED:20250410T172809Z
UID:10002135-1838368800-1838372400@www.fumcrockport.org
SUMMARY:Seniorcise (FH 1)
DESCRIPTION:
URL:https://www.fumcrockport.org/event/seniorcise-fh-1/2028-04-03/
END:VEVENT
BEGIN:VEVENT
DTSTART;TZID=America/Chicago:20280404T100000
DTEND;TZID=America/Chicago:20280404T110000
DTSTAMP:20260422T060104
CREATED:20250410T172809Z
LAST-MODIFIED:20250410T172809Z
UID:10002136-1838455200-1838458800@www.fumcrockport.org
SUMMARY:Seniorcise (FH 1)
DESCRIPTION:
URL:https://www.fumcrockport.org/event/seniorcise-fh-1/2028-04-04/
END:VEVENT
BEGIN:VEVENT
DTSTART;TZID=America/Chicago:20280404T130000
DTEND;TZID=America/Chicago:20280404T140000
DTSTAMP:20260422T060104
CREATED:20260113T163457Z
LAST-MODIFIED:20260205T162542Z
UID:10004743-1838466000-1838469600@www.fumcrockport.org
SUMMARY:Chancel Choir Practice (Choir Room)
DESCRIPTION:
URL:https://www.fumcrockport.org/event/chancel-choir-practice-choir-room-2/2028-04-04/
END:VEVENT
BEGIN:VEVENT
DTSTART;TZID=America/Chicago:20280404T163000
DTEND;TZID=America/Chicago:20280404T173000
DTSTAMP:20260422T060104
CREATED:20250410T173434Z
LAST-MODIFIED:20260205T162723Z
UID:10003766-1838478600-1838482200@www.fumcrockport.org
SUMMARY:Community Table (First Presbyterian Church)
DESCRIPTION:
URL:https://www.fumcrockport.org/event/community-table-first-presbyterian-church-2/2028-04-04/
END:VEVENT
BEGIN:VEVENT
DTSTART;TZID=America/Chicago:20280405T173000
DTEND;TZID=America/Chicago:20280405T183000
DTSTAMP:20260422T060104
CREATED:20250410T180559Z
LAST-MODIFIED:20260205T162816Z
UID:10003027-1838568600-1838572200@www.fumcrockport.org
SUMMARY:Praise Team Practice (Choir Room)
DESCRIPTION:
URL:https://www.fumcrockport.org/event/praise-team-practice-choir-room/2028-04-05/
END:VEVENT
BEGIN:VEVENT
DTSTART;TZID=America/Chicago:20280406T100000
DTEND;TZID=America/Chicago:20280406T110000
DTSTAMP:20260422T060104
CREATED:20250410T172809Z
LAST-MODIFIED:20250410T172809Z
UID:10002137-1838628000-1838631600@www.fumcrockport.org
SUMMARY:Seniorcise (FH 1)
DESCRIPTION:
URL:https://www.fumcrockport.org/event/seniorcise-fh-1/2028-04-06/
END:VEVENT
BEGIN:VEVENT
DTSTART;TZID=America/Chicago:20280409T091500
DTEND;TZID=America/Chicago:20280409T220000
DTSTAMP:20260422T060104
CREATED:20250508T172022Z
LAST-MODIFIED:20260205T162701Z
UID:10004470-1838884500-1838930400@www.fumcrockport.org
SUMMARY:Cross Talk Sunday School Class
DESCRIPTION:
URL:https://www.fumcrockport.org/event/cross-talk-sunday-school-class-2/2028-04-09/
END:VEVENT
BEGIN:VEVENT
DTSTART;TZID=America/Chicago:20280409T093000
DTEND;TZID=America/Chicago:20280409T103000
DTSTAMP:20260422T060104
CREATED:20250410T171448Z
LAST-MODIFIED:20250410T171448Z
UID:10000261-1838885400-1838889000@www.fumcrockport.org
SUMMARY:Truth Seekers Sunday School Class
DESCRIPTION:
URL:https://www.fumcrockport.org/event/truth-seekers-sunday-school-class/2028-04-09/
END:VEVENT
END:VCALENDAR