BEGIN:VCALENDAR
VERSION:2.0
PRODID:-//First United Methodist Church - ECPv6.15.16//NONSGML v1.0//EN
CALSCALE:GREGORIAN
METHOD:PUBLISH
X-ORIGINAL-URL:https://www.fumcrockport.org
X-WR-CALDESC:Events for First United Methodist Church
REFRESH-INTERVAL;VALUE=DURATION:PT1H
X-Robots-Tag:noindex
X-PUBLISHED-TTL:PT1H
BEGIN:VTIMEZONE
TZID:America/Chicago
BEGIN:DAYLIGHT
TZOFFSETFROM:-0600
TZOFFSETTO:-0500
TZNAME:CDT
DTSTART:20270314T080000
END:DAYLIGHT
BEGIN:STANDARD
TZOFFSETFROM:-0500
TZOFFSETTO:-0600
TZNAME:CST
DTSTART:20271107T070000
END:STANDARD
BEGIN:DAYLIGHT
TZOFFSETFROM:-0600
TZOFFSETTO:-0500
TZNAME:CDT
DTSTART:20280312T080000
END:DAYLIGHT
BEGIN:STANDARD
TZOFFSETFROM:-0500
TZOFFSETTO:-0600
TZNAME:CST
DTSTART:20281105T070000
END:STANDARD
BEGIN:DAYLIGHT
TZOFFSETFROM:-0600
TZOFFSETTO:-0500
TZNAME:CDT
DTSTART:20290311T080000
END:DAYLIGHT
BEGIN:STANDARD
TZOFFSETFROM:-0500
TZOFFSETTO:-0600
TZNAME:CST
DTSTART:20291104T070000
END:STANDARD
END:VTIMEZONE
BEGIN:VEVENT
DTSTART;TZID=America/Chicago:20280403T100000
DTEND;TZID=America/Chicago:20280403T110000
DTSTAMP:20260422T051203
CREATED:20250410T172809Z
LAST-MODIFIED:20250410T172809Z
UID:10002135-1838368800-1838372400@www.fumcrockport.org
SUMMARY:Seniorcise (FH 1)
DESCRIPTION:
URL:https://www.fumcrockport.org/event/seniorcise-fh-1/2028-04-03/
END:VEVENT
BEGIN:VEVENT
DTSTART;TZID=America/Chicago:20280404T100000
DTEND;TZID=America/Chicago:20280404T110000
DTSTAMP:20260422T051203
CREATED:20250410T172809Z
LAST-MODIFIED:20250410T172809Z
UID:10002136-1838455200-1838458800@www.fumcrockport.org
SUMMARY:Seniorcise (FH 1)
DESCRIPTION:
URL:https://www.fumcrockport.org/event/seniorcise-fh-1/2028-04-04/
END:VEVENT
BEGIN:VEVENT
DTSTART;TZID=America/Chicago:20280404T130000
DTEND;TZID=America/Chicago:20280404T140000
DTSTAMP:20260422T051203
CREATED:20260113T163457Z
LAST-MODIFIED:20260205T162542Z
UID:10004743-1838466000-1838469600@www.fumcrockport.org
SUMMARY:Chancel Choir Practice (Choir Room)
DESCRIPTION:
URL:https://www.fumcrockport.org/event/chancel-choir-practice-choir-room-2/2028-04-04/
END:VEVENT
BEGIN:VEVENT
DTSTART;TZID=America/Chicago:20280404T163000
DTEND;TZID=America/Chicago:20280404T173000
DTSTAMP:20260422T051203
CREATED:20250410T173434Z
LAST-MODIFIED:20260205T162723Z
UID:10003766-1838478600-1838482200@www.fumcrockport.org
SUMMARY:Community Table (First Presbyterian Church)
DESCRIPTION:
URL:https://www.fumcrockport.org/event/community-table-first-presbyterian-church-2/2028-04-04/
END:VEVENT
BEGIN:VEVENT
DTSTART;TZID=America/Chicago:20280405T173000
DTEND;TZID=America/Chicago:20280405T183000
DTSTAMP:20260422T051203
CREATED:20250410T180559Z
LAST-MODIFIED:20260205T162816Z
UID:10003027-1838568600-1838572200@www.fumcrockport.org
SUMMARY:Praise Team Practice (Choir Room)
DESCRIPTION:
URL:https://www.fumcrockport.org/event/praise-team-practice-choir-room/2028-04-05/
END:VEVENT
BEGIN:VEVENT
DTSTART;TZID=America/Chicago:20280406T100000
DTEND;TZID=America/Chicago:20280406T110000
DTSTAMP:20260422T051203
CREATED:20250410T172809Z
LAST-MODIFIED:20250410T172809Z
UID:10002137-1838628000-1838631600@www.fumcrockport.org
SUMMARY:Seniorcise (FH 1)
DESCRIPTION:
URL:https://www.fumcrockport.org/event/seniorcise-fh-1/2028-04-06/
END:VEVENT
BEGIN:VEVENT
DTSTART;TZID=America/Chicago:20280409T091500
DTEND;TZID=America/Chicago:20280409T220000
DTSTAMP:20260422T051203
CREATED:20250508T172022Z
LAST-MODIFIED:20260205T162701Z
UID:10004470-1838884500-1838930400@www.fumcrockport.org
SUMMARY:Cross Talk Sunday School Class
DESCRIPTION:
URL:https://www.fumcrockport.org/event/cross-talk-sunday-school-class-2/2028-04-09/
END:VEVENT
BEGIN:VEVENT
DTSTART;TZID=America/Chicago:20280409T093000
DTEND;TZID=America/Chicago:20280409T103000
DTSTAMP:20260422T051203
CREATED:20250410T171448Z
LAST-MODIFIED:20250410T171448Z
UID:10000261-1838885400-1838889000@www.fumcrockport.org
SUMMARY:Truth Seekers Sunday School Class
DESCRIPTION:
URL:https://www.fumcrockport.org/event/truth-seekers-sunday-school-class/2028-04-09/
END:VEVENT
BEGIN:VEVENT
DTSTART;TZID=America/Chicago:20280409T104500
DTEND;TZID=America/Chicago:20280409T234500
DTSTAMP:20260422T051203
CREATED:20250410T171603Z
LAST-MODIFIED:20250410T171603Z
UID:10000522-1838889900-1838936700@www.fumcrockport.org
SUMMARY:Together in Spirit Worship Service
DESCRIPTION:
URL:https://www.fumcrockport.org/event/together-in-spirit-worship-service/2028-04-09/
END:VEVENT
BEGIN:VEVENT
DTSTART;TZID=America/Chicago:20280409T180000
DTEND;TZID=America/Chicago:20280409T190000
DTSTAMP:20260422T051203
CREATED:20250410T171649Z
LAST-MODIFIED:20260205T162923Z
UID:10000783-1838916000-1838919600@www.fumcrockport.org
SUMMARY:Living Water Spanish Worship Service
DESCRIPTION:
URL:https://www.fumcrockport.org/event/living-water-spanish-worship-service/2028-04-09/
END:VEVENT
BEGIN:VEVENT
DTSTART;TZID=America/Chicago:20280410T100000
DTEND;TZID=America/Chicago:20280410T110000
DTSTAMP:20260422T051203
CREATED:20250410T172809Z
LAST-MODIFIED:20250410T172809Z
UID:10002138-1838973600-1838977200@www.fumcrockport.org
SUMMARY:Seniorcise (FH 1)
DESCRIPTION:
URL:https://www.fumcrockport.org/event/seniorcise-fh-1/2028-04-10/
END:VEVENT
BEGIN:VEVENT
DTSTART;TZID=America/Chicago:20280410T130000
DTEND;TZID=America/Chicago:20280410T140000
DTSTAMP:20260422T051203
CREATED:20250410T174137Z
LAST-MODIFIED:20260205T162632Z
UID:10002727-1838984400-1838988000@www.fumcrockport.org
SUMMARY:Prescription Assistance (Conf. Room)
DESCRIPTION:
URL:https://www.fumcrockport.org/event/prescription-assistance-conf-room-2/2028-04-10/
END:VEVENT
BEGIN:VEVENT
DTSTART;TZID=America/Chicago:20280411T100000
DTEND;TZID=America/Chicago:20280411T110000
DTSTAMP:20260422T051203
CREATED:20250410T172809Z
LAST-MODIFIED:20250410T172809Z
UID:10002139-1839060000-1839063600@www.fumcrockport.org
SUMMARY:Seniorcise (FH 1)
DESCRIPTION:
URL:https://www.fumcrockport.org/event/seniorcise-fh-1/2028-04-11/
END:VEVENT
BEGIN:VEVENT
DTSTART;TZID=America/Chicago:20280411T120000
DTEND;TZID=America/Chicago:20280411T130000
DTSTAMP:20260422T051203
CREATED:20250410T174224Z
LAST-MODIFIED:20250410T174224Z
UID:10002787-1839067200-1839070800@www.fumcrockport.org
SUMMARY:Diabetic Support Group (Rec. Room)
DESCRIPTION:
URL:https://www.fumcrockport.org/event/diabetic-support-group-rec-room/2028-04-11/
END:VEVENT
BEGIN:VEVENT
DTSTART;TZID=America/Chicago:20280411T130000
DTEND;TZID=America/Chicago:20280411T140000
DTSTAMP:20260422T051203
CREATED:20260113T163457Z
LAST-MODIFIED:20260205T162542Z
UID:10004744-1839070800-1839074400@www.fumcrockport.org
SUMMARY:Chancel Choir Practice (Choir Room)
DESCRIPTION:
URL:https://www.fumcrockport.org/event/chancel-choir-practice-choir-room-2/2028-04-11/
END:VEVENT
BEGIN:VEVENT
DTSTART;TZID=America/Chicago:20280412T173000
DTEND;TZID=America/Chicago:20280412T183000
DTSTAMP:20260422T051203
CREATED:20250410T180559Z
LAST-MODIFIED:20260205T162816Z
UID:10003028-1839173400-1839177000@www.fumcrockport.org
SUMMARY:Praise Team Practice (Choir Room)
DESCRIPTION:
URL:https://www.fumcrockport.org/event/praise-team-practice-choir-room/2028-04-12/
END:VEVENT
BEGIN:VEVENT
DTSTART;TZID=America/Chicago:20280413T100000
DTEND;TZID=America/Chicago:20280413T110000
DTSTAMP:20260422T051203
CREATED:20250410T172809Z
LAST-MODIFIED:20250410T172809Z
UID:10002140-1839232800-1839236400@www.fumcrockport.org
SUMMARY:Seniorcise (FH 1)
DESCRIPTION:
URL:https://www.fumcrockport.org/event/seniorcise-fh-1/2028-04-13/
END:VEVENT
BEGIN:VEVENT
DTSTART;TZID=America/Chicago:20280416T091500
DTEND;TZID=America/Chicago:20280416T220000
DTSTAMP:20260422T051203
CREATED:20250508T172022Z
LAST-MODIFIED:20260205T162701Z
UID:10004471-1839489300-1839535200@www.fumcrockport.org
SUMMARY:Cross Talk Sunday School Class
DESCRIPTION:
URL:https://www.fumcrockport.org/event/cross-talk-sunday-school-class-2/2028-04-16/
END:VEVENT
BEGIN:VEVENT
DTSTART;TZID=America/Chicago:20280416T093000
DTEND;TZID=America/Chicago:20280416T103000
DTSTAMP:20260422T051203
CREATED:20250410T171448Z
LAST-MODIFIED:20250410T171448Z
UID:10000262-1839490200-1839493800@www.fumcrockport.org
SUMMARY:Truth Seekers Sunday School Class
DESCRIPTION:
URL:https://www.fumcrockport.org/event/truth-seekers-sunday-school-class/2028-04-16/
END:VEVENT
BEGIN:VEVENT
DTSTART;TZID=America/Chicago:20280416T104500
DTEND;TZID=America/Chicago:20280416T234500
DTSTAMP:20260422T051203
CREATED:20250410T171603Z
LAST-MODIFIED:20250410T171603Z
UID:10000523-1839494700-1839541500@www.fumcrockport.org
SUMMARY:Together in Spirit Worship Service
DESCRIPTION:
URL:https://www.fumcrockport.org/event/together-in-spirit-worship-service/2028-04-16/
END:VEVENT
BEGIN:VEVENT
DTSTART;TZID=America/Chicago:20280416T180000
DTEND;TZID=America/Chicago:20280416T190000
DTSTAMP:20260422T051203
CREATED:20250410T171649Z
LAST-MODIFIED:20260205T162923Z
UID:10000784-1839520800-1839524400@www.fumcrockport.org
SUMMARY:Living Water Spanish Worship Service
DESCRIPTION:
URL:https://www.fumcrockport.org/event/living-water-spanish-worship-service/2028-04-16/
END:VEVENT
BEGIN:VEVENT
DTSTART;TZID=America/Chicago:20280417T100000
DTEND;TZID=America/Chicago:20280417T110000
DTSTAMP:20260422T051203
CREATED:20250410T172809Z
LAST-MODIFIED:20250410T172809Z
UID:10002141-1839578400-1839582000@www.fumcrockport.org
SUMMARY:Seniorcise (FH 1)
DESCRIPTION:
URL:https://www.fumcrockport.org/event/seniorcise-fh-1/2028-04-17/
END:VEVENT
BEGIN:VEVENT
DTSTART;TZID=America/Chicago:20280418T100000
DTEND;TZID=America/Chicago:20280418T110000
DTSTAMP:20260422T051203
CREATED:20250410T172809Z
LAST-MODIFIED:20250410T172809Z
UID:10002142-1839664800-1839668400@www.fumcrockport.org
SUMMARY:Seniorcise (FH 1)
DESCRIPTION:
URL:https://www.fumcrockport.org/event/seniorcise-fh-1/2028-04-18/
END:VEVENT
BEGIN:VEVENT
DTSTART;TZID=America/Chicago:20280418T130000
DTEND;TZID=America/Chicago:20280418T140000
DTSTAMP:20260422T051203
CREATED:20260113T163457Z
LAST-MODIFIED:20260205T162542Z
UID:10004745-1839675600-1839679200@www.fumcrockport.org
SUMMARY:Chancel Choir Practice (Choir Room)
DESCRIPTION:
URL:https://www.fumcrockport.org/event/chancel-choir-practice-choir-room-2/2028-04-18/
END:VEVENT
BEGIN:VEVENT
DTSTART;TZID=America/Chicago:20280418T160000
DTEND;TZID=America/Chicago:20280418T170000
DTSTAMP:20260422T051203
CREATED:20250410T173342Z
LAST-MODIFIED:20260205T163000Z
UID:10002608-1839686400-1839690000@www.fumcrockport.org
SUMMARY:Community Table (First Presbyterian Church)
DESCRIPTION:
URL:https://www.fumcrockport.org/event/community-table-first-presbyterian-church/2028-04-18/
END:VEVENT
BEGIN:VEVENT
DTSTART;TZID=America/Chicago:20280419T173000
DTEND;TZID=America/Chicago:20280419T183000
DTSTAMP:20260422T051203
CREATED:20250410T180559Z
LAST-MODIFIED:20260205T162816Z
UID:10003029-1839778200-1839781800@www.fumcrockport.org
SUMMARY:Praise Team Practice (Choir Room)
DESCRIPTION:
URL:https://www.fumcrockport.org/event/praise-team-practice-choir-room/2028-04-19/
END:VEVENT
BEGIN:VEVENT
DTSTART;TZID=America/Chicago:20280420T100000
DTEND;TZID=America/Chicago:20280420T110000
DTSTAMP:20260422T051203
CREATED:20250410T172809Z
LAST-MODIFIED:20250410T172809Z
UID:10002143-1839837600-1839841200@www.fumcrockport.org
SUMMARY:Seniorcise (FH 1)
DESCRIPTION:
URL:https://www.fumcrockport.org/event/seniorcise-fh-1/2028-04-20/
END:VEVENT
BEGIN:VEVENT
DTSTART;TZID=America/Chicago:20280423T091500
DTEND;TZID=America/Chicago:20280423T220000
DTSTAMP:20260422T051203
CREATED:20250508T172022Z
LAST-MODIFIED:20260205T162701Z
UID:10004472-1840094100-1840140000@www.fumcrockport.org
SUMMARY:Cross Talk Sunday School Class
DESCRIPTION:
URL:https://www.fumcrockport.org/event/cross-talk-sunday-school-class-2/2028-04-23/
END:VEVENT
BEGIN:VEVENT
DTSTART;TZID=America/Chicago:20280423T093000
DTEND;TZID=America/Chicago:20280423T103000
DTSTAMP:20260422T051203
CREATED:20250410T171448Z
LAST-MODIFIED:20250410T171448Z
UID:10000263-1840095000-1840098600@www.fumcrockport.org
SUMMARY:Truth Seekers Sunday School Class
DESCRIPTION:
URL:https://www.fumcrockport.org/event/truth-seekers-sunday-school-class/2028-04-23/
END:VEVENT
BEGIN:VEVENT
DTSTART;TZID=America/Chicago:20280423T104500
DTEND;TZID=America/Chicago:20280423T234500
DTSTAMP:20260422T051203
CREATED:20250410T171603Z
LAST-MODIFIED:20250410T171603Z
UID:10000524-1840099500-1840146300@www.fumcrockport.org
SUMMARY:Together in Spirit Worship Service
DESCRIPTION:
URL:https://www.fumcrockport.org/event/together-in-spirit-worship-service/2028-04-23/
END:VEVENT
END:VCALENDAR