BEGIN:VCALENDAR
VERSION:2.0
PRODID:-//First United Methodist Church - ECPv6.15.16//NONSGML v1.0//EN
CALSCALE:GREGORIAN
METHOD:PUBLISH
X-WR-CALNAME:First United Methodist Church
X-ORIGINAL-URL:https://www.fumcrockport.org
X-WR-CALDESC:Events for First United Methodist Church
REFRESH-INTERVAL;VALUE=DURATION:PT1H
X-Robots-Tag:noindex
X-PUBLISHED-TTL:PT1H
BEGIN:VTIMEZONE
TZID:America/Chicago
BEGIN:DAYLIGHT
TZOFFSETFROM:-0600
TZOFFSETTO:-0500
TZNAME:CDT
DTSTART:20270314T080000
END:DAYLIGHT
BEGIN:STANDARD
TZOFFSETFROM:-0500
TZOFFSETTO:-0600
TZNAME:CST
DTSTART:20271107T070000
END:STANDARD
BEGIN:DAYLIGHT
TZOFFSETFROM:-0600
TZOFFSETTO:-0500
TZNAME:CDT
DTSTART:20280312T080000
END:DAYLIGHT
BEGIN:STANDARD
TZOFFSETFROM:-0500
TZOFFSETTO:-0600
TZNAME:CST
DTSTART:20281105T070000
END:STANDARD
BEGIN:DAYLIGHT
TZOFFSETFROM:-0600
TZOFFSETTO:-0500
TZNAME:CDT
DTSTART:20290311T080000
END:DAYLIGHT
BEGIN:STANDARD
TZOFFSETFROM:-0500
TZOFFSETTO:-0600
TZNAME:CST
DTSTART:20291104T070000
END:STANDARD
END:VTIMEZONE
BEGIN:VEVENT
DTSTART;TZID=America/Chicago:20280420T100000
DTEND;TZID=America/Chicago:20280420T110000
DTSTAMP:20260422T121532
CREATED:20250410T172809Z
LAST-MODIFIED:20250410T172809Z
UID:10002143-1839837600-1839841200@www.fumcrockport.org
SUMMARY:Seniorcise (FH 1)
DESCRIPTION:
URL:https://www.fumcrockport.org/event/seniorcise-fh-1/2028-04-20/
END:VEVENT
BEGIN:VEVENT
DTSTART;TZID=America/Chicago:20280423T091500
DTEND;TZID=America/Chicago:20280423T220000
DTSTAMP:20260422T121532
CREATED:20250508T172022Z
LAST-MODIFIED:20260205T162701Z
UID:10004472-1840094100-1840140000@www.fumcrockport.org
SUMMARY:Cross Talk Sunday School Class
DESCRIPTION:
URL:https://www.fumcrockport.org/event/cross-talk-sunday-school-class-2/2028-04-23/
END:VEVENT
BEGIN:VEVENT
DTSTART;TZID=America/Chicago:20280423T093000
DTEND;TZID=America/Chicago:20280423T103000
DTSTAMP:20260422T121532
CREATED:20250410T171448Z
LAST-MODIFIED:20250410T171448Z
UID:10000263-1840095000-1840098600@www.fumcrockport.org
SUMMARY:Truth Seekers Sunday School Class
DESCRIPTION:
URL:https://www.fumcrockport.org/event/truth-seekers-sunday-school-class/2028-04-23/
END:VEVENT
BEGIN:VEVENT
DTSTART;TZID=America/Chicago:20280423T104500
DTEND;TZID=America/Chicago:20280423T234500
DTSTAMP:20260422T121532
CREATED:20250410T171603Z
LAST-MODIFIED:20250410T171603Z
UID:10000524-1840099500-1840146300@www.fumcrockport.org
SUMMARY:Together in Spirit Worship Service
DESCRIPTION:
URL:https://www.fumcrockport.org/event/together-in-spirit-worship-service/2028-04-23/
END:VEVENT
BEGIN:VEVENT
DTSTART;TZID=America/Chicago:20280423T180000
DTEND;TZID=America/Chicago:20280423T190000
DTSTAMP:20260422T121532
CREATED:20250410T171649Z
LAST-MODIFIED:20260205T162923Z
UID:10000785-1840125600-1840129200@www.fumcrockport.org
SUMMARY:Living Water Spanish Worship Service
DESCRIPTION:
URL:https://www.fumcrockport.org/event/living-water-spanish-worship-service/2028-04-23/
END:VEVENT
BEGIN:VEVENT
DTSTART;TZID=America/Chicago:20280424T100000
DTEND;TZID=America/Chicago:20280424T110000
DTSTAMP:20260422T121532
CREATED:20250410T172809Z
LAST-MODIFIED:20250410T172809Z
UID:10002144-1840183200-1840186800@www.fumcrockport.org
SUMMARY:Seniorcise (FH 1)
DESCRIPTION:
URL:https://www.fumcrockport.org/event/seniorcise-fh-1/2028-04-24/
END:VEVENT
BEGIN:VEVENT
DTSTART;TZID=America/Chicago:20280424T130000
DTEND;TZID=America/Chicago:20280424T140000
DTSTAMP:20260422T121532
CREATED:20250410T174040Z
LAST-MODIFIED:20260205T162747Z
UID:10002848-1840194000-1840197600@www.fumcrockport.org
SUMMARY:Prescription Assistance (Conf. Room)
DESCRIPTION:
URL:https://www.fumcrockport.org/event/prescription-assistance-conf-room/2028-04-24/
END:VEVENT
BEGIN:VEVENT
DTSTART;TZID=America/Chicago:20280425T100000
DTEND;TZID=America/Chicago:20280425T110000
DTSTAMP:20260422T121532
CREATED:20250410T172809Z
LAST-MODIFIED:20250410T172809Z
UID:10002145-1840269600-1840273200@www.fumcrockport.org
SUMMARY:Seniorcise (FH 1)
DESCRIPTION:
URL:https://www.fumcrockport.org/event/seniorcise-fh-1/2028-04-25/
END:VEVENT
BEGIN:VEVENT
DTSTART;TZID=America/Chicago:20280425T130000
DTEND;TZID=America/Chicago:20280425T140000
DTSTAMP:20260422T121532
CREATED:20260113T163457Z
LAST-MODIFIED:20260205T162542Z
UID:10004746-1840280400-1840284000@www.fumcrockport.org
SUMMARY:Chancel Choir Practice (Choir Room)
DESCRIPTION:
URL:https://www.fumcrockport.org/event/chancel-choir-practice-choir-room-2/2028-04-25/
END:VEVENT
BEGIN:VEVENT
DTSTART;TZID=America/Chicago:20280426T173000
DTEND;TZID=America/Chicago:20280426T183000
DTSTAMP:20260422T121532
CREATED:20250410T180559Z
LAST-MODIFIED:20260205T162816Z
UID:10003030-1840383000-1840386600@www.fumcrockport.org
SUMMARY:Praise Team Practice (Choir Room)
DESCRIPTION:
URL:https://www.fumcrockport.org/event/praise-team-practice-choir-room/2028-04-26/
END:VEVENT
BEGIN:VEVENT
DTSTART;TZID=America/Chicago:20280427T100000
DTEND;TZID=America/Chicago:20280427T110000
DTSTAMP:20260422T121532
CREATED:20250410T172809Z
LAST-MODIFIED:20250410T172809Z
UID:10002146-1840442400-1840446000@www.fumcrockport.org
SUMMARY:Seniorcise (FH 1)
DESCRIPTION:
URL:https://www.fumcrockport.org/event/seniorcise-fh-1/2028-04-27/
END:VEVENT
BEGIN:VEVENT
DTSTART;TZID=America/Chicago:20280430T091500
DTEND;TZID=America/Chicago:20280430T220000
DTSTAMP:20260422T121532
CREATED:20250508T172022Z
LAST-MODIFIED:20260205T162701Z
UID:10004473-1840698900-1840744800@www.fumcrockport.org
SUMMARY:Cross Talk Sunday School Class
DESCRIPTION:
URL:https://www.fumcrockport.org/event/cross-talk-sunday-school-class-2/2028-04-30/
END:VEVENT
BEGIN:VEVENT
DTSTART;TZID=America/Chicago:20280430T093000
DTEND;TZID=America/Chicago:20280430T103000
DTSTAMP:20260422T121532
CREATED:20250410T171448Z
LAST-MODIFIED:20250410T171448Z
UID:10000264-1840699800-1840703400@www.fumcrockport.org
SUMMARY:Truth Seekers Sunday School Class
DESCRIPTION:
URL:https://www.fumcrockport.org/event/truth-seekers-sunday-school-class/2028-04-30/
END:VEVENT
BEGIN:VEVENT
DTSTART;TZID=America/Chicago:20280430T104500
DTEND;TZID=America/Chicago:20280430T234500
DTSTAMP:20260422T121532
CREATED:20250410T171603Z
LAST-MODIFIED:20250410T171603Z
UID:10000525-1840704300-1840751100@www.fumcrockport.org
SUMMARY:Together in Spirit Worship Service
DESCRIPTION:
URL:https://www.fumcrockport.org/event/together-in-spirit-worship-service/2028-04-30/
END:VEVENT
BEGIN:VEVENT
DTSTART;TZID=America/Chicago:20280430T180000
DTEND;TZID=America/Chicago:20280430T190000
DTSTAMP:20260422T121532
CREATED:20250410T171649Z
LAST-MODIFIED:20260205T162923Z
UID:10000786-1840730400-1840734000@www.fumcrockport.org
SUMMARY:Living Water Spanish Worship Service
DESCRIPTION:
URL:https://www.fumcrockport.org/event/living-water-spanish-worship-service/2028-04-30/
END:VEVENT
BEGIN:VEVENT
DTSTART;TZID=America/Chicago:20280501T100000
DTEND;TZID=America/Chicago:20280501T110000
DTSTAMP:20260422T121532
CREATED:20250410T172809Z
LAST-MODIFIED:20250410T172809Z
UID:10002147-1840788000-1840791600@www.fumcrockport.org
SUMMARY:Seniorcise (FH 1)
DESCRIPTION:
URL:https://www.fumcrockport.org/event/seniorcise-fh-1/2028-05-01/
END:VEVENT
BEGIN:VEVENT
DTSTART;TZID=America/Chicago:20280502T100000
DTEND;TZID=America/Chicago:20280502T110000
DTSTAMP:20260422T121532
CREATED:20250410T172809Z
LAST-MODIFIED:20250410T172809Z
UID:10002148-1840874400-1840878000@www.fumcrockport.org
SUMMARY:Seniorcise (FH 1)
DESCRIPTION:
URL:https://www.fumcrockport.org/event/seniorcise-fh-1/2028-05-02/
END:VEVENT
BEGIN:VEVENT
DTSTART;TZID=America/Chicago:20280502T130000
DTEND;TZID=America/Chicago:20280502T140000
DTSTAMP:20260422T121532
CREATED:20260113T163457Z
LAST-MODIFIED:20260205T162542Z
UID:10004747-1840885200-1840888800@www.fumcrockport.org
SUMMARY:Chancel Choir Practice (Choir Room)
DESCRIPTION:
URL:https://www.fumcrockport.org/event/chancel-choir-practice-choir-room-2/2028-05-02/
END:VEVENT
BEGIN:VEVENT
DTSTART;TZID=America/Chicago:20280502T163000
DTEND;TZID=America/Chicago:20280502T173000
DTSTAMP:20260422T121532
CREATED:20250410T173434Z
LAST-MODIFIED:20260205T162723Z
UID:10003767-1840897800-1840901400@www.fumcrockport.org
SUMMARY:Community Table (First Presbyterian Church)
DESCRIPTION:
URL:https://www.fumcrockport.org/event/community-table-first-presbyterian-church-2/2028-05-02/
END:VEVENT
BEGIN:VEVENT
DTSTART;TZID=America/Chicago:20280503T173000
DTEND;TZID=America/Chicago:20280503T183000
DTSTAMP:20260422T121532
CREATED:20250410T180559Z
LAST-MODIFIED:20260205T162816Z
UID:10003031-1840987800-1840991400@www.fumcrockport.org
SUMMARY:Praise Team Practice (Choir Room)
DESCRIPTION:
URL:https://www.fumcrockport.org/event/praise-team-practice-choir-room/2028-05-03/
END:VEVENT
BEGIN:VEVENT
DTSTART;TZID=America/Chicago:20280504T100000
DTEND;TZID=America/Chicago:20280504T110000
DTSTAMP:20260422T121532
CREATED:20250410T172809Z
LAST-MODIFIED:20250410T172809Z
UID:10002149-1841047200-1841050800@www.fumcrockport.org
SUMMARY:Seniorcise (FH 1)
DESCRIPTION:
URL:https://www.fumcrockport.org/event/seniorcise-fh-1/2028-05-04/
END:VEVENT
BEGIN:VEVENT
DTSTART;TZID=America/Chicago:20280507T091500
DTEND;TZID=America/Chicago:20280507T220000
DTSTAMP:20260422T121532
CREATED:20250508T172022Z
LAST-MODIFIED:20260205T162701Z
UID:10004474-1841303700-1841349600@www.fumcrockport.org
SUMMARY:Cross Talk Sunday School Class
DESCRIPTION:
URL:https://www.fumcrockport.org/event/cross-talk-sunday-school-class-2/2028-05-07/
END:VEVENT
BEGIN:VEVENT
DTSTART;TZID=America/Chicago:20280507T093000
DTEND;TZID=America/Chicago:20280507T103000
DTSTAMP:20260422T121532
CREATED:20250410T171448Z
LAST-MODIFIED:20250410T171448Z
UID:10000265-1841304600-1841308200@www.fumcrockport.org
SUMMARY:Truth Seekers Sunday School Class
DESCRIPTION:
URL:https://www.fumcrockport.org/event/truth-seekers-sunday-school-class/2028-05-07/
END:VEVENT
BEGIN:VEVENT
DTSTART;TZID=America/Chicago:20280507T104500
DTEND;TZID=America/Chicago:20280507T234500
DTSTAMP:20260422T121532
CREATED:20250410T171603Z
LAST-MODIFIED:20250410T171603Z
UID:10000526-1841309100-1841355900@www.fumcrockport.org
SUMMARY:Together in Spirit Worship Service
DESCRIPTION:
URL:https://www.fumcrockport.org/event/together-in-spirit-worship-service/2028-05-07/
END:VEVENT
BEGIN:VEVENT
DTSTART;TZID=America/Chicago:20280507T180000
DTEND;TZID=America/Chicago:20280507T190000
DTSTAMP:20260422T121532
CREATED:20250410T171649Z
LAST-MODIFIED:20260205T162923Z
UID:10000787-1841335200-1841338800@www.fumcrockport.org
SUMMARY:Living Water Spanish Worship Service
DESCRIPTION:
URL:https://www.fumcrockport.org/event/living-water-spanish-worship-service/2028-05-07/
END:VEVENT
BEGIN:VEVENT
DTSTART;TZID=America/Chicago:20280508T100000
DTEND;TZID=America/Chicago:20280508T110000
DTSTAMP:20260422T121532
CREATED:20250410T172809Z
LAST-MODIFIED:20250410T172809Z
UID:10002150-1841392800-1841396400@www.fumcrockport.org
SUMMARY:Seniorcise (FH 1)
DESCRIPTION:
URL:https://www.fumcrockport.org/event/seniorcise-fh-1/2028-05-08/
END:VEVENT
BEGIN:VEVENT
DTSTART;TZID=America/Chicago:20280508T130000
DTEND;TZID=America/Chicago:20280508T140000
DTSTAMP:20260422T121532
CREATED:20250410T174137Z
LAST-MODIFIED:20260205T162632Z
UID:10002728-1841403600-1841407200@www.fumcrockport.org
SUMMARY:Prescription Assistance (Conf. Room)
DESCRIPTION:
URL:https://www.fumcrockport.org/event/prescription-assistance-conf-room-2/2028-05-08/
END:VEVENT
BEGIN:VEVENT
DTSTART;TZID=America/Chicago:20280509T100000
DTEND;TZID=America/Chicago:20280509T110000
DTSTAMP:20260422T121532
CREATED:20250410T172809Z
LAST-MODIFIED:20250410T172809Z
UID:10002151-1841479200-1841482800@www.fumcrockport.org
SUMMARY:Seniorcise (FH 1)
DESCRIPTION:
URL:https://www.fumcrockport.org/event/seniorcise-fh-1/2028-05-09/
END:VEVENT
BEGIN:VEVENT
DTSTART;TZID=America/Chicago:20280509T120000
DTEND;TZID=America/Chicago:20280509T130000
DTSTAMP:20260422T121532
CREATED:20250410T174224Z
LAST-MODIFIED:20250410T174224Z
UID:10002788-1841486400-1841490000@www.fumcrockport.org
SUMMARY:Diabetic Support Group (Rec. Room)
DESCRIPTION:
URL:https://www.fumcrockport.org/event/diabetic-support-group-rec-room/2028-05-09/
END:VEVENT
BEGIN:VEVENT
DTSTART;TZID=America/Chicago:20280509T130000
DTEND;TZID=America/Chicago:20280509T140000
DTSTAMP:20260422T121532
CREATED:20260113T163457Z
LAST-MODIFIED:20260205T162542Z
UID:10004748-1841490000-1841493600@www.fumcrockport.org
SUMMARY:Chancel Choir Practice (Choir Room)
DESCRIPTION:
URL:https://www.fumcrockport.org/event/chancel-choir-practice-choir-room-2/2028-05-09/
END:VEVENT
END:VCALENDAR