BEGIN:VCALENDAR
VERSION:2.0
PRODID:-//First United Methodist Church - ECPv6.15.16//NONSGML v1.0//EN
CALSCALE:GREGORIAN
METHOD:PUBLISH
X-WR-CALNAME:First United Methodist Church
X-ORIGINAL-URL:https://www.fumcrockport.org
X-WR-CALDESC:Events for First United Methodist Church
REFRESH-INTERVAL;VALUE=DURATION:PT1H
X-Robots-Tag:noindex
X-PUBLISHED-TTL:PT1H
BEGIN:VTIMEZONE
TZID:America/Chicago
BEGIN:DAYLIGHT
TZOFFSETFROM:-0600
TZOFFSETTO:-0500
TZNAME:CDT
DTSTART:20270314T080000
END:DAYLIGHT
BEGIN:STANDARD
TZOFFSETFROM:-0500
TZOFFSETTO:-0600
TZNAME:CST
DTSTART:20271107T070000
END:STANDARD
BEGIN:DAYLIGHT
TZOFFSETFROM:-0600
TZOFFSETTO:-0500
TZNAME:CDT
DTSTART:20280312T080000
END:DAYLIGHT
BEGIN:STANDARD
TZOFFSETFROM:-0500
TZOFFSETTO:-0600
TZNAME:CST
DTSTART:20281105T070000
END:STANDARD
BEGIN:DAYLIGHT
TZOFFSETFROM:-0600
TZOFFSETTO:-0500
TZNAME:CDT
DTSTART:20290311T080000
END:DAYLIGHT
BEGIN:STANDARD
TZOFFSETFROM:-0500
TZOFFSETTO:-0600
TZNAME:CST
DTSTART:20291104T070000
END:STANDARD
END:VTIMEZONE
BEGIN:VEVENT
DTSTART;TZID=America/Chicago:20280523T100000
DTEND;TZID=America/Chicago:20280523T110000
DTSTAMP:20260422T180010
CREATED:20250410T172809Z
LAST-MODIFIED:20250410T172809Z
UID:10002157-1842688800-1842692400@www.fumcrockport.org
SUMMARY:Seniorcise (FH 1)
DESCRIPTION:
URL:https://www.fumcrockport.org/event/seniorcise-fh-1/2028-05-23/
END:VEVENT
BEGIN:VEVENT
DTSTART;TZID=America/Chicago:20280523T130000
DTEND;TZID=America/Chicago:20280523T140000
DTSTAMP:20260422T180010
CREATED:20260113T163457Z
LAST-MODIFIED:20260205T162542Z
UID:10004750-1842699600-1842703200@www.fumcrockport.org
SUMMARY:Chancel Choir Practice (Choir Room)
DESCRIPTION:
URL:https://www.fumcrockport.org/event/chancel-choir-practice-choir-room-2/2028-05-23/
END:VEVENT
BEGIN:VEVENT
DTSTART;TZID=America/Chicago:20280524T173000
DTEND;TZID=America/Chicago:20280524T183000
DTSTAMP:20260422T180010
CREATED:20250410T180559Z
LAST-MODIFIED:20260205T162816Z
UID:10003034-1842802200-1842805800@www.fumcrockport.org
SUMMARY:Praise Team Practice (Choir Room)
DESCRIPTION:
URL:https://www.fumcrockport.org/event/praise-team-practice-choir-room/2028-05-24/
END:VEVENT
BEGIN:VEVENT
DTSTART;TZID=America/Chicago:20280525T100000
DTEND;TZID=America/Chicago:20280525T110000
DTSTAMP:20260422T180010
CREATED:20250410T172809Z
LAST-MODIFIED:20250410T172809Z
UID:10002158-1842861600-1842865200@www.fumcrockport.org
SUMMARY:Seniorcise (FH 1)
DESCRIPTION:
URL:https://www.fumcrockport.org/event/seniorcise-fh-1/2028-05-25/
END:VEVENT
BEGIN:VEVENT
DTSTART;TZID=America/Chicago:20280528T091500
DTEND;TZID=America/Chicago:20280528T220000
DTSTAMP:20260422T180010
CREATED:20250508T172022Z
LAST-MODIFIED:20260205T162701Z
UID:10004477-1843118100-1843164000@www.fumcrockport.org
SUMMARY:Cross Talk Sunday School Class
DESCRIPTION:
URL:https://www.fumcrockport.org/event/cross-talk-sunday-school-class-2/2028-05-28/
END:VEVENT
BEGIN:VEVENT
DTSTART;TZID=America/Chicago:20280528T093000
DTEND;TZID=America/Chicago:20280528T103000
DTSTAMP:20260422T180010
CREATED:20250410T171448Z
LAST-MODIFIED:20250410T171448Z
UID:10000268-1843119000-1843122600@www.fumcrockport.org
SUMMARY:Truth Seekers Sunday School Class
DESCRIPTION:
URL:https://www.fumcrockport.org/event/truth-seekers-sunday-school-class/2028-05-28/
END:VEVENT
BEGIN:VEVENT
DTSTART;TZID=America/Chicago:20280528T104500
DTEND;TZID=America/Chicago:20280528T234500
DTSTAMP:20260422T180010
CREATED:20250410T171603Z
LAST-MODIFIED:20250410T171603Z
UID:10000529-1843123500-1843170300@www.fumcrockport.org
SUMMARY:Together in Spirit Worship Service
DESCRIPTION:
URL:https://www.fumcrockport.org/event/together-in-spirit-worship-service/2028-05-28/
END:VEVENT
BEGIN:VEVENT
DTSTART;TZID=America/Chicago:20280528T180000
DTEND;TZID=America/Chicago:20280528T190000
DTSTAMP:20260422T180010
CREATED:20250410T171649Z
LAST-MODIFIED:20260205T162923Z
UID:10000790-1843149600-1843153200@www.fumcrockport.org
SUMMARY:Living Water Spanish Worship Service
DESCRIPTION:
URL:https://www.fumcrockport.org/event/living-water-spanish-worship-service/2028-05-28/
END:VEVENT
BEGIN:VEVENT
DTSTART;TZID=America/Chicago:20280529T100000
DTEND;TZID=America/Chicago:20280529T110000
DTSTAMP:20260422T180010
CREATED:20250410T172809Z
LAST-MODIFIED:20250410T172809Z
UID:10002159-1843207200-1843210800@www.fumcrockport.org
SUMMARY:Seniorcise (FH 1)
DESCRIPTION:
URL:https://www.fumcrockport.org/event/seniorcise-fh-1/2028-05-29/
END:VEVENT
BEGIN:VEVENT
DTSTART;TZID=America/Chicago:20280530T100000
DTEND;TZID=America/Chicago:20280530T110000
DTSTAMP:20260422T180010
CREATED:20250410T172809Z
LAST-MODIFIED:20250410T172809Z
UID:10002160-1843293600-1843297200@www.fumcrockport.org
SUMMARY:Seniorcise (FH 1)
DESCRIPTION:
URL:https://www.fumcrockport.org/event/seniorcise-fh-1/2028-05-30/
END:VEVENT
BEGIN:VEVENT
DTSTART;TZID=America/Chicago:20280530T130000
DTEND;TZID=America/Chicago:20280530T140000
DTSTAMP:20260422T180010
CREATED:20260113T163457Z
LAST-MODIFIED:20260205T162542Z
UID:10004751-1843304400-1843308000@www.fumcrockport.org
SUMMARY:Chancel Choir Practice (Choir Room)
DESCRIPTION:
URL:https://www.fumcrockport.org/event/chancel-choir-practice-choir-room-2/2028-05-30/
END:VEVENT
BEGIN:VEVENT
DTSTART;TZID=America/Chicago:20280531T173000
DTEND;TZID=America/Chicago:20280531T183000
DTSTAMP:20260422T180010
CREATED:20250410T180559Z
LAST-MODIFIED:20260205T162816Z
UID:10003035-1843407000-1843410600@www.fumcrockport.org
SUMMARY:Praise Team Practice (Choir Room)
DESCRIPTION:
URL:https://www.fumcrockport.org/event/praise-team-practice-choir-room/2028-05-31/
END:VEVENT
BEGIN:VEVENT
DTSTART;TZID=America/Chicago:20280601T100000
DTEND;TZID=America/Chicago:20280601T110000
DTSTAMP:20260422T180010
CREATED:20250410T172809Z
LAST-MODIFIED:20250410T172809Z
UID:10002161-1843466400-1843470000@www.fumcrockport.org
SUMMARY:Seniorcise (FH 1)
DESCRIPTION:
URL:https://www.fumcrockport.org/event/seniorcise-fh-1/2028-06-01/
END:VEVENT
BEGIN:VEVENT
DTSTART;TZID=America/Chicago:20280604T091500
DTEND;TZID=America/Chicago:20280604T220000
DTSTAMP:20260422T180010
CREATED:20250508T172022Z
LAST-MODIFIED:20260205T162701Z
UID:10004478-1843722900-1843768800@www.fumcrockport.org
SUMMARY:Cross Talk Sunday School Class
DESCRIPTION:
URL:https://www.fumcrockport.org/event/cross-talk-sunday-school-class-2/2028-06-04/
END:VEVENT
BEGIN:VEVENT
DTSTART;TZID=America/Chicago:20280604T093000
DTEND;TZID=America/Chicago:20280604T103000
DTSTAMP:20260422T180010
CREATED:20250410T171448Z
LAST-MODIFIED:20250410T171448Z
UID:10000269-1843723800-1843727400@www.fumcrockport.org
SUMMARY:Truth Seekers Sunday School Class
DESCRIPTION:
URL:https://www.fumcrockport.org/event/truth-seekers-sunday-school-class/2028-06-04/
END:VEVENT
BEGIN:VEVENT
DTSTART;TZID=America/Chicago:20280604T104500
DTEND;TZID=America/Chicago:20280604T234500
DTSTAMP:20260422T180010
CREATED:20250410T171603Z
LAST-MODIFIED:20250410T171603Z
UID:10000530-1843728300-1843775100@www.fumcrockport.org
SUMMARY:Together in Spirit Worship Service
DESCRIPTION:
URL:https://www.fumcrockport.org/event/together-in-spirit-worship-service/2028-06-04/
END:VEVENT
BEGIN:VEVENT
DTSTART;TZID=America/Chicago:20280604T180000
DTEND;TZID=America/Chicago:20280604T190000
DTSTAMP:20260422T180010
CREATED:20250410T171649Z
LAST-MODIFIED:20260205T162923Z
UID:10000791-1843754400-1843758000@www.fumcrockport.org
SUMMARY:Living Water Spanish Worship Service
DESCRIPTION:
URL:https://www.fumcrockport.org/event/living-water-spanish-worship-service/2028-06-04/
END:VEVENT
BEGIN:VEVENT
DTSTART;TZID=America/Chicago:20280605T100000
DTEND;TZID=America/Chicago:20280605T110000
DTSTAMP:20260422T180010
CREATED:20250410T172809Z
LAST-MODIFIED:20250410T172809Z
UID:10002162-1843812000-1843815600@www.fumcrockport.org
SUMMARY:Seniorcise (FH 1)
DESCRIPTION:
URL:https://www.fumcrockport.org/event/seniorcise-fh-1/2028-06-05/
END:VEVENT
BEGIN:VEVENT
DTSTART;TZID=America/Chicago:20280606T100000
DTEND;TZID=America/Chicago:20280606T110000
DTSTAMP:20260422T180010
CREATED:20250410T172809Z
LAST-MODIFIED:20250410T172809Z
UID:10002163-1843898400-1843902000@www.fumcrockport.org
SUMMARY:Seniorcise (FH 1)
DESCRIPTION:
URL:https://www.fumcrockport.org/event/seniorcise-fh-1/2028-06-06/
END:VEVENT
BEGIN:VEVENT
DTSTART;TZID=America/Chicago:20280606T130000
DTEND;TZID=America/Chicago:20280606T140000
DTSTAMP:20260422T180010
CREATED:20260113T163457Z
LAST-MODIFIED:20260205T162542Z
UID:10004752-1843909200-1843912800@www.fumcrockport.org
SUMMARY:Chancel Choir Practice (Choir Room)
DESCRIPTION:
URL:https://www.fumcrockport.org/event/chancel-choir-practice-choir-room-2/2028-06-06/
END:VEVENT
BEGIN:VEVENT
DTSTART;TZID=America/Chicago:20280606T163000
DTEND;TZID=America/Chicago:20280606T173000
DTSTAMP:20260422T180010
CREATED:20250410T173434Z
LAST-MODIFIED:20260205T162723Z
UID:10003768-1843921800-1843925400@www.fumcrockport.org
SUMMARY:Community Table (First Presbyterian Church)
DESCRIPTION:
URL:https://www.fumcrockport.org/event/community-table-first-presbyterian-church-2/2028-06-06/
END:VEVENT
BEGIN:VEVENT
DTSTART;TZID=America/Chicago:20280607T173000
DTEND;TZID=America/Chicago:20280607T183000
DTSTAMP:20260422T180010
CREATED:20250410T180559Z
LAST-MODIFIED:20260205T162816Z
UID:10003036-1844011800-1844015400@www.fumcrockport.org
SUMMARY:Praise Team Practice (Choir Room)
DESCRIPTION:
URL:https://www.fumcrockport.org/event/praise-team-practice-choir-room/2028-06-07/
END:VEVENT
BEGIN:VEVENT
DTSTART;TZID=America/Chicago:20280608T100000
DTEND;TZID=America/Chicago:20280608T110000
DTSTAMP:20260422T180010
CREATED:20250410T172809Z
LAST-MODIFIED:20250410T172809Z
UID:10002164-1844071200-1844074800@www.fumcrockport.org
SUMMARY:Seniorcise (FH 1)
DESCRIPTION:
URL:https://www.fumcrockport.org/event/seniorcise-fh-1/2028-06-08/
END:VEVENT
BEGIN:VEVENT
DTSTART;TZID=America/Chicago:20280611T091500
DTEND;TZID=America/Chicago:20280611T220000
DTSTAMP:20260422T180010
CREATED:20250508T172022Z
LAST-MODIFIED:20260205T162701Z
UID:10004479-1844327700-1844373600@www.fumcrockport.org
SUMMARY:Cross Talk Sunday School Class
DESCRIPTION:
URL:https://www.fumcrockport.org/event/cross-talk-sunday-school-class-2/2028-06-11/
END:VEVENT
BEGIN:VEVENT
DTSTART;TZID=America/Chicago:20280611T093000
DTEND;TZID=America/Chicago:20280611T103000
DTSTAMP:20260422T180010
CREATED:20250410T171448Z
LAST-MODIFIED:20250410T171448Z
UID:10000270-1844328600-1844332200@www.fumcrockport.org
SUMMARY:Truth Seekers Sunday School Class
DESCRIPTION:
URL:https://www.fumcrockport.org/event/truth-seekers-sunday-school-class/2028-06-11/
END:VEVENT
BEGIN:VEVENT
DTSTART;TZID=America/Chicago:20280611T104500
DTEND;TZID=America/Chicago:20280611T234500
DTSTAMP:20260422T180010
CREATED:20250410T171603Z
LAST-MODIFIED:20250410T171603Z
UID:10000531-1844333100-1844379900@www.fumcrockport.org
SUMMARY:Together in Spirit Worship Service
DESCRIPTION:
URL:https://www.fumcrockport.org/event/together-in-spirit-worship-service/2028-06-11/
END:VEVENT
BEGIN:VEVENT
DTSTART;TZID=America/Chicago:20280611T180000
DTEND;TZID=America/Chicago:20280611T190000
DTSTAMP:20260422T180010
CREATED:20250410T171649Z
LAST-MODIFIED:20260205T162923Z
UID:10000792-1844359200-1844362800@www.fumcrockport.org
SUMMARY:Living Water Spanish Worship Service
DESCRIPTION:
URL:https://www.fumcrockport.org/event/living-water-spanish-worship-service/2028-06-11/
END:VEVENT
BEGIN:VEVENT
DTSTART;TZID=America/Chicago:20280612T100000
DTEND;TZID=America/Chicago:20280612T110000
DTSTAMP:20260422T180010
CREATED:20250410T172809Z
LAST-MODIFIED:20250410T172809Z
UID:10002165-1844416800-1844420400@www.fumcrockport.org
SUMMARY:Seniorcise (FH 1)
DESCRIPTION:
URL:https://www.fumcrockport.org/event/seniorcise-fh-1/2028-06-12/
END:VEVENT
BEGIN:VEVENT
DTSTART;TZID=America/Chicago:20280612T130000
DTEND;TZID=America/Chicago:20280612T140000
DTSTAMP:20260422T180010
CREATED:20250410T174137Z
LAST-MODIFIED:20260205T162632Z
UID:10002729-1844427600-1844431200@www.fumcrockport.org
SUMMARY:Prescription Assistance (Conf. Room)
DESCRIPTION:
URL:https://www.fumcrockport.org/event/prescription-assistance-conf-room-2/2028-06-12/
END:VEVENT
BEGIN:VEVENT
DTSTART;TZID=America/Chicago:20280613T100000
DTEND;TZID=America/Chicago:20280613T110000
DTSTAMP:20260422T180010
CREATED:20250410T172809Z
LAST-MODIFIED:20250410T172809Z
UID:10002166-1844503200-1844506800@www.fumcrockport.org
SUMMARY:Seniorcise (FH 1)
DESCRIPTION:
URL:https://www.fumcrockport.org/event/seniorcise-fh-1/2028-06-13/
END:VEVENT
END:VCALENDAR