BEGIN:VCALENDAR
VERSION:2.0
PRODID:-//First United Methodist Church - ECPv6.15.16//NONSGML v1.0//EN
CALSCALE:GREGORIAN
METHOD:PUBLISH
X-ORIGINAL-URL:https://www.fumcrockport.org
X-WR-CALDESC:Events for First United Methodist Church
REFRESH-INTERVAL;VALUE=DURATION:PT1H
X-Robots-Tag:noindex
X-PUBLISHED-TTL:PT1H
BEGIN:VTIMEZONE
TZID:America/Chicago
BEGIN:DAYLIGHT
TZOFFSETFROM:-0600
TZOFFSETTO:-0500
TZNAME:CDT
DTSTART:20270314T080000
END:DAYLIGHT
BEGIN:STANDARD
TZOFFSETFROM:-0500
TZOFFSETTO:-0600
TZNAME:CST
DTSTART:20271107T070000
END:STANDARD
BEGIN:DAYLIGHT
TZOFFSETFROM:-0600
TZOFFSETTO:-0500
TZNAME:CDT
DTSTART:20280312T080000
END:DAYLIGHT
BEGIN:STANDARD
TZOFFSETFROM:-0500
TZOFFSETTO:-0600
TZNAME:CST
DTSTART:20281105T070000
END:STANDARD
BEGIN:DAYLIGHT
TZOFFSETFROM:-0600
TZOFFSETTO:-0500
TZNAME:CDT
DTSTART:20290311T080000
END:DAYLIGHT
BEGIN:STANDARD
TZOFFSETFROM:-0500
TZOFFSETTO:-0600
TZNAME:CST
DTSTART:20291104T070000
END:STANDARD
END:VTIMEZONE
BEGIN:VEVENT
DTSTART;TZID=America/Chicago:20280822T130000
DTEND;TZID=America/Chicago:20280822T140000
DTSTAMP:20260423T091355
CREATED:20260113T163457Z
LAST-MODIFIED:20260205T162542Z
UID:10004763-1850562000-1850565600@www.fumcrockport.org
SUMMARY:Chancel Choir Practice (Choir Room)
DESCRIPTION:
URL:https://www.fumcrockport.org/event/chancel-choir-practice-choir-room-2/2028-08-22/
END:VEVENT
BEGIN:VEVENT
DTSTART;TZID=America/Chicago:20280823T173000
DTEND;TZID=America/Chicago:20280823T183000
DTSTAMP:20260423T091355
CREATED:20250410T180559Z
LAST-MODIFIED:20260205T162816Z
UID:10003047-1850664600-1850668200@www.fumcrockport.org
SUMMARY:Praise Team Practice (Choir Room)
DESCRIPTION:
URL:https://www.fumcrockport.org/event/praise-team-practice-choir-room/2028-08-23/
END:VEVENT
BEGIN:VEVENT
DTSTART;TZID=America/Chicago:20280824T100000
DTEND;TZID=America/Chicago:20280824T110000
DTSTAMP:20260423T091355
CREATED:20250410T172809Z
LAST-MODIFIED:20250410T172809Z
UID:10002197-1850724000-1850727600@www.fumcrockport.org
SUMMARY:Seniorcise (FH 1)
DESCRIPTION:
URL:https://www.fumcrockport.org/event/seniorcise-fh-1/2028-08-24/
END:VEVENT
BEGIN:VEVENT
DTSTART;TZID=America/Chicago:20280827T091500
DTEND;TZID=America/Chicago:20280827T220000
DTSTAMP:20260423T091355
CREATED:20250508T172022Z
LAST-MODIFIED:20260205T162701Z
UID:10004490-1850980500-1851026400@www.fumcrockport.org
SUMMARY:Cross Talk Sunday School Class
DESCRIPTION:
URL:https://www.fumcrockport.org/event/cross-talk-sunday-school-class-2/2028-08-27/
END:VEVENT
BEGIN:VEVENT
DTSTART;TZID=America/Chicago:20280827T093000
DTEND;TZID=America/Chicago:20280827T103000
DTSTAMP:20260423T091355
CREATED:20250410T171448Z
LAST-MODIFIED:20250410T171448Z
UID:10000281-1850981400-1850985000@www.fumcrockport.org
SUMMARY:Truth Seekers Sunday School Class
DESCRIPTION:
URL:https://www.fumcrockport.org/event/truth-seekers-sunday-school-class/2028-08-27/
END:VEVENT
BEGIN:VEVENT
DTSTART;TZID=America/Chicago:20280827T104500
DTEND;TZID=America/Chicago:20280827T234500
DTSTAMP:20260423T091355
CREATED:20250410T171603Z
LAST-MODIFIED:20250410T171603Z
UID:10000542-1850985900-1851032700@www.fumcrockport.org
SUMMARY:Together in Spirit Worship Service
DESCRIPTION:
URL:https://www.fumcrockport.org/event/together-in-spirit-worship-service/2028-08-27/
END:VEVENT
BEGIN:VEVENT
DTSTART;TZID=America/Chicago:20280827T180000
DTEND;TZID=America/Chicago:20280827T190000
DTSTAMP:20260423T091355
CREATED:20250410T171649Z
LAST-MODIFIED:20260205T162923Z
UID:10000803-1851012000-1851015600@www.fumcrockport.org
SUMMARY:Living Water Spanish Worship Service
DESCRIPTION:
URL:https://www.fumcrockport.org/event/living-water-spanish-worship-service/2028-08-27/
END:VEVENT
BEGIN:VEVENT
DTSTART;TZID=America/Chicago:20280828T100000
DTEND;TZID=America/Chicago:20280828T110000
DTSTAMP:20260423T091355
CREATED:20250410T172809Z
LAST-MODIFIED:20250410T172809Z
UID:10002198-1851069600-1851073200@www.fumcrockport.org
SUMMARY:Seniorcise (FH 1)
DESCRIPTION:
URL:https://www.fumcrockport.org/event/seniorcise-fh-1/2028-08-28/
END:VEVENT
BEGIN:VEVENT
DTSTART;TZID=America/Chicago:20280828T130000
DTEND;TZID=America/Chicago:20280828T140000
DTSTAMP:20260423T091355
CREATED:20250410T174040Z
LAST-MODIFIED:20260205T162747Z
UID:10002852-1851080400-1851084000@www.fumcrockport.org
SUMMARY:Prescription Assistance (Conf. Room)
DESCRIPTION:
URL:https://www.fumcrockport.org/event/prescription-assistance-conf-room/2028-08-28/
END:VEVENT
BEGIN:VEVENT
DTSTART;TZID=America/Chicago:20280829T100000
DTEND;TZID=America/Chicago:20280829T110000
DTSTAMP:20260423T091355
CREATED:20250410T172809Z
LAST-MODIFIED:20250410T172809Z
UID:10002199-1851156000-1851159600@www.fumcrockport.org
SUMMARY:Seniorcise (FH 1)
DESCRIPTION:
URL:https://www.fumcrockport.org/event/seniorcise-fh-1/2028-08-29/
END:VEVENT
BEGIN:VEVENT
DTSTART;TZID=America/Chicago:20280829T130000
DTEND;TZID=America/Chicago:20280829T140000
DTSTAMP:20260423T091355
CREATED:20260113T163457Z
LAST-MODIFIED:20260205T162542Z
UID:10004764-1851166800-1851170400@www.fumcrockport.org
SUMMARY:Chancel Choir Practice (Choir Room)
DESCRIPTION:
URL:https://www.fumcrockport.org/event/chancel-choir-practice-choir-room-2/2028-08-29/
END:VEVENT
BEGIN:VEVENT
DTSTART;TZID=America/Chicago:20280830T173000
DTEND;TZID=America/Chicago:20280830T183000
DTSTAMP:20260423T091355
CREATED:20250410T180559Z
LAST-MODIFIED:20260205T162816Z
UID:10003048-1851269400-1851273000@www.fumcrockport.org
SUMMARY:Praise Team Practice (Choir Room)
DESCRIPTION:
URL:https://www.fumcrockport.org/event/praise-team-practice-choir-room/2028-08-30/
END:VEVENT
BEGIN:VEVENT
DTSTART;TZID=America/Chicago:20280831T100000
DTEND;TZID=America/Chicago:20280831T110000
DTSTAMP:20260423T091355
CREATED:20250410T172809Z
LAST-MODIFIED:20250410T172809Z
UID:10002200-1851328800-1851332400@www.fumcrockport.org
SUMMARY:Seniorcise (FH 1)
DESCRIPTION:
URL:https://www.fumcrockport.org/event/seniorcise-fh-1/2028-08-31/
END:VEVENT
BEGIN:VEVENT
DTSTART;TZID=America/Chicago:20280903T091500
DTEND;TZID=America/Chicago:20280903T220000
DTSTAMP:20260423T091355
CREATED:20250508T172022Z
LAST-MODIFIED:20260205T162701Z
UID:10004491-1851585300-1851631200@www.fumcrockport.org
SUMMARY:Cross Talk Sunday School Class
DESCRIPTION:
URL:https://www.fumcrockport.org/event/cross-talk-sunday-school-class-2/2028-09-03/
END:VEVENT
BEGIN:VEVENT
DTSTART;TZID=America/Chicago:20280903T093000
DTEND;TZID=America/Chicago:20280903T103000
DTSTAMP:20260423T091355
CREATED:20250410T171448Z
LAST-MODIFIED:20250410T171448Z
UID:10000282-1851586200-1851589800@www.fumcrockport.org
SUMMARY:Truth Seekers Sunday School Class
DESCRIPTION:
URL:https://www.fumcrockport.org/event/truth-seekers-sunday-school-class/2028-09-03/
END:VEVENT
BEGIN:VEVENT
DTSTART;TZID=America/Chicago:20280903T104500
DTEND;TZID=America/Chicago:20280903T234500
DTSTAMP:20260423T091355
CREATED:20250410T171603Z
LAST-MODIFIED:20250410T171603Z
UID:10000543-1851590700-1851637500@www.fumcrockport.org
SUMMARY:Together in Spirit Worship Service
DESCRIPTION:
URL:https://www.fumcrockport.org/event/together-in-spirit-worship-service/2028-09-03/
END:VEVENT
BEGIN:VEVENT
DTSTART;TZID=America/Chicago:20280903T180000
DTEND;TZID=America/Chicago:20280903T190000
DTSTAMP:20260423T091355
CREATED:20250410T171649Z
LAST-MODIFIED:20260205T162923Z
UID:10000804-1851616800-1851620400@www.fumcrockport.org
SUMMARY:Living Water Spanish Worship Service
DESCRIPTION:
URL:https://www.fumcrockport.org/event/living-water-spanish-worship-service/2028-09-03/
END:VEVENT
BEGIN:VEVENT
DTSTART;TZID=America/Chicago:20280904T100000
DTEND;TZID=America/Chicago:20280904T110000
DTSTAMP:20260423T091355
CREATED:20250410T172809Z
LAST-MODIFIED:20250410T172809Z
UID:10002201-1851674400-1851678000@www.fumcrockport.org
SUMMARY:Seniorcise (FH 1)
DESCRIPTION:
URL:https://www.fumcrockport.org/event/seniorcise-fh-1/2028-09-04/
END:VEVENT
BEGIN:VEVENT
DTSTART;TZID=America/Chicago:20280905T100000
DTEND;TZID=America/Chicago:20280905T110000
DTSTAMP:20260423T091355
CREATED:20250410T172809Z
LAST-MODIFIED:20250410T172809Z
UID:10002202-1851760800-1851764400@www.fumcrockport.org
SUMMARY:Seniorcise (FH 1)
DESCRIPTION:
URL:https://www.fumcrockport.org/event/seniorcise-fh-1/2028-09-05/
END:VEVENT
BEGIN:VEVENT
DTSTART;TZID=America/Chicago:20280905T130000
DTEND;TZID=America/Chicago:20280905T140000
DTSTAMP:20260423T091355
CREATED:20260113T163457Z
LAST-MODIFIED:20260205T162542Z
UID:10004765-1851771600-1851775200@www.fumcrockport.org
SUMMARY:Chancel Choir Practice (Choir Room)
DESCRIPTION:
URL:https://www.fumcrockport.org/event/chancel-choir-practice-choir-room-2/2028-09-05/
END:VEVENT
BEGIN:VEVENT
DTSTART;TZID=America/Chicago:20280905T163000
DTEND;TZID=America/Chicago:20280905T173000
DTSTAMP:20260423T091355
CREATED:20250410T173434Z
LAST-MODIFIED:20260205T162723Z
UID:10003771-1851784200-1851787800@www.fumcrockport.org
SUMMARY:Community Table (First Presbyterian Church)
DESCRIPTION:
URL:https://www.fumcrockport.org/event/community-table-first-presbyterian-church-2/2028-09-05/
END:VEVENT
BEGIN:VEVENT
DTSTART;TZID=America/Chicago:20280906T173000
DTEND;TZID=America/Chicago:20280906T183000
DTSTAMP:20260423T091355
CREATED:20250410T180559Z
LAST-MODIFIED:20260205T162816Z
UID:10003049-1851874200-1851877800@www.fumcrockport.org
SUMMARY:Praise Team Practice (Choir Room)
DESCRIPTION:
URL:https://www.fumcrockport.org/event/praise-team-practice-choir-room/2028-09-06/
END:VEVENT
BEGIN:VEVENT
DTSTART;TZID=America/Chicago:20280907T100000
DTEND;TZID=America/Chicago:20280907T110000
DTSTAMP:20260423T091355
CREATED:20250410T172809Z
LAST-MODIFIED:20250410T172809Z
UID:10002203-1851933600-1851937200@www.fumcrockport.org
SUMMARY:Seniorcise (FH 1)
DESCRIPTION:
URL:https://www.fumcrockport.org/event/seniorcise-fh-1/2028-09-07/
END:VEVENT
BEGIN:VEVENT
DTSTART;TZID=America/Chicago:20280910T091500
DTEND;TZID=America/Chicago:20280910T220000
DTSTAMP:20260423T091355
CREATED:20250508T172022Z
LAST-MODIFIED:20260205T162701Z
UID:10004492-1852190100-1852236000@www.fumcrockport.org
SUMMARY:Cross Talk Sunday School Class
DESCRIPTION:
URL:https://www.fumcrockport.org/event/cross-talk-sunday-school-class-2/2028-09-10/
END:VEVENT
BEGIN:VEVENT
DTSTART;TZID=America/Chicago:20280910T093000
DTEND;TZID=America/Chicago:20280910T103000
DTSTAMP:20260423T091355
CREATED:20250410T171448Z
LAST-MODIFIED:20250410T171448Z
UID:10000283-1852191000-1852194600@www.fumcrockport.org
SUMMARY:Truth Seekers Sunday School Class
DESCRIPTION:
URL:https://www.fumcrockport.org/event/truth-seekers-sunday-school-class/2028-09-10/
END:VEVENT
BEGIN:VEVENT
DTSTART;TZID=America/Chicago:20280910T104500
DTEND;TZID=America/Chicago:20280910T234500
DTSTAMP:20260423T091355
CREATED:20250410T171603Z
LAST-MODIFIED:20250410T171603Z
UID:10000544-1852195500-1852242300@www.fumcrockport.org
SUMMARY:Together in Spirit Worship Service
DESCRIPTION:
URL:https://www.fumcrockport.org/event/together-in-spirit-worship-service/2028-09-10/
END:VEVENT
BEGIN:VEVENT
DTSTART;TZID=America/Chicago:20280910T180000
DTEND;TZID=America/Chicago:20280910T190000
DTSTAMP:20260423T091355
CREATED:20250410T171649Z
LAST-MODIFIED:20260205T162923Z
UID:10000805-1852221600-1852225200@www.fumcrockport.org
SUMMARY:Living Water Spanish Worship Service
DESCRIPTION:
URL:https://www.fumcrockport.org/event/living-water-spanish-worship-service/2028-09-10/
END:VEVENT
BEGIN:VEVENT
DTSTART;TZID=America/Chicago:20280911T100000
DTEND;TZID=America/Chicago:20280911T110000
DTSTAMP:20260423T091355
CREATED:20250410T172809Z
LAST-MODIFIED:20250410T172809Z
UID:10002204-1852279200-1852282800@www.fumcrockport.org
SUMMARY:Seniorcise (FH 1)
DESCRIPTION:
URL:https://www.fumcrockport.org/event/seniorcise-fh-1/2028-09-11/
END:VEVENT
BEGIN:VEVENT
DTSTART;TZID=America/Chicago:20280911T130000
DTEND;TZID=America/Chicago:20280911T140000
DTSTAMP:20260423T091355
CREATED:20250410T174137Z
LAST-MODIFIED:20260205T162632Z
UID:10002732-1852290000-1852293600@www.fumcrockport.org
SUMMARY:Prescription Assistance (Conf. Room)
DESCRIPTION:
URL:https://www.fumcrockport.org/event/prescription-assistance-conf-room-2/2028-09-11/
END:VEVENT
BEGIN:VEVENT
DTSTART;TZID=America/Chicago:20280912T100000
DTEND;TZID=America/Chicago:20280912T110000
DTSTAMP:20260423T091355
CREATED:20250410T172809Z
LAST-MODIFIED:20250410T172809Z
UID:10002205-1852365600-1852369200@www.fumcrockport.org
SUMMARY:Seniorcise (FH 1)
DESCRIPTION:
URL:https://www.fumcrockport.org/event/seniorcise-fh-1/2028-09-12/
END:VEVENT
END:VCALENDAR