BEGIN:VCALENDAR
VERSION:2.0
PRODID:-//First United Methodist Church - ECPv6.15.16//NONSGML v1.0//EN
CALSCALE:GREGORIAN
METHOD:PUBLISH
X-WR-CALNAME:First United Methodist Church
X-ORIGINAL-URL:https://www.fumcrockport.org
X-WR-CALDESC:Events for First United Methodist Church
REFRESH-INTERVAL;VALUE=DURATION:PT1H
X-Robots-Tag:noindex
X-PUBLISHED-TTL:PT1H
BEGIN:VTIMEZONE
TZID:America/Chicago
BEGIN:DAYLIGHT
TZOFFSETFROM:-0600
TZOFFSETTO:-0500
TZNAME:CDT
DTSTART:20270314T080000
END:DAYLIGHT
BEGIN:STANDARD
TZOFFSETFROM:-0500
TZOFFSETTO:-0600
TZNAME:CST
DTSTART:20271107T070000
END:STANDARD
BEGIN:DAYLIGHT
TZOFFSETFROM:-0600
TZOFFSETTO:-0500
TZNAME:CDT
DTSTART:20280312T080000
END:DAYLIGHT
BEGIN:STANDARD
TZOFFSETFROM:-0500
TZOFFSETTO:-0600
TZNAME:CST
DTSTART:20281105T070000
END:STANDARD
BEGIN:DAYLIGHT
TZOFFSETFROM:-0600
TZOFFSETTO:-0500
TZNAME:CDT
DTSTART:20290311T080000
END:DAYLIGHT
BEGIN:STANDARD
TZOFFSETFROM:-0500
TZOFFSETTO:-0600
TZNAME:CST
DTSTART:20291104T070000
END:STANDARD
END:VTIMEZONE
BEGIN:VEVENT
DTSTART;TZID=America/Chicago:20280917T091500
DTEND;TZID=America/Chicago:20280917T220000
DTSTAMP:20260423T134132
CREATED:20250508T172022Z
LAST-MODIFIED:20260205T162701Z
UID:10004493-1852794900-1852840800@www.fumcrockport.org
SUMMARY:Cross Talk Sunday School Class
DESCRIPTION:
URL:https://www.fumcrockport.org/event/cross-talk-sunday-school-class-2/2028-09-17/
END:VEVENT
BEGIN:VEVENT
DTSTART;TZID=America/Chicago:20280917T093000
DTEND;TZID=America/Chicago:20280917T103000
DTSTAMP:20260423T134132
CREATED:20250410T171448Z
LAST-MODIFIED:20250410T171448Z
UID:10000284-1852795800-1852799400@www.fumcrockport.org
SUMMARY:Truth Seekers Sunday School Class
DESCRIPTION:
URL:https://www.fumcrockport.org/event/truth-seekers-sunday-school-class/2028-09-17/
END:VEVENT
BEGIN:VEVENT
DTSTART;TZID=America/Chicago:20280917T104500
DTEND;TZID=America/Chicago:20280917T234500
DTSTAMP:20260423T134132
CREATED:20250410T171603Z
LAST-MODIFIED:20250410T171603Z
UID:10000545-1852800300-1852847100@www.fumcrockport.org
SUMMARY:Together in Spirit Worship Service
DESCRIPTION:
URL:https://www.fumcrockport.org/event/together-in-spirit-worship-service/2028-09-17/
END:VEVENT
BEGIN:VEVENT
DTSTART;TZID=America/Chicago:20280917T180000
DTEND;TZID=America/Chicago:20280917T190000
DTSTAMP:20260423T134132
CREATED:20250410T171649Z
LAST-MODIFIED:20260205T162923Z
UID:10000806-1852826400-1852830000@www.fumcrockport.org
SUMMARY:Living Water Spanish Worship Service
DESCRIPTION:
URL:https://www.fumcrockport.org/event/living-water-spanish-worship-service/2028-09-17/
END:VEVENT
BEGIN:VEVENT
DTSTART;TZID=America/Chicago:20280918T100000
DTEND;TZID=America/Chicago:20280918T110000
DTSTAMP:20260423T134132
CREATED:20250410T172809Z
LAST-MODIFIED:20250410T172809Z
UID:10002207-1852884000-1852887600@www.fumcrockport.org
SUMMARY:Seniorcise (FH 1)
DESCRIPTION:
URL:https://www.fumcrockport.org/event/seniorcise-fh-1/2028-09-18/
END:VEVENT
BEGIN:VEVENT
DTSTART;TZID=America/Chicago:20280919T100000
DTEND;TZID=America/Chicago:20280919T110000
DTSTAMP:20260423T134132
CREATED:20250410T172809Z
LAST-MODIFIED:20250410T172809Z
UID:10002208-1852970400-1852974000@www.fumcrockport.org
SUMMARY:Seniorcise (FH 1)
DESCRIPTION:
URL:https://www.fumcrockport.org/event/seniorcise-fh-1/2028-09-19/
END:VEVENT
BEGIN:VEVENT
DTSTART;TZID=America/Chicago:20280919T130000
DTEND;TZID=America/Chicago:20280919T140000
DTSTAMP:20260423T134132
CREATED:20260113T163457Z
LAST-MODIFIED:20260205T162542Z
UID:10004767-1852981200-1852984800@www.fumcrockport.org
SUMMARY:Chancel Choir Practice (Choir Room)
DESCRIPTION:
URL:https://www.fumcrockport.org/event/chancel-choir-practice-choir-room-2/2028-09-19/
END:VEVENT
BEGIN:VEVENT
DTSTART;TZID=America/Chicago:20280919T160000
DTEND;TZID=America/Chicago:20280919T170000
DTSTAMP:20260423T134132
CREATED:20250410T173342Z
LAST-MODIFIED:20260205T163000Z
UID:10002613-1852992000-1852995600@www.fumcrockport.org
SUMMARY:Community Table (First Presbyterian Church)
DESCRIPTION:
URL:https://www.fumcrockport.org/event/community-table-first-presbyterian-church/2028-09-19/
END:VEVENT
BEGIN:VEVENT
DTSTART;TZID=America/Chicago:20280920T173000
DTEND;TZID=America/Chicago:20280920T183000
DTSTAMP:20260423T134132
CREATED:20250410T180559Z
LAST-MODIFIED:20260205T162816Z
UID:10003051-1853083800-1853087400@www.fumcrockport.org
SUMMARY:Praise Team Practice (Choir Room)
DESCRIPTION:
URL:https://www.fumcrockport.org/event/praise-team-practice-choir-room/2028-09-20/
END:VEVENT
BEGIN:VEVENT
DTSTART;TZID=America/Chicago:20280921T100000
DTEND;TZID=America/Chicago:20280921T110000
DTSTAMP:20260423T134132
CREATED:20250410T172809Z
LAST-MODIFIED:20250410T172809Z
UID:10002209-1853143200-1853146800@www.fumcrockport.org
SUMMARY:Seniorcise (FH 1)
DESCRIPTION:
URL:https://www.fumcrockport.org/event/seniorcise-fh-1/2028-09-21/
END:VEVENT
BEGIN:VEVENT
DTSTART;TZID=America/Chicago:20280924T091500
DTEND;TZID=America/Chicago:20280924T220000
DTSTAMP:20260423T134132
CREATED:20250508T172022Z
LAST-MODIFIED:20260205T162701Z
UID:10004494-1853399700-1853445600@www.fumcrockport.org
SUMMARY:Cross Talk Sunday School Class
DESCRIPTION:
URL:https://www.fumcrockport.org/event/cross-talk-sunday-school-class-2/2028-09-24/
END:VEVENT
BEGIN:VEVENT
DTSTART;TZID=America/Chicago:20280924T093000
DTEND;TZID=America/Chicago:20280924T103000
DTSTAMP:20260423T134132
CREATED:20250410T171448Z
LAST-MODIFIED:20250410T171448Z
UID:10000285-1853400600-1853404200@www.fumcrockport.org
SUMMARY:Truth Seekers Sunday School Class
DESCRIPTION:
URL:https://www.fumcrockport.org/event/truth-seekers-sunday-school-class/2028-09-24/
END:VEVENT
BEGIN:VEVENT
DTSTART;TZID=America/Chicago:20280924T104500
DTEND;TZID=America/Chicago:20280924T234500
DTSTAMP:20260423T134132
CREATED:20250410T171603Z
LAST-MODIFIED:20250410T171603Z
UID:10000546-1853405100-1853451900@www.fumcrockport.org
SUMMARY:Together in Spirit Worship Service
DESCRIPTION:
URL:https://www.fumcrockport.org/event/together-in-spirit-worship-service/2028-09-24/
END:VEVENT
BEGIN:VEVENT
DTSTART;TZID=America/Chicago:20280924T180000
DTEND;TZID=America/Chicago:20280924T190000
DTSTAMP:20260423T134132
CREATED:20250410T171649Z
LAST-MODIFIED:20260205T162923Z
UID:10000807-1853431200-1853434800@www.fumcrockport.org
SUMMARY:Living Water Spanish Worship Service
DESCRIPTION:
URL:https://www.fumcrockport.org/event/living-water-spanish-worship-service/2028-09-24/
END:VEVENT
BEGIN:VEVENT
DTSTART;TZID=America/Chicago:20280925T100000
DTEND;TZID=America/Chicago:20280925T110000
DTSTAMP:20260423T134132
CREATED:20250410T172809Z
LAST-MODIFIED:20250410T172809Z
UID:10002210-1853488800-1853492400@www.fumcrockport.org
SUMMARY:Seniorcise (FH 1)
DESCRIPTION:
URL:https://www.fumcrockport.org/event/seniorcise-fh-1/2028-09-25/
END:VEVENT
BEGIN:VEVENT
DTSTART;TZID=America/Chicago:20280925T130000
DTEND;TZID=America/Chicago:20280925T140000
DTSTAMP:20260423T134132
CREATED:20250410T174040Z
LAST-MODIFIED:20260205T162747Z
UID:10002853-1853499600-1853503200@www.fumcrockport.org
SUMMARY:Prescription Assistance (Conf. Room)
DESCRIPTION:
URL:https://www.fumcrockport.org/event/prescription-assistance-conf-room/2028-09-25/
END:VEVENT
BEGIN:VEVENT
DTSTART;TZID=America/Chicago:20280926T100000
DTEND;TZID=America/Chicago:20280926T110000
DTSTAMP:20260423T134132
CREATED:20250410T172809Z
LAST-MODIFIED:20250410T172809Z
UID:10002211-1853575200-1853578800@www.fumcrockport.org
SUMMARY:Seniorcise (FH 1)
DESCRIPTION:
URL:https://www.fumcrockport.org/event/seniorcise-fh-1/2028-09-26/
END:VEVENT
BEGIN:VEVENT
DTSTART;TZID=America/Chicago:20280926T130000
DTEND;TZID=America/Chicago:20280926T140000
DTSTAMP:20260423T134132
CREATED:20260113T163457Z
LAST-MODIFIED:20260205T162542Z
UID:10004768-1853586000-1853589600@www.fumcrockport.org
SUMMARY:Chancel Choir Practice (Choir Room)
DESCRIPTION:
URL:https://www.fumcrockport.org/event/chancel-choir-practice-choir-room-2/2028-09-26/
END:VEVENT
BEGIN:VEVENT
DTSTART;TZID=America/Chicago:20280927T173000
DTEND;TZID=America/Chicago:20280927T183000
DTSTAMP:20260423T134132
CREATED:20250410T180559Z
LAST-MODIFIED:20260205T162816Z
UID:10003052-1853688600-1853692200@www.fumcrockport.org
SUMMARY:Praise Team Practice (Choir Room)
DESCRIPTION:
URL:https://www.fumcrockport.org/event/praise-team-practice-choir-room/2028-09-27/
END:VEVENT
BEGIN:VEVENT
DTSTART;TZID=America/Chicago:20280928T100000
DTEND;TZID=America/Chicago:20280928T110000
DTSTAMP:20260423T134132
CREATED:20250410T172809Z
LAST-MODIFIED:20250410T172809Z
UID:10002212-1853748000-1853751600@www.fumcrockport.org
SUMMARY:Seniorcise (FH 1)
DESCRIPTION:
URL:https://www.fumcrockport.org/event/seniorcise-fh-1/2028-09-28/
END:VEVENT
BEGIN:VEVENT
DTSTART;TZID=America/Chicago:20281001T091500
DTEND;TZID=America/Chicago:20281001T220000
DTSTAMP:20260423T134132
CREATED:20250508T172022Z
LAST-MODIFIED:20260205T162701Z
UID:10004495-1854004500-1854050400@www.fumcrockport.org
SUMMARY:Cross Talk Sunday School Class
DESCRIPTION:
URL:https://www.fumcrockport.org/event/cross-talk-sunday-school-class-2/2028-10-01/
END:VEVENT
BEGIN:VEVENT
DTSTART;TZID=America/Chicago:20281001T093000
DTEND;TZID=America/Chicago:20281001T103000
DTSTAMP:20260423T134132
CREATED:20250410T171448Z
LAST-MODIFIED:20250410T171448Z
UID:10000286-1854005400-1854009000@www.fumcrockport.org
SUMMARY:Truth Seekers Sunday School Class
DESCRIPTION:
URL:https://www.fumcrockport.org/event/truth-seekers-sunday-school-class/2028-10-01/
END:VEVENT
BEGIN:VEVENT
DTSTART;TZID=America/Chicago:20281001T104500
DTEND;TZID=America/Chicago:20281001T234500
DTSTAMP:20260423T134132
CREATED:20250410T171603Z
LAST-MODIFIED:20250410T171603Z
UID:10000547-1854009900-1854056700@www.fumcrockport.org
SUMMARY:Together in Spirit Worship Service
DESCRIPTION:
URL:https://www.fumcrockport.org/event/together-in-spirit-worship-service/2028-10-01/
END:VEVENT
BEGIN:VEVENT
DTSTART;TZID=America/Chicago:20281001T180000
DTEND;TZID=America/Chicago:20281001T190000
DTSTAMP:20260423T134132
CREATED:20250410T171649Z
LAST-MODIFIED:20260205T162923Z
UID:10000808-1854036000-1854039600@www.fumcrockport.org
SUMMARY:Living Water Spanish Worship Service
DESCRIPTION:
URL:https://www.fumcrockport.org/event/living-water-spanish-worship-service/2028-10-01/
END:VEVENT
BEGIN:VEVENT
DTSTART;TZID=America/Chicago:20281002T100000
DTEND;TZID=America/Chicago:20281002T110000
DTSTAMP:20260423T134132
CREATED:20250410T172809Z
LAST-MODIFIED:20250410T172809Z
UID:10002213-1854093600-1854097200@www.fumcrockport.org
SUMMARY:Seniorcise (FH 1)
DESCRIPTION:
URL:https://www.fumcrockport.org/event/seniorcise-fh-1/2028-10-02/
END:VEVENT
BEGIN:VEVENT
DTSTART;TZID=America/Chicago:20281003T100000
DTEND;TZID=America/Chicago:20281003T110000
DTSTAMP:20260423T134132
CREATED:20250410T172809Z
LAST-MODIFIED:20250410T172809Z
UID:10002214-1854180000-1854183600@www.fumcrockport.org
SUMMARY:Seniorcise (FH 1)
DESCRIPTION:
URL:https://www.fumcrockport.org/event/seniorcise-fh-1/2028-10-03/
END:VEVENT
BEGIN:VEVENT
DTSTART;TZID=America/Chicago:20281003T130000
DTEND;TZID=America/Chicago:20281003T140000
DTSTAMP:20260423T134132
CREATED:20260113T163457Z
LAST-MODIFIED:20260205T162542Z
UID:10004769-1854190800-1854194400@www.fumcrockport.org
SUMMARY:Chancel Choir Practice (Choir Room)
DESCRIPTION:
URL:https://www.fumcrockport.org/event/chancel-choir-practice-choir-room-2/2028-10-03/
END:VEVENT
BEGIN:VEVENT
DTSTART;TZID=America/Chicago:20281003T163000
DTEND;TZID=America/Chicago:20281003T173000
DTSTAMP:20260423T134132
CREATED:20250410T173434Z
LAST-MODIFIED:20260205T162723Z
UID:10003772-1854203400-1854207000@www.fumcrockport.org
SUMMARY:Community Table (First Presbyterian Church)
DESCRIPTION:
URL:https://www.fumcrockport.org/event/community-table-first-presbyterian-church-2/2028-10-03/
END:VEVENT
BEGIN:VEVENT
DTSTART;TZID=America/Chicago:20281004T173000
DTEND;TZID=America/Chicago:20281004T183000
DTSTAMP:20260423T134132
CREATED:20250410T180559Z
LAST-MODIFIED:20260205T162816Z
UID:10003053-1854293400-1854297000@www.fumcrockport.org
SUMMARY:Praise Team Practice (Choir Room)
DESCRIPTION:
URL:https://www.fumcrockport.org/event/praise-team-practice-choir-room/2028-10-04/
END:VEVENT
BEGIN:VEVENT
DTSTART;TZID=America/Chicago:20281005T100000
DTEND;TZID=America/Chicago:20281005T110000
DTSTAMP:20260423T134132
CREATED:20250410T172809Z
LAST-MODIFIED:20250410T172809Z
UID:10002215-1854352800-1854356400@www.fumcrockport.org
SUMMARY:Seniorcise (FH 1)
DESCRIPTION:
URL:https://www.fumcrockport.org/event/seniorcise-fh-1/2028-10-05/
END:VEVENT
END:VCALENDAR