BEGIN:VCALENDAR
VERSION:2.0
PRODID:-//First United Methodist Church - ECPv6.15.16//NONSGML v1.0//EN
CALSCALE:GREGORIAN
METHOD:PUBLISH
X-ORIGINAL-URL:https://www.fumcrockport.org
X-WR-CALDESC:Events for First United Methodist Church
REFRESH-INTERVAL;VALUE=DURATION:PT1H
X-Robots-Tag:noindex
X-PUBLISHED-TTL:PT1H
BEGIN:VTIMEZONE
TZID:America/Chicago
BEGIN:DAYLIGHT
TZOFFSETFROM:-0600
TZOFFSETTO:-0500
TZNAME:CDT
DTSTART:20270314T080000
END:DAYLIGHT
BEGIN:STANDARD
TZOFFSETFROM:-0500
TZOFFSETTO:-0600
TZNAME:CST
DTSTART:20271107T070000
END:STANDARD
BEGIN:DAYLIGHT
TZOFFSETFROM:-0600
TZOFFSETTO:-0500
TZNAME:CDT
DTSTART:20280312T080000
END:DAYLIGHT
BEGIN:STANDARD
TZOFFSETFROM:-0500
TZOFFSETTO:-0600
TZNAME:CST
DTSTART:20281105T070000
END:STANDARD
BEGIN:DAYLIGHT
TZOFFSETFROM:-0600
TZOFFSETTO:-0500
TZNAME:CDT
DTSTART:20290311T080000
END:DAYLIGHT
BEGIN:STANDARD
TZOFFSETFROM:-0500
TZOFFSETTO:-0600
TZNAME:CST
DTSTART:20291104T070000
END:STANDARD
END:VTIMEZONE
BEGIN:VEVENT
DTSTART;TZID=America/Chicago:20281017T160000
DTEND;TZID=America/Chicago:20281017T170000
DTSTAMP:20260423T184038
CREATED:20250410T173342Z
LAST-MODIFIED:20260205T163000Z
UID:10002614-1855411200-1855414800@www.fumcrockport.org
SUMMARY:Community Table (First Presbyterian Church)
DESCRIPTION:
URL:https://www.fumcrockport.org/event/community-table-first-presbyterian-church/2028-10-17/
END:VEVENT
BEGIN:VEVENT
DTSTART;TZID=America/Chicago:20281018T173000
DTEND;TZID=America/Chicago:20281018T183000
DTSTAMP:20260423T184038
CREATED:20250410T180559Z
LAST-MODIFIED:20260205T162816Z
UID:10003055-1855503000-1855506600@www.fumcrockport.org
SUMMARY:Praise Team Practice (Choir Room)
DESCRIPTION:
URL:https://www.fumcrockport.org/event/praise-team-practice-choir-room/2028-10-18/
END:VEVENT
BEGIN:VEVENT
DTSTART;TZID=America/Chicago:20281019T100000
DTEND;TZID=America/Chicago:20281019T110000
DTSTAMP:20260423T184038
CREATED:20250410T172809Z
LAST-MODIFIED:20250410T172809Z
UID:10002221-1855562400-1855566000@www.fumcrockport.org
SUMMARY:Seniorcise (FH 1)
DESCRIPTION:
URL:https://www.fumcrockport.org/event/seniorcise-fh-1/2028-10-19/
END:VEVENT
BEGIN:VEVENT
DTSTART;TZID=America/Chicago:20281022T091500
DTEND;TZID=America/Chicago:20281022T220000
DTSTAMP:20260423T184038
CREATED:20250508T172022Z
LAST-MODIFIED:20260205T162701Z
UID:10004498-1855818900-1855864800@www.fumcrockport.org
SUMMARY:Cross Talk Sunday School Class
DESCRIPTION:
URL:https://www.fumcrockport.org/event/cross-talk-sunday-school-class-2/2028-10-22/
END:VEVENT
BEGIN:VEVENT
DTSTART;TZID=America/Chicago:20281022T093000
DTEND;TZID=America/Chicago:20281022T103000
DTSTAMP:20260423T184038
CREATED:20250410T171448Z
LAST-MODIFIED:20250410T171448Z
UID:10000289-1855819800-1855823400@www.fumcrockport.org
SUMMARY:Truth Seekers Sunday School Class
DESCRIPTION:
URL:https://www.fumcrockport.org/event/truth-seekers-sunday-school-class/2028-10-22/
END:VEVENT
BEGIN:VEVENT
DTSTART;TZID=America/Chicago:20281022T104500
DTEND;TZID=America/Chicago:20281022T234500
DTSTAMP:20260423T184038
CREATED:20250410T171603Z
LAST-MODIFIED:20250410T171603Z
UID:10000550-1855824300-1855871100@www.fumcrockport.org
SUMMARY:Together in Spirit Worship Service
DESCRIPTION:
URL:https://www.fumcrockport.org/event/together-in-spirit-worship-service/2028-10-22/
END:VEVENT
BEGIN:VEVENT
DTSTART;TZID=America/Chicago:20281022T180000
DTEND;TZID=America/Chicago:20281022T190000
DTSTAMP:20260423T184038
CREATED:20250410T171649Z
LAST-MODIFIED:20260205T162923Z
UID:10000811-1855850400-1855854000@www.fumcrockport.org
SUMMARY:Living Water Spanish Worship Service
DESCRIPTION:
URL:https://www.fumcrockport.org/event/living-water-spanish-worship-service/2028-10-22/
END:VEVENT
BEGIN:VEVENT
DTSTART;TZID=America/Chicago:20281023T100000
DTEND;TZID=America/Chicago:20281023T110000
DTSTAMP:20260423T184038
CREATED:20250410T172809Z
LAST-MODIFIED:20250410T172809Z
UID:10002222-1855908000-1855911600@www.fumcrockport.org
SUMMARY:Seniorcise (FH 1)
DESCRIPTION:
URL:https://www.fumcrockport.org/event/seniorcise-fh-1/2028-10-23/
END:VEVENT
BEGIN:VEVENT
DTSTART;TZID=America/Chicago:20281023T130000
DTEND;TZID=America/Chicago:20281023T140000
DTSTAMP:20260423T184038
CREATED:20250410T174040Z
LAST-MODIFIED:20260205T162747Z
UID:10002854-1855918800-1855922400@www.fumcrockport.org
SUMMARY:Prescription Assistance (Conf. Room)
DESCRIPTION:
URL:https://www.fumcrockport.org/event/prescription-assistance-conf-room/2028-10-23/
END:VEVENT
BEGIN:VEVENT
DTSTART;TZID=America/Chicago:20281024T100000
DTEND;TZID=America/Chicago:20281024T110000
DTSTAMP:20260423T184038
CREATED:20250410T172809Z
LAST-MODIFIED:20250410T172809Z
UID:10002223-1855994400-1855998000@www.fumcrockport.org
SUMMARY:Seniorcise (FH 1)
DESCRIPTION:
URL:https://www.fumcrockport.org/event/seniorcise-fh-1/2028-10-24/
END:VEVENT
BEGIN:VEVENT
DTSTART;TZID=America/Chicago:20281024T130000
DTEND;TZID=America/Chicago:20281024T140000
DTSTAMP:20260423T184038
CREATED:20260113T163457Z
LAST-MODIFIED:20260205T162542Z
UID:10004772-1856005200-1856008800@www.fumcrockport.org
SUMMARY:Chancel Choir Practice (Choir Room)
DESCRIPTION:
URL:https://www.fumcrockport.org/event/chancel-choir-practice-choir-room-2/2028-10-24/
END:VEVENT
BEGIN:VEVENT
DTSTART;TZID=America/Chicago:20281025T173000
DTEND;TZID=America/Chicago:20281025T183000
DTSTAMP:20260423T184038
CREATED:20250410T180559Z
LAST-MODIFIED:20260205T162816Z
UID:10003056-1856107800-1856111400@www.fumcrockport.org
SUMMARY:Praise Team Practice (Choir Room)
DESCRIPTION:
URL:https://www.fumcrockport.org/event/praise-team-practice-choir-room/2028-10-25/
END:VEVENT
BEGIN:VEVENT
DTSTART;TZID=America/Chicago:20281026T100000
DTEND;TZID=America/Chicago:20281026T110000
DTSTAMP:20260423T184038
CREATED:20250410T172809Z
LAST-MODIFIED:20250410T172809Z
UID:10002224-1856167200-1856170800@www.fumcrockport.org
SUMMARY:Seniorcise (FH 1)
DESCRIPTION:
URL:https://www.fumcrockport.org/event/seniorcise-fh-1/2028-10-26/
END:VEVENT
BEGIN:VEVENT
DTSTART;TZID=America/Chicago:20281029T091500
DTEND;TZID=America/Chicago:20281029T220000
DTSTAMP:20260423T184038
CREATED:20250508T172022Z
LAST-MODIFIED:20260205T162701Z
UID:10004499-1856423700-1856469600@www.fumcrockport.org
SUMMARY:Cross Talk Sunday School Class
DESCRIPTION:
URL:https://www.fumcrockport.org/event/cross-talk-sunday-school-class-2/2028-10-29/
END:VEVENT
BEGIN:VEVENT
DTSTART;TZID=America/Chicago:20281029T093000
DTEND;TZID=America/Chicago:20281029T103000
DTSTAMP:20260423T184038
CREATED:20250410T171448Z
LAST-MODIFIED:20250410T171448Z
UID:10000290-1856424600-1856428200@www.fumcrockport.org
SUMMARY:Truth Seekers Sunday School Class
DESCRIPTION:
URL:https://www.fumcrockport.org/event/truth-seekers-sunday-school-class/2028-10-29/
END:VEVENT
BEGIN:VEVENT
DTSTART;TZID=America/Chicago:20281029T104500
DTEND;TZID=America/Chicago:20281029T234500
DTSTAMP:20260423T184038
CREATED:20250410T171603Z
LAST-MODIFIED:20250410T171603Z
UID:10000551-1856429100-1856475900@www.fumcrockport.org
SUMMARY:Together in Spirit Worship Service
DESCRIPTION:
URL:https://www.fumcrockport.org/event/together-in-spirit-worship-service/2028-10-29/
END:VEVENT
BEGIN:VEVENT
DTSTART;TZID=America/Chicago:20281029T180000
DTEND;TZID=America/Chicago:20281029T190000
DTSTAMP:20260423T184038
CREATED:20250410T171649Z
LAST-MODIFIED:20260205T162923Z
UID:10000812-1856455200-1856458800@www.fumcrockport.org
SUMMARY:Living Water Spanish Worship Service
DESCRIPTION:
URL:https://www.fumcrockport.org/event/living-water-spanish-worship-service/2028-10-29/
END:VEVENT
BEGIN:VEVENT
DTSTART;TZID=America/Chicago:20281030T100000
DTEND;TZID=America/Chicago:20281030T110000
DTSTAMP:20260423T184038
CREATED:20250410T172809Z
LAST-MODIFIED:20250410T172809Z
UID:10002225-1856512800-1856516400@www.fumcrockport.org
SUMMARY:Seniorcise (FH 1)
DESCRIPTION:
URL:https://www.fumcrockport.org/event/seniorcise-fh-1/2028-10-30/
END:VEVENT
BEGIN:VEVENT
DTSTART;TZID=America/Chicago:20281031T100000
DTEND;TZID=America/Chicago:20281031T110000
DTSTAMP:20260423T184038
CREATED:20250410T172809Z
LAST-MODIFIED:20250410T172809Z
UID:10002226-1856599200-1856602800@www.fumcrockport.org
SUMMARY:Seniorcise (FH 1)
DESCRIPTION:
URL:https://www.fumcrockport.org/event/seniorcise-fh-1/2028-10-31/
END:VEVENT
BEGIN:VEVENT
DTSTART;TZID=America/Chicago:20281031T130000
DTEND;TZID=America/Chicago:20281031T140000
DTSTAMP:20260423T184038
CREATED:20260113T163457Z
LAST-MODIFIED:20260205T162542Z
UID:10004773-1856610000-1856613600@www.fumcrockport.org
SUMMARY:Chancel Choir Practice (Choir Room)
DESCRIPTION:
URL:https://www.fumcrockport.org/event/chancel-choir-practice-choir-room-2/2028-10-31/
END:VEVENT
BEGIN:VEVENT
DTSTART;TZID=America/Chicago:20281101T173000
DTEND;TZID=America/Chicago:20281101T183000
DTSTAMP:20260423T184038
CREATED:20250410T180559Z
LAST-MODIFIED:20260205T162816Z
UID:10003057-1856712600-1856716200@www.fumcrockport.org
SUMMARY:Praise Team Practice (Choir Room)
DESCRIPTION:
URL:https://www.fumcrockport.org/event/praise-team-practice-choir-room/2028-11-01/
END:VEVENT
BEGIN:VEVENT
DTSTART;TZID=America/Chicago:20281102T100000
DTEND;TZID=America/Chicago:20281102T110000
DTSTAMP:20260423T184038
CREATED:20250410T172809Z
LAST-MODIFIED:20250410T172809Z
UID:10002227-1856772000-1856775600@www.fumcrockport.org
SUMMARY:Seniorcise (FH 1)
DESCRIPTION:
URL:https://www.fumcrockport.org/event/seniorcise-fh-1/2028-11-02/
END:VEVENT
BEGIN:VEVENT
DTSTART;TZID=America/Chicago:20281105T091500
DTEND;TZID=America/Chicago:20281105T220000
DTSTAMP:20260423T184038
CREATED:20250508T172022Z
LAST-MODIFIED:20260205T162701Z
UID:10004500-1857028500-1857074400@www.fumcrockport.org
SUMMARY:Cross Talk Sunday School Class
DESCRIPTION:
URL:https://www.fumcrockport.org/event/cross-talk-sunday-school-class-2/2028-11-05/
END:VEVENT
BEGIN:VEVENT
DTSTART;TZID=America/Chicago:20281105T093000
DTEND;TZID=America/Chicago:20281105T103000
DTSTAMP:20260423T184038
CREATED:20250410T171448Z
LAST-MODIFIED:20250410T171448Z
UID:10000291-1857029400-1857033000@www.fumcrockport.org
SUMMARY:Truth Seekers Sunday School Class
DESCRIPTION:
URL:https://www.fumcrockport.org/event/truth-seekers-sunday-school-class/2028-11-05/
END:VEVENT
BEGIN:VEVENT
DTSTART;TZID=America/Chicago:20281105T104500
DTEND;TZID=America/Chicago:20281105T234500
DTSTAMP:20260423T184038
CREATED:20250410T171603Z
LAST-MODIFIED:20250410T171603Z
UID:10000552-1857033900-1857080700@www.fumcrockport.org
SUMMARY:Together in Spirit Worship Service
DESCRIPTION:
URL:https://www.fumcrockport.org/event/together-in-spirit-worship-service/2028-11-05/
END:VEVENT
BEGIN:VEVENT
DTSTART;TZID=America/Chicago:20281105T180000
DTEND;TZID=America/Chicago:20281105T190000
DTSTAMP:20260423T184038
CREATED:20250410T171649Z
LAST-MODIFIED:20260205T162923Z
UID:10000813-1857060000-1857063600@www.fumcrockport.org
SUMMARY:Living Water Spanish Worship Service
DESCRIPTION:
URL:https://www.fumcrockport.org/event/living-water-spanish-worship-service/2028-11-05/
END:VEVENT
BEGIN:VEVENT
DTSTART;TZID=America/Chicago:20281106T100000
DTEND;TZID=America/Chicago:20281106T110000
DTSTAMP:20260423T184038
CREATED:20250410T172809Z
LAST-MODIFIED:20250410T172809Z
UID:10002228-1857117600-1857121200@www.fumcrockport.org
SUMMARY:Seniorcise (FH 1)
DESCRIPTION:
URL:https://www.fumcrockport.org/event/seniorcise-fh-1/2028-11-06/
END:VEVENT
BEGIN:VEVENT
DTSTART;TZID=America/Chicago:20281107T100000
DTEND;TZID=America/Chicago:20281107T110000
DTSTAMP:20260423T184038
CREATED:20250410T172809Z
LAST-MODIFIED:20250410T172809Z
UID:10002229-1857204000-1857207600@www.fumcrockport.org
SUMMARY:Seniorcise (FH 1)
DESCRIPTION:
URL:https://www.fumcrockport.org/event/seniorcise-fh-1/2028-11-07/
END:VEVENT
BEGIN:VEVENT
DTSTART;TZID=America/Chicago:20281107T130000
DTEND;TZID=America/Chicago:20281107T140000
DTSTAMP:20260423T184038
CREATED:20260113T163457Z
LAST-MODIFIED:20260205T162542Z
UID:10004774-1857214800-1857218400@www.fumcrockport.org
SUMMARY:Chancel Choir Practice (Choir Room)
DESCRIPTION:
URL:https://www.fumcrockport.org/event/chancel-choir-practice-choir-room-2/2028-11-07/
END:VEVENT
BEGIN:VEVENT
DTSTART;TZID=America/Chicago:20281107T163000
DTEND;TZID=America/Chicago:20281107T173000
DTSTAMP:20260423T184038
CREATED:20250410T173434Z
LAST-MODIFIED:20260205T162723Z
UID:10003773-1857227400-1857231000@www.fumcrockport.org
SUMMARY:Community Table (First Presbyterian Church)
DESCRIPTION:
URL:https://www.fumcrockport.org/event/community-table-first-presbyterian-church-2/2028-11-07/
END:VEVENT
END:VCALENDAR