BEGIN:VCALENDAR
VERSION:2.0
PRODID:-//First United Methodist Church - ECPv6.15.16//NONSGML v1.0//EN
CALSCALE:GREGORIAN
METHOD:PUBLISH
X-WR-CALNAME:First United Methodist Church
X-ORIGINAL-URL:https://www.fumcrockport.org
X-WR-CALDESC:Events for First United Methodist Church
REFRESH-INTERVAL;VALUE=DURATION:PT1H
X-Robots-Tag:noindex
X-PUBLISHED-TTL:PT1H
BEGIN:VTIMEZONE
TZID:America/Chicago
BEGIN:DAYLIGHT
TZOFFSETFROM:-0600
TZOFFSETTO:-0500
TZNAME:CDT
DTSTART:20270314T080000
END:DAYLIGHT
BEGIN:STANDARD
TZOFFSETFROM:-0500
TZOFFSETTO:-0600
TZNAME:CST
DTSTART:20271107T070000
END:STANDARD
BEGIN:DAYLIGHT
TZOFFSETFROM:-0600
TZOFFSETTO:-0500
TZNAME:CDT
DTSTART:20280312T080000
END:DAYLIGHT
BEGIN:STANDARD
TZOFFSETFROM:-0500
TZOFFSETTO:-0600
TZNAME:CST
DTSTART:20281105T070000
END:STANDARD
BEGIN:DAYLIGHT
TZOFFSETFROM:-0600
TZOFFSETTO:-0500
TZNAME:CDT
DTSTART:20290311T080000
END:DAYLIGHT
BEGIN:STANDARD
TZOFFSETFROM:-0500
TZOFFSETTO:-0600
TZNAME:CST
DTSTART:20291104T070000
END:STANDARD
END:VTIMEZONE
BEGIN:VEVENT
DTSTART;TZID=America/Chicago:20281106T100000
DTEND;TZID=America/Chicago:20281106T110000
DTSTAMP:20260423T211903
CREATED:20250410T172809Z
LAST-MODIFIED:20250410T172809Z
UID:10002228-1857117600-1857121200@www.fumcrockport.org
SUMMARY:Seniorcise (FH 1)
DESCRIPTION:
URL:https://www.fumcrockport.org/event/seniorcise-fh-1/2028-11-06/
END:VEVENT
BEGIN:VEVENT
DTSTART;TZID=America/Chicago:20281107T100000
DTEND;TZID=America/Chicago:20281107T110000
DTSTAMP:20260423T211903
CREATED:20250410T172809Z
LAST-MODIFIED:20250410T172809Z
UID:10002229-1857204000-1857207600@www.fumcrockport.org
SUMMARY:Seniorcise (FH 1)
DESCRIPTION:
URL:https://www.fumcrockport.org/event/seniorcise-fh-1/2028-11-07/
END:VEVENT
BEGIN:VEVENT
DTSTART;TZID=America/Chicago:20281107T130000
DTEND;TZID=America/Chicago:20281107T140000
DTSTAMP:20260423T211903
CREATED:20260113T163457Z
LAST-MODIFIED:20260205T162542Z
UID:10004774-1857214800-1857218400@www.fumcrockport.org
SUMMARY:Chancel Choir Practice (Choir Room)
DESCRIPTION:
URL:https://www.fumcrockport.org/event/chancel-choir-practice-choir-room-2/2028-11-07/
END:VEVENT
BEGIN:VEVENT
DTSTART;TZID=America/Chicago:20281107T163000
DTEND;TZID=America/Chicago:20281107T173000
DTSTAMP:20260423T211903
CREATED:20250410T173434Z
LAST-MODIFIED:20260205T162723Z
UID:10003773-1857227400-1857231000@www.fumcrockport.org
SUMMARY:Community Table (First Presbyterian Church)
DESCRIPTION:
URL:https://www.fumcrockport.org/event/community-table-first-presbyterian-church-2/2028-11-07/
END:VEVENT
BEGIN:VEVENT
DTSTART;TZID=America/Chicago:20281108T173000
DTEND;TZID=America/Chicago:20281108T183000
DTSTAMP:20260423T211903
CREATED:20250410T180559Z
LAST-MODIFIED:20260205T162816Z
UID:10003058-1857317400-1857321000@www.fumcrockport.org
SUMMARY:Praise Team Practice (Choir Room)
DESCRIPTION:
URL:https://www.fumcrockport.org/event/praise-team-practice-choir-room/2028-11-08/
END:VEVENT
BEGIN:VEVENT
DTSTART;TZID=America/Chicago:20281109T100000
DTEND;TZID=America/Chicago:20281109T110000
DTSTAMP:20260423T211903
CREATED:20250410T172809Z
LAST-MODIFIED:20250410T172809Z
UID:10002230-1857376800-1857380400@www.fumcrockport.org
SUMMARY:Seniorcise (FH 1)
DESCRIPTION:
URL:https://www.fumcrockport.org/event/seniorcise-fh-1/2028-11-09/
END:VEVENT
BEGIN:VEVENT
DTSTART;TZID=America/Chicago:20281112T091500
DTEND;TZID=America/Chicago:20281112T220000
DTSTAMP:20260423T211903
CREATED:20250508T172022Z
LAST-MODIFIED:20260205T162701Z
UID:10004501-1857633300-1857679200@www.fumcrockport.org
SUMMARY:Cross Talk Sunday School Class
DESCRIPTION:
URL:https://www.fumcrockport.org/event/cross-talk-sunday-school-class-2/2028-11-12/
END:VEVENT
BEGIN:VEVENT
DTSTART;TZID=America/Chicago:20281112T093000
DTEND;TZID=America/Chicago:20281112T103000
DTSTAMP:20260423T211903
CREATED:20250410T171448Z
LAST-MODIFIED:20250410T171448Z
UID:10000292-1857634200-1857637800@www.fumcrockport.org
SUMMARY:Truth Seekers Sunday School Class
DESCRIPTION:
URL:https://www.fumcrockport.org/event/truth-seekers-sunday-school-class/2028-11-12/
END:VEVENT
BEGIN:VEVENT
DTSTART;TZID=America/Chicago:20281112T104500
DTEND;TZID=America/Chicago:20281112T234500
DTSTAMP:20260423T211903
CREATED:20250410T171603Z
LAST-MODIFIED:20250410T171603Z
UID:10000553-1857638700-1857685500@www.fumcrockport.org
SUMMARY:Together in Spirit Worship Service
DESCRIPTION:
URL:https://www.fumcrockport.org/event/together-in-spirit-worship-service/2028-11-12/
END:VEVENT
BEGIN:VEVENT
DTSTART;TZID=America/Chicago:20281112T180000
DTEND;TZID=America/Chicago:20281112T190000
DTSTAMP:20260423T211903
CREATED:20250410T171649Z
LAST-MODIFIED:20260205T162923Z
UID:10000814-1857664800-1857668400@www.fumcrockport.org
SUMMARY:Living Water Spanish Worship Service
DESCRIPTION:
URL:https://www.fumcrockport.org/event/living-water-spanish-worship-service/2028-11-12/
END:VEVENT
BEGIN:VEVENT
DTSTART;TZID=America/Chicago:20281113T100000
DTEND;TZID=America/Chicago:20281113T110000
DTSTAMP:20260423T211903
CREATED:20250410T172809Z
LAST-MODIFIED:20250410T172809Z
UID:10002231-1857722400-1857726000@www.fumcrockport.org
SUMMARY:Seniorcise (FH 1)
DESCRIPTION:
URL:https://www.fumcrockport.org/event/seniorcise-fh-1/2028-11-13/
END:VEVENT
BEGIN:VEVENT
DTSTART;TZID=America/Chicago:20281113T130000
DTEND;TZID=America/Chicago:20281113T140000
DTSTAMP:20260423T211903
CREATED:20250410T174137Z
LAST-MODIFIED:20260205T162632Z
UID:10002734-1857733200-1857736800@www.fumcrockport.org
SUMMARY:Prescription Assistance (Conf. Room)
DESCRIPTION:
URL:https://www.fumcrockport.org/event/prescription-assistance-conf-room-2/2028-11-13/
END:VEVENT
BEGIN:VEVENT
DTSTART;TZID=America/Chicago:20281114T100000
DTEND;TZID=America/Chicago:20281114T110000
DTSTAMP:20260423T211903
CREATED:20250410T172809Z
LAST-MODIFIED:20250410T172809Z
UID:10002232-1857808800-1857812400@www.fumcrockport.org
SUMMARY:Seniorcise (FH 1)
DESCRIPTION:
URL:https://www.fumcrockport.org/event/seniorcise-fh-1/2028-11-14/
END:VEVENT
BEGIN:VEVENT
DTSTART;TZID=America/Chicago:20281114T120000
DTEND;TZID=America/Chicago:20281114T130000
DTSTAMP:20260423T211903
CREATED:20250410T174224Z
LAST-MODIFIED:20250410T174224Z
UID:10002794-1857816000-1857819600@www.fumcrockport.org
SUMMARY:Diabetic Support Group (Rec. Room)
DESCRIPTION:
URL:https://www.fumcrockport.org/event/diabetic-support-group-rec-room/2028-11-14/
END:VEVENT
BEGIN:VEVENT
DTSTART;TZID=America/Chicago:20281114T130000
DTEND;TZID=America/Chicago:20281114T140000
DTSTAMP:20260423T211903
CREATED:20260113T163457Z
LAST-MODIFIED:20260205T162542Z
UID:10004775-1857819600-1857823200@www.fumcrockport.org
SUMMARY:Chancel Choir Practice (Choir Room)
DESCRIPTION:
URL:https://www.fumcrockport.org/event/chancel-choir-practice-choir-room-2/2028-11-14/
END:VEVENT
BEGIN:VEVENT
DTSTART;TZID=America/Chicago:20281115T173000
DTEND;TZID=America/Chicago:20281115T183000
DTSTAMP:20260423T211903
CREATED:20250410T180559Z
LAST-MODIFIED:20260205T162816Z
UID:10003059-1857922200-1857925800@www.fumcrockport.org
SUMMARY:Praise Team Practice (Choir Room)
DESCRIPTION:
URL:https://www.fumcrockport.org/event/praise-team-practice-choir-room/2028-11-15/
END:VEVENT
BEGIN:VEVENT
DTSTART;TZID=America/Chicago:20281116T100000
DTEND;TZID=America/Chicago:20281116T110000
DTSTAMP:20260423T211903
CREATED:20250410T172809Z
LAST-MODIFIED:20250410T172809Z
UID:10002233-1857981600-1857985200@www.fumcrockport.org
SUMMARY:Seniorcise (FH 1)
DESCRIPTION:
URL:https://www.fumcrockport.org/event/seniorcise-fh-1/2028-11-16/
END:VEVENT
BEGIN:VEVENT
DTSTART;TZID=America/Chicago:20281119T091500
DTEND;TZID=America/Chicago:20281119T220000
DTSTAMP:20260423T211903
CREATED:20250508T172022Z
LAST-MODIFIED:20260205T162701Z
UID:10004502-1858238100-1858284000@www.fumcrockport.org
SUMMARY:Cross Talk Sunday School Class
DESCRIPTION:
URL:https://www.fumcrockport.org/event/cross-talk-sunday-school-class-2/2028-11-19/
END:VEVENT
BEGIN:VEVENT
DTSTART;TZID=America/Chicago:20281119T093000
DTEND;TZID=America/Chicago:20281119T103000
DTSTAMP:20260423T211903
CREATED:20250410T171448Z
LAST-MODIFIED:20250410T171448Z
UID:10000293-1858239000-1858242600@www.fumcrockport.org
SUMMARY:Truth Seekers Sunday School Class
DESCRIPTION:
URL:https://www.fumcrockport.org/event/truth-seekers-sunday-school-class/2028-11-19/
END:VEVENT
BEGIN:VEVENT
DTSTART;TZID=America/Chicago:20281119T104500
DTEND;TZID=America/Chicago:20281119T234500
DTSTAMP:20260423T211903
CREATED:20250410T171603Z
LAST-MODIFIED:20250410T171603Z
UID:10000554-1858243500-1858290300@www.fumcrockport.org
SUMMARY:Together in Spirit Worship Service
DESCRIPTION:
URL:https://www.fumcrockport.org/event/together-in-spirit-worship-service/2028-11-19/
END:VEVENT
BEGIN:VEVENT
DTSTART;TZID=America/Chicago:20281119T180000
DTEND;TZID=America/Chicago:20281119T190000
DTSTAMP:20260423T211903
CREATED:20250410T171649Z
LAST-MODIFIED:20260205T162923Z
UID:10000815-1858269600-1858273200@www.fumcrockport.org
SUMMARY:Living Water Spanish Worship Service
DESCRIPTION:
URL:https://www.fumcrockport.org/event/living-water-spanish-worship-service/2028-11-19/
END:VEVENT
BEGIN:VEVENT
DTSTART;TZID=America/Chicago:20281120T100000
DTEND;TZID=America/Chicago:20281120T110000
DTSTAMP:20260423T211903
CREATED:20250410T172809Z
LAST-MODIFIED:20250410T172809Z
UID:10002234-1858327200-1858330800@www.fumcrockport.org
SUMMARY:Seniorcise (FH 1)
DESCRIPTION:
URL:https://www.fumcrockport.org/event/seniorcise-fh-1/2028-11-20/
END:VEVENT
BEGIN:VEVENT
DTSTART;TZID=America/Chicago:20281121T100000
DTEND;TZID=America/Chicago:20281121T110000
DTSTAMP:20260423T211903
CREATED:20250410T172809Z
LAST-MODIFIED:20250410T172809Z
UID:10002235-1858413600-1858417200@www.fumcrockport.org
SUMMARY:Seniorcise (FH 1)
DESCRIPTION:
URL:https://www.fumcrockport.org/event/seniorcise-fh-1/2028-11-21/
END:VEVENT
BEGIN:VEVENT
DTSTART;TZID=America/Chicago:20281121T130000
DTEND;TZID=America/Chicago:20281121T140000
DTSTAMP:20260423T211903
CREATED:20260113T163457Z
LAST-MODIFIED:20260205T162542Z
UID:10004776-1858424400-1858428000@www.fumcrockport.org
SUMMARY:Chancel Choir Practice (Choir Room)
DESCRIPTION:
URL:https://www.fumcrockport.org/event/chancel-choir-practice-choir-room-2/2028-11-21/
END:VEVENT
BEGIN:VEVENT
DTSTART;TZID=America/Chicago:20281121T160000
DTEND;TZID=America/Chicago:20281121T170000
DTSTAMP:20260423T211903
CREATED:20250410T173342Z
LAST-MODIFIED:20260205T163000Z
UID:10002615-1858435200-1858438800@www.fumcrockport.org
SUMMARY:Community Table (First Presbyterian Church)
DESCRIPTION:
URL:https://www.fumcrockport.org/event/community-table-first-presbyterian-church/2028-11-21/
END:VEVENT
BEGIN:VEVENT
DTSTART;TZID=America/Chicago:20281122T173000
DTEND;TZID=America/Chicago:20281122T183000
DTSTAMP:20260423T211903
CREATED:20250410T180559Z
LAST-MODIFIED:20260205T162816Z
UID:10003060-1858527000-1858530600@www.fumcrockport.org
SUMMARY:Praise Team Practice (Choir Room)
DESCRIPTION:
URL:https://www.fumcrockport.org/event/praise-team-practice-choir-room/2028-11-22/
END:VEVENT
BEGIN:VEVENT
DTSTART;TZID=America/Chicago:20281123T100000
DTEND;TZID=America/Chicago:20281123T110000
DTSTAMP:20260423T211903
CREATED:20250410T172809Z
LAST-MODIFIED:20250410T172809Z
UID:10002236-1858586400-1858590000@www.fumcrockport.org
SUMMARY:Seniorcise (FH 1)
DESCRIPTION:
URL:https://www.fumcrockport.org/event/seniorcise-fh-1/2028-11-23/
END:VEVENT
BEGIN:VEVENT
DTSTART;TZID=America/Chicago:20281126T091500
DTEND;TZID=America/Chicago:20281126T220000
DTSTAMP:20260423T211903
CREATED:20250508T172022Z
LAST-MODIFIED:20260205T162701Z
UID:10004503-1858842900-1858888800@www.fumcrockport.org
SUMMARY:Cross Talk Sunday School Class
DESCRIPTION:
URL:https://www.fumcrockport.org/event/cross-talk-sunday-school-class-2/2028-11-26/
END:VEVENT
BEGIN:VEVENT
DTSTART;TZID=America/Chicago:20281126T093000
DTEND;TZID=America/Chicago:20281126T103000
DTSTAMP:20260423T211903
CREATED:20250410T171448Z
LAST-MODIFIED:20250410T171448Z
UID:10000294-1858843800-1858847400@www.fumcrockport.org
SUMMARY:Truth Seekers Sunday School Class
DESCRIPTION:
URL:https://www.fumcrockport.org/event/truth-seekers-sunday-school-class/2028-11-26/
END:VEVENT
BEGIN:VEVENT
DTSTART;TZID=America/Chicago:20281126T104500
DTEND;TZID=America/Chicago:20281126T234500
DTSTAMP:20260423T211903
CREATED:20250410T171603Z
LAST-MODIFIED:20250410T171603Z
UID:10000555-1858848300-1858895100@www.fumcrockport.org
SUMMARY:Together in Spirit Worship Service
DESCRIPTION:
URL:https://www.fumcrockport.org/event/together-in-spirit-worship-service/2028-11-26/
END:VEVENT
END:VCALENDAR