BEGIN:VCALENDAR
VERSION:2.0
PRODID:-//First United Methodist Church - ECPv6.15.16//NONSGML v1.0//EN
CALSCALE:GREGORIAN
METHOD:PUBLISH
X-ORIGINAL-URL:https://www.fumcrockport.org
X-WR-CALDESC:Events for First United Methodist Church
REFRESH-INTERVAL;VALUE=DURATION:PT1H
X-Robots-Tag:noindex
X-PUBLISHED-TTL:PT1H
BEGIN:VTIMEZONE
TZID:America/Chicago
BEGIN:DAYLIGHT
TZOFFSETFROM:-0600
TZOFFSETTO:-0500
TZNAME:CDT
DTSTART:20270314T080000
END:DAYLIGHT
BEGIN:STANDARD
TZOFFSETFROM:-0500
TZOFFSETTO:-0600
TZNAME:CST
DTSTART:20271107T070000
END:STANDARD
BEGIN:DAYLIGHT
TZOFFSETFROM:-0600
TZOFFSETTO:-0500
TZNAME:CDT
DTSTART:20280312T080000
END:DAYLIGHT
BEGIN:STANDARD
TZOFFSETFROM:-0500
TZOFFSETTO:-0600
TZNAME:CST
DTSTART:20281105T070000
END:STANDARD
BEGIN:DAYLIGHT
TZOFFSETFROM:-0600
TZOFFSETTO:-0500
TZNAME:CDT
DTSTART:20290311T080000
END:DAYLIGHT
BEGIN:STANDARD
TZOFFSETFROM:-0500
TZOFFSETTO:-0600
TZNAME:CST
DTSTART:20291104T070000
END:STANDARD
BEGIN:DAYLIGHT
TZOFFSETFROM:-0600
TZOFFSETTO:-0500
TZNAME:CDT
DTSTART:20300310T080000
END:DAYLIGHT
BEGIN:STANDARD
TZOFFSETFROM:-0500
TZOFFSETTO:-0600
TZNAME:CST
DTSTART:20301103T070000
END:STANDARD
END:VTIMEZONE
BEGIN:VEVENT
DTSTART;TZID=America/Chicago:20281225T100000
DTEND;TZID=America/Chicago:20281225T110000
DTSTAMP:20260424T061331
CREATED:20250410T172809Z
LAST-MODIFIED:20250410T172809Z
UID:10002249-1861351200-1861354800@www.fumcrockport.org
SUMMARY:Seniorcise (FH 1)
DESCRIPTION:
URL:https://www.fumcrockport.org/event/seniorcise-fh-1/2028-12-25/
END:VEVENT
BEGIN:VEVENT
DTSTART;TZID=America/Chicago:20281225T130000
DTEND;TZID=America/Chicago:20281225T140000
DTSTAMP:20260424T061331
CREATED:20250410T174040Z
LAST-MODIFIED:20260205T162747Z
UID:10002856-1861362000-1861365600@www.fumcrockport.org
SUMMARY:Prescription Assistance (Conf. Room)
DESCRIPTION:
URL:https://www.fumcrockport.org/event/prescription-assistance-conf-room/2028-12-25/
END:VEVENT
BEGIN:VEVENT
DTSTART;TZID=America/Chicago:20281226T100000
DTEND;TZID=America/Chicago:20281226T110000
DTSTAMP:20260424T061331
CREATED:20250410T172809Z
LAST-MODIFIED:20250410T172809Z
UID:10002250-1861437600-1861441200@www.fumcrockport.org
SUMMARY:Seniorcise (FH 1)
DESCRIPTION:
URL:https://www.fumcrockport.org/event/seniorcise-fh-1/2028-12-26/
END:VEVENT
BEGIN:VEVENT
DTSTART;TZID=America/Chicago:20281226T130000
DTEND;TZID=America/Chicago:20281226T140000
DTSTAMP:20260424T061331
CREATED:20260113T163457Z
LAST-MODIFIED:20260205T162542Z
UID:10004781-1861448400-1861452000@www.fumcrockport.org
SUMMARY:Chancel Choir Practice (Choir Room)
DESCRIPTION:
URL:https://www.fumcrockport.org/event/chancel-choir-practice-choir-room-2/2028-12-26/
END:VEVENT
BEGIN:VEVENT
DTSTART;TZID=America/Chicago:20281227T173000
DTEND;TZID=America/Chicago:20281227T183000
DTSTAMP:20260424T061331
CREATED:20250410T180559Z
LAST-MODIFIED:20260205T162816Z
UID:10003065-1861551000-1861554600@www.fumcrockport.org
SUMMARY:Praise Team Practice (Choir Room)
DESCRIPTION:
URL:https://www.fumcrockport.org/event/praise-team-practice-choir-room/2028-12-27/
END:VEVENT
BEGIN:VEVENT
DTSTART;TZID=America/Chicago:20281228T100000
DTEND;TZID=America/Chicago:20281228T110000
DTSTAMP:20260424T061331
CREATED:20250410T172809Z
LAST-MODIFIED:20250410T172809Z
UID:10002251-1861610400-1861614000@www.fumcrockport.org
SUMMARY:Seniorcise (FH 1)
DESCRIPTION:
URL:https://www.fumcrockport.org/event/seniorcise-fh-1/2028-12-28/
END:VEVENT
BEGIN:VEVENT
DTSTART;TZID=America/Chicago:20281231T091500
DTEND;TZID=America/Chicago:20281231T220000
DTSTAMP:20260424T061331
CREATED:20250508T172022Z
LAST-MODIFIED:20260205T162701Z
UID:10004508-1861866900-1861912800@www.fumcrockport.org
SUMMARY:Cross Talk Sunday School Class
DESCRIPTION:
URL:https://www.fumcrockport.org/event/cross-talk-sunday-school-class-2/2028-12-31/
END:VEVENT
BEGIN:VEVENT
DTSTART;TZID=America/Chicago:20281231T093000
DTEND;TZID=America/Chicago:20281231T103000
DTSTAMP:20260424T061331
CREATED:20250410T171448Z
LAST-MODIFIED:20250410T171448Z
UID:10000299-1861867800-1861871400@www.fumcrockport.org
SUMMARY:Truth Seekers Sunday School Class
DESCRIPTION:
URL:https://www.fumcrockport.org/event/truth-seekers-sunday-school-class/2028-12-31/
END:VEVENT
BEGIN:VEVENT
DTSTART;TZID=America/Chicago:20281231T104500
DTEND;TZID=America/Chicago:20281231T234500
DTSTAMP:20260424T061331
CREATED:20250410T171603Z
LAST-MODIFIED:20250410T171603Z
UID:10000560-1861872300-1861919100@www.fumcrockport.org
SUMMARY:Together in Spirit Worship Service
DESCRIPTION:
URL:https://www.fumcrockport.org/event/together-in-spirit-worship-service/2028-12-31/
END:VEVENT
BEGIN:VEVENT
DTSTART;TZID=America/Chicago:20281231T180000
DTEND;TZID=America/Chicago:20281231T190000
DTSTAMP:20260424T061331
CREATED:20250410T171649Z
LAST-MODIFIED:20260205T162923Z
UID:10000821-1861898400-1861902000@www.fumcrockport.org
SUMMARY:Living Water Spanish Worship Service
DESCRIPTION:
URL:https://www.fumcrockport.org/event/living-water-spanish-worship-service/2028-12-31/
END:VEVENT
BEGIN:VEVENT
DTSTART;TZID=America/Chicago:20290101T100000
DTEND;TZID=America/Chicago:20290101T110000
DTSTAMP:20260424T061331
CREATED:20250410T172809Z
LAST-MODIFIED:20250410T172809Z
UID:10002252-1861956000-1861959600@www.fumcrockport.org
SUMMARY:Seniorcise (FH 1)
DESCRIPTION:
URL:https://www.fumcrockport.org/event/seniorcise-fh-1/2029-01-01/
END:VEVENT
BEGIN:VEVENT
DTSTART;TZID=America/Chicago:20290102T100000
DTEND;TZID=America/Chicago:20290102T110000
DTSTAMP:20260424T061331
CREATED:20250410T172809Z
LAST-MODIFIED:20250410T172809Z
UID:10002253-1862042400-1862046000@www.fumcrockport.org
SUMMARY:Seniorcise (FH 1)
DESCRIPTION:
URL:https://www.fumcrockport.org/event/seniorcise-fh-1/2029-01-02/
END:VEVENT
BEGIN:VEVENT
DTSTART;TZID=America/Chicago:20290102T130000
DTEND;TZID=America/Chicago:20290102T140000
DTSTAMP:20260424T061331
CREATED:20260113T163457Z
LAST-MODIFIED:20260205T162542Z
UID:10004782-1862053200-1862056800@www.fumcrockport.org
SUMMARY:Chancel Choir Practice (Choir Room)
DESCRIPTION:
URL:https://www.fumcrockport.org/event/chancel-choir-practice-choir-room-2/2029-01-02/
END:VEVENT
BEGIN:VEVENT
DTSTART;TZID=America/Chicago:20290102T163000
DTEND;TZID=America/Chicago:20290102T173000
DTSTAMP:20260424T061331
CREATED:20250410T173434Z
LAST-MODIFIED:20260205T162723Z
UID:10003775-1862065800-1862069400@www.fumcrockport.org
SUMMARY:Community Table (First Presbyterian Church)
DESCRIPTION:
URL:https://www.fumcrockport.org/event/community-table-first-presbyterian-church-2/2029-01-02/
END:VEVENT
BEGIN:VEVENT
DTSTART;TZID=America/Chicago:20290103T173000
DTEND;TZID=America/Chicago:20290103T183000
DTSTAMP:20260424T061331
CREATED:20250410T180559Z
LAST-MODIFIED:20260205T162816Z
UID:10003066-1862155800-1862159400@www.fumcrockport.org
SUMMARY:Praise Team Practice (Choir Room)
DESCRIPTION:
URL:https://www.fumcrockport.org/event/praise-team-practice-choir-room/2029-01-03/
END:VEVENT
BEGIN:VEVENT
DTSTART;TZID=America/Chicago:20290104T100000
DTEND;TZID=America/Chicago:20290104T110000
DTSTAMP:20260424T061331
CREATED:20250410T172809Z
LAST-MODIFIED:20250410T172809Z
UID:10002254-1862215200-1862218800@www.fumcrockport.org
SUMMARY:Seniorcise (FH 1)
DESCRIPTION:
URL:https://www.fumcrockport.org/event/seniorcise-fh-1/2029-01-04/
END:VEVENT
BEGIN:VEVENT
DTSTART;TZID=America/Chicago:20290107T091500
DTEND;TZID=America/Chicago:20290107T220000
DTSTAMP:20260424T061331
CREATED:20250508T172022Z
LAST-MODIFIED:20260205T162701Z
UID:10004509-1862471700-1862517600@www.fumcrockport.org
SUMMARY:Cross Talk Sunday School Class
DESCRIPTION:
URL:https://www.fumcrockport.org/event/cross-talk-sunday-school-class-2/2029-01-07/
END:VEVENT
BEGIN:VEVENT
DTSTART;TZID=America/Chicago:20290107T093000
DTEND;TZID=America/Chicago:20290107T103000
DTSTAMP:20260424T061331
CREATED:20250410T171448Z
LAST-MODIFIED:20250410T171448Z
UID:10000300-1862472600-1862476200@www.fumcrockport.org
SUMMARY:Truth Seekers Sunday School Class
DESCRIPTION:
URL:https://www.fumcrockport.org/event/truth-seekers-sunday-school-class/2029-01-07/
END:VEVENT
BEGIN:VEVENT
DTSTART;TZID=America/Chicago:20290107T104500
DTEND;TZID=America/Chicago:20290107T234500
DTSTAMP:20260424T061331
CREATED:20250410T171603Z
LAST-MODIFIED:20250410T171603Z
UID:10000561-1862477100-1862523900@www.fumcrockport.org
SUMMARY:Together in Spirit Worship Service
DESCRIPTION:
URL:https://www.fumcrockport.org/event/together-in-spirit-worship-service/2029-01-07/
END:VEVENT
BEGIN:VEVENT
DTSTART;TZID=America/Chicago:20290107T180000
DTEND;TZID=America/Chicago:20290107T190000
DTSTAMP:20260424T061331
CREATED:20250410T171649Z
LAST-MODIFIED:20260205T162923Z
UID:10000822-1862503200-1862506800@www.fumcrockport.org
SUMMARY:Living Water Spanish Worship Service
DESCRIPTION:
URL:https://www.fumcrockport.org/event/living-water-spanish-worship-service/2029-01-07/
END:VEVENT
BEGIN:VEVENT
DTSTART;TZID=America/Chicago:20290108T100000
DTEND;TZID=America/Chicago:20290108T110000
DTSTAMP:20260424T061331
CREATED:20250410T172809Z
LAST-MODIFIED:20250410T172809Z
UID:10002255-1862560800-1862564400@www.fumcrockport.org
SUMMARY:Seniorcise (FH 1)
DESCRIPTION:
URL:https://www.fumcrockport.org/event/seniorcise-fh-1/2029-01-08/
END:VEVENT
BEGIN:VEVENT
DTSTART;TZID=America/Chicago:20290108T130000
DTEND;TZID=America/Chicago:20290108T140000
DTSTAMP:20260424T061331
CREATED:20250410T174137Z
LAST-MODIFIED:20260205T162632Z
UID:10002736-1862571600-1862575200@www.fumcrockport.org
SUMMARY:Prescription Assistance (Conf. Room)
DESCRIPTION:
URL:https://www.fumcrockport.org/event/prescription-assistance-conf-room-2/2029-01-08/
END:VEVENT
BEGIN:VEVENT
DTSTART;TZID=America/Chicago:20290109T100000
DTEND;TZID=America/Chicago:20290109T110000
DTSTAMP:20260424T061331
CREATED:20250410T172809Z
LAST-MODIFIED:20250410T172809Z
UID:10002256-1862647200-1862650800@www.fumcrockport.org
SUMMARY:Seniorcise (FH 1)
DESCRIPTION:
URL:https://www.fumcrockport.org/event/seniorcise-fh-1/2029-01-09/
END:VEVENT
BEGIN:VEVENT
DTSTART;TZID=America/Chicago:20290109T120000
DTEND;TZID=America/Chicago:20290109T130000
DTSTAMP:20260424T061331
CREATED:20250410T174224Z
LAST-MODIFIED:20250410T174224Z
UID:10002796-1862654400-1862658000@www.fumcrockport.org
SUMMARY:Diabetic Support Group (Rec. Room)
DESCRIPTION:
URL:https://www.fumcrockport.org/event/diabetic-support-group-rec-room/2029-01-09/
END:VEVENT
BEGIN:VEVENT
DTSTART;TZID=America/Chicago:20290109T130000
DTEND;TZID=America/Chicago:20290109T140000
DTSTAMP:20260424T061331
CREATED:20260113T163457Z
LAST-MODIFIED:20260205T162542Z
UID:10004783-1862658000-1862661600@www.fumcrockport.org
SUMMARY:Chancel Choir Practice (Choir Room)
DESCRIPTION:
URL:https://www.fumcrockport.org/event/chancel-choir-practice-choir-room-2/2029-01-09/
END:VEVENT
BEGIN:VEVENT
DTSTART;TZID=America/Chicago:20290110T173000
DTEND;TZID=America/Chicago:20290110T183000
DTSTAMP:20260424T061331
CREATED:20250410T180559Z
LAST-MODIFIED:20260205T162816Z
UID:10003067-1862760600-1862764200@www.fumcrockport.org
SUMMARY:Praise Team Practice (Choir Room)
DESCRIPTION:
URL:https://www.fumcrockport.org/event/praise-team-practice-choir-room/2029-01-10/
END:VEVENT
BEGIN:VEVENT
DTSTART;TZID=America/Chicago:20290111T100000
DTEND;TZID=America/Chicago:20290111T110000
DTSTAMP:20260424T061331
CREATED:20250410T172809Z
LAST-MODIFIED:20250410T172809Z
UID:10002257-1862820000-1862823600@www.fumcrockport.org
SUMMARY:Seniorcise (FH 1)
DESCRIPTION:
URL:https://www.fumcrockport.org/event/seniorcise-fh-1/2029-01-11/
END:VEVENT
BEGIN:VEVENT
DTSTART;TZID=America/Chicago:20290114T091500
DTEND;TZID=America/Chicago:20290114T220000
DTSTAMP:20260424T061331
CREATED:20250508T172022Z
LAST-MODIFIED:20260205T162701Z
UID:10004510-1863076500-1863122400@www.fumcrockport.org
SUMMARY:Cross Talk Sunday School Class
DESCRIPTION:
URL:https://www.fumcrockport.org/event/cross-talk-sunday-school-class-2/2029-01-14/
END:VEVENT
BEGIN:VEVENT
DTSTART;TZID=America/Chicago:20290114T093000
DTEND;TZID=America/Chicago:20290114T103000
DTSTAMP:20260424T061331
CREATED:20250410T171448Z
LAST-MODIFIED:20250410T171448Z
UID:10000301-1863077400-1863081000@www.fumcrockport.org
SUMMARY:Truth Seekers Sunday School Class
DESCRIPTION:
URL:https://www.fumcrockport.org/event/truth-seekers-sunday-school-class/2029-01-14/
END:VEVENT
BEGIN:VEVENT
DTSTART;TZID=America/Chicago:20290114T104500
DTEND;TZID=America/Chicago:20290114T234500
DTSTAMP:20260424T061331
CREATED:20250410T171603Z
LAST-MODIFIED:20250410T171603Z
UID:10000562-1863081900-1863128700@www.fumcrockport.org
SUMMARY:Together in Spirit Worship Service
DESCRIPTION:
URL:https://www.fumcrockport.org/event/together-in-spirit-worship-service/2029-01-14/
END:VEVENT
END:VCALENDAR