BEGIN:VCALENDAR
VERSION:2.0
PRODID:-//First United Methodist Church - ECPv6.15.16//NONSGML v1.0//EN
CALSCALE:GREGORIAN
METHOD:PUBLISH
X-WR-CALNAME:First United Methodist Church
X-ORIGINAL-URL:https://www.fumcrockport.org
X-WR-CALDESC:Events for First United Methodist Church
REFRESH-INTERVAL;VALUE=DURATION:PT1H
X-Robots-Tag:noindex
X-PUBLISHED-TTL:PT1H
BEGIN:VTIMEZONE
TZID:America/Chicago
BEGIN:DAYLIGHT
TZOFFSETFROM:-0600
TZOFFSETTO:-0500
TZNAME:CDT
DTSTART:20280312T080000
END:DAYLIGHT
BEGIN:STANDARD
TZOFFSETFROM:-0500
TZOFFSETTO:-0600
TZNAME:CST
DTSTART:20281105T070000
END:STANDARD
BEGIN:DAYLIGHT
TZOFFSETFROM:-0600
TZOFFSETTO:-0500
TZNAME:CDT
DTSTART:20290311T080000
END:DAYLIGHT
BEGIN:STANDARD
TZOFFSETFROM:-0500
TZOFFSETTO:-0600
TZNAME:CST
DTSTART:20291104T070000
END:STANDARD
BEGIN:DAYLIGHT
TZOFFSETFROM:-0600
TZOFFSETTO:-0500
TZNAME:CDT
DTSTART:20300310T080000
END:DAYLIGHT
BEGIN:STANDARD
TZOFFSETFROM:-0500
TZOFFSETTO:-0600
TZNAME:CST
DTSTART:20301103T070000
END:STANDARD
END:VTIMEZONE
BEGIN:VEVENT
DTSTART;TZID=America/Chicago:20290116T160000
DTEND;TZID=America/Chicago:20290116T170000
DTSTAMP:20260424T103940
CREATED:20250410T173342Z
LAST-MODIFIED:20260205T163000Z
UID:10002617-1863273600-1863277200@www.fumcrockport.org
SUMMARY:Community Table (First Presbyterian Church)
DESCRIPTION:
URL:https://www.fumcrockport.org/event/community-table-first-presbyterian-church/2029-01-16/
END:VEVENT
BEGIN:VEVENT
DTSTART;TZID=America/Chicago:20290117T173000
DTEND;TZID=America/Chicago:20290117T183000
DTSTAMP:20260424T103940
CREATED:20250410T180559Z
LAST-MODIFIED:20260205T162816Z
UID:10003068-1863365400-1863369000@www.fumcrockport.org
SUMMARY:Praise Team Practice (Choir Room)
DESCRIPTION:
URL:https://www.fumcrockport.org/event/praise-team-practice-choir-room/2029-01-17/
END:VEVENT
BEGIN:VEVENT
DTSTART;TZID=America/Chicago:20290118T100000
DTEND;TZID=America/Chicago:20290118T110000
DTSTAMP:20260424T103940
CREATED:20250410T172809Z
LAST-MODIFIED:20250410T172809Z
UID:10002260-1863424800-1863428400@www.fumcrockport.org
SUMMARY:Seniorcise (FH 1)
DESCRIPTION:
URL:https://www.fumcrockport.org/event/seniorcise-fh-1/2029-01-18/
END:VEVENT
BEGIN:VEVENT
DTSTART;TZID=America/Chicago:20290121T091500
DTEND;TZID=America/Chicago:20290121T220000
DTSTAMP:20260424T103940
CREATED:20250508T172022Z
LAST-MODIFIED:20260205T162701Z
UID:10004511-1863681300-1863727200@www.fumcrockport.org
SUMMARY:Cross Talk Sunday School Class
DESCRIPTION:
URL:https://www.fumcrockport.org/event/cross-talk-sunday-school-class-2/2029-01-21/
END:VEVENT
BEGIN:VEVENT
DTSTART;TZID=America/Chicago:20290121T093000
DTEND;TZID=America/Chicago:20290121T103000
DTSTAMP:20260424T103940
CREATED:20250410T171448Z
LAST-MODIFIED:20250410T171448Z
UID:10000302-1863682200-1863685800@www.fumcrockport.org
SUMMARY:Truth Seekers Sunday School Class
DESCRIPTION:
URL:https://www.fumcrockport.org/event/truth-seekers-sunday-school-class/2029-01-21/
END:VEVENT
BEGIN:VEVENT
DTSTART;TZID=America/Chicago:20290121T104500
DTEND;TZID=America/Chicago:20290121T234500
DTSTAMP:20260424T103940
CREATED:20250410T171603Z
LAST-MODIFIED:20250410T171603Z
UID:10000563-1863686700-1863733500@www.fumcrockport.org
SUMMARY:Together in Spirit Worship Service
DESCRIPTION:
URL:https://www.fumcrockport.org/event/together-in-spirit-worship-service/2029-01-21/
END:VEVENT
BEGIN:VEVENT
DTSTART;TZID=America/Chicago:20290121T180000
DTEND;TZID=America/Chicago:20290121T190000
DTSTAMP:20260424T103940
CREATED:20250410T171649Z
LAST-MODIFIED:20260205T162923Z
UID:10000824-1863712800-1863716400@www.fumcrockport.org
SUMMARY:Living Water Spanish Worship Service
DESCRIPTION:
URL:https://www.fumcrockport.org/event/living-water-spanish-worship-service/2029-01-21/
END:VEVENT
BEGIN:VEVENT
DTSTART;TZID=America/Chicago:20290122T100000
DTEND;TZID=America/Chicago:20290122T110000
DTSTAMP:20260424T103940
CREATED:20250410T172809Z
LAST-MODIFIED:20250410T172809Z
UID:10002261-1863770400-1863774000@www.fumcrockport.org
SUMMARY:Seniorcise (FH 1)
DESCRIPTION:
URL:https://www.fumcrockport.org/event/seniorcise-fh-1/2029-01-22/
END:VEVENT
BEGIN:VEVENT
DTSTART;TZID=America/Chicago:20290122T130000
DTEND;TZID=America/Chicago:20290122T140000
DTSTAMP:20260424T103940
CREATED:20250410T174040Z
LAST-MODIFIED:20260205T162747Z
UID:10002857-1863781200-1863784800@www.fumcrockport.org
SUMMARY:Prescription Assistance (Conf. Room)
DESCRIPTION:
URL:https://www.fumcrockport.org/event/prescription-assistance-conf-room/2029-01-22/
END:VEVENT
BEGIN:VEVENT
DTSTART;TZID=America/Chicago:20290123T100000
DTEND;TZID=America/Chicago:20290123T110000
DTSTAMP:20260424T103940
CREATED:20250410T172809Z
LAST-MODIFIED:20250410T172809Z
UID:10002262-1863856800-1863860400@www.fumcrockport.org
SUMMARY:Seniorcise (FH 1)
DESCRIPTION:
URL:https://www.fumcrockport.org/event/seniorcise-fh-1/2029-01-23/
END:VEVENT
BEGIN:VEVENT
DTSTART;TZID=America/Chicago:20290123T130000
DTEND;TZID=America/Chicago:20290123T140000
DTSTAMP:20260424T103940
CREATED:20260113T163457Z
LAST-MODIFIED:20260205T162542Z
UID:10004785-1863867600-1863871200@www.fumcrockport.org
SUMMARY:Chancel Choir Practice (Choir Room)
DESCRIPTION:
URL:https://www.fumcrockport.org/event/chancel-choir-practice-choir-room-2/2029-01-23/
END:VEVENT
BEGIN:VEVENT
DTSTART;TZID=America/Chicago:20290124T173000
DTEND;TZID=America/Chicago:20290124T183000
DTSTAMP:20260424T103941
CREATED:20250410T180559Z
LAST-MODIFIED:20260205T162816Z
UID:10003069-1863970200-1863973800@www.fumcrockport.org
SUMMARY:Praise Team Practice (Choir Room)
DESCRIPTION:
URL:https://www.fumcrockport.org/event/praise-team-practice-choir-room/2029-01-24/
END:VEVENT
BEGIN:VEVENT
DTSTART;TZID=America/Chicago:20290125T100000
DTEND;TZID=America/Chicago:20290125T110000
DTSTAMP:20260424T103941
CREATED:20250410T172809Z
LAST-MODIFIED:20250410T172809Z
UID:10002263-1864029600-1864033200@www.fumcrockport.org
SUMMARY:Seniorcise (FH 1)
DESCRIPTION:
URL:https://www.fumcrockport.org/event/seniorcise-fh-1/2029-01-25/
END:VEVENT
BEGIN:VEVENT
DTSTART;TZID=America/Chicago:20290128T091500
DTEND;TZID=America/Chicago:20290128T220000
DTSTAMP:20260424T103941
CREATED:20250508T172022Z
LAST-MODIFIED:20260205T162701Z
UID:10004512-1864286100-1864332000@www.fumcrockport.org
SUMMARY:Cross Talk Sunday School Class
DESCRIPTION:
URL:https://www.fumcrockport.org/event/cross-talk-sunday-school-class-2/2029-01-28/
END:VEVENT
BEGIN:VEVENT
DTSTART;TZID=America/Chicago:20290128T093000
DTEND;TZID=America/Chicago:20290128T103000
DTSTAMP:20260424T103941
CREATED:20250410T171448Z
LAST-MODIFIED:20250410T171448Z
UID:10000303-1864287000-1864290600@www.fumcrockport.org
SUMMARY:Truth Seekers Sunday School Class
DESCRIPTION:
URL:https://www.fumcrockport.org/event/truth-seekers-sunday-school-class/2029-01-28/
END:VEVENT
BEGIN:VEVENT
DTSTART;TZID=America/Chicago:20290128T104500
DTEND;TZID=America/Chicago:20290128T234500
DTSTAMP:20260424T103941
CREATED:20250410T171603Z
LAST-MODIFIED:20250410T171603Z
UID:10000564-1864291500-1864338300@www.fumcrockport.org
SUMMARY:Together in Spirit Worship Service
DESCRIPTION:
URL:https://www.fumcrockport.org/event/together-in-spirit-worship-service/2029-01-28/
END:VEVENT
BEGIN:VEVENT
DTSTART;TZID=America/Chicago:20290128T180000
DTEND;TZID=America/Chicago:20290128T190000
DTSTAMP:20260424T103941
CREATED:20250410T171649Z
LAST-MODIFIED:20260205T162923Z
UID:10000825-1864317600-1864321200@www.fumcrockport.org
SUMMARY:Living Water Spanish Worship Service
DESCRIPTION:
URL:https://www.fumcrockport.org/event/living-water-spanish-worship-service/2029-01-28/
END:VEVENT
BEGIN:VEVENT
DTSTART;TZID=America/Chicago:20290129T100000
DTEND;TZID=America/Chicago:20290129T110000
DTSTAMP:20260424T103941
CREATED:20250410T172809Z
LAST-MODIFIED:20250410T172809Z
UID:10002264-1864375200-1864378800@www.fumcrockport.org
SUMMARY:Seniorcise (FH 1)
DESCRIPTION:
URL:https://www.fumcrockport.org/event/seniorcise-fh-1/2029-01-29/
END:VEVENT
BEGIN:VEVENT
DTSTART;TZID=America/Chicago:20290130T100000
DTEND;TZID=America/Chicago:20290130T110000
DTSTAMP:20260424T103941
CREATED:20250410T172809Z
LAST-MODIFIED:20250410T172809Z
UID:10002265-1864461600-1864465200@www.fumcrockport.org
SUMMARY:Seniorcise (FH 1)
DESCRIPTION:
URL:https://www.fumcrockport.org/event/seniorcise-fh-1/2029-01-30/
END:VEVENT
BEGIN:VEVENT
DTSTART;TZID=America/Chicago:20290130T130000
DTEND;TZID=America/Chicago:20290130T140000
DTSTAMP:20260424T103941
CREATED:20260113T163457Z
LAST-MODIFIED:20260205T162542Z
UID:10004786-1864472400-1864476000@www.fumcrockport.org
SUMMARY:Chancel Choir Practice (Choir Room)
DESCRIPTION:
URL:https://www.fumcrockport.org/event/chancel-choir-practice-choir-room-2/2029-01-30/
END:VEVENT
BEGIN:VEVENT
DTSTART;TZID=America/Chicago:20290131T173000
DTEND;TZID=America/Chicago:20290131T183000
DTSTAMP:20260424T103941
CREATED:20250410T180559Z
LAST-MODIFIED:20260205T162816Z
UID:10003070-1864575000-1864578600@www.fumcrockport.org
SUMMARY:Praise Team Practice (Choir Room)
DESCRIPTION:
URL:https://www.fumcrockport.org/event/praise-team-practice-choir-room/2029-01-31/
END:VEVENT
BEGIN:VEVENT
DTSTART;TZID=America/Chicago:20290201T100000
DTEND;TZID=America/Chicago:20290201T110000
DTSTAMP:20260424T103941
CREATED:20250410T172809Z
LAST-MODIFIED:20250410T172809Z
UID:10002266-1864634400-1864638000@www.fumcrockport.org
SUMMARY:Seniorcise (FH 1)
DESCRIPTION:
URL:https://www.fumcrockport.org/event/seniorcise-fh-1/2029-02-01/
END:VEVENT
BEGIN:VEVENT
DTSTART;TZID=America/Chicago:20290204T091500
DTEND;TZID=America/Chicago:20290204T220000
DTSTAMP:20260424T103941
CREATED:20250508T172022Z
LAST-MODIFIED:20260205T162701Z
UID:10004513-1864890900-1864936800@www.fumcrockport.org
SUMMARY:Cross Talk Sunday School Class
DESCRIPTION:
URL:https://www.fumcrockport.org/event/cross-talk-sunday-school-class-2/2029-02-04/
END:VEVENT
BEGIN:VEVENT
DTSTART;TZID=America/Chicago:20290204T093000
DTEND;TZID=America/Chicago:20290204T103000
DTSTAMP:20260424T103941
CREATED:20250410T171448Z
LAST-MODIFIED:20250410T171448Z
UID:10000304-1864891800-1864895400@www.fumcrockport.org
SUMMARY:Truth Seekers Sunday School Class
DESCRIPTION:
URL:https://www.fumcrockport.org/event/truth-seekers-sunday-school-class/2029-02-04/
END:VEVENT
BEGIN:VEVENT
DTSTART;TZID=America/Chicago:20290204T104500
DTEND;TZID=America/Chicago:20290204T234500
DTSTAMP:20260424T103941
CREATED:20250410T171603Z
LAST-MODIFIED:20250410T171603Z
UID:10000565-1864896300-1864943100@www.fumcrockport.org
SUMMARY:Together in Spirit Worship Service
DESCRIPTION:
URL:https://www.fumcrockport.org/event/together-in-spirit-worship-service/2029-02-04/
END:VEVENT
BEGIN:VEVENT
DTSTART;TZID=America/Chicago:20290204T180000
DTEND;TZID=America/Chicago:20290204T190000
DTSTAMP:20260424T103941
CREATED:20250410T171649Z
LAST-MODIFIED:20260205T162923Z
UID:10000826-1864922400-1864926000@www.fumcrockport.org
SUMMARY:Living Water Spanish Worship Service
DESCRIPTION:
URL:https://www.fumcrockport.org/event/living-water-spanish-worship-service/2029-02-04/
END:VEVENT
BEGIN:VEVENT
DTSTART;TZID=America/Chicago:20290205T100000
DTEND;TZID=America/Chicago:20290205T110000
DTSTAMP:20260424T103941
CREATED:20250410T172809Z
LAST-MODIFIED:20250410T172809Z
UID:10002267-1864980000-1864983600@www.fumcrockport.org
SUMMARY:Seniorcise (FH 1)
DESCRIPTION:
URL:https://www.fumcrockport.org/event/seniorcise-fh-1/2029-02-05/
END:VEVENT
BEGIN:VEVENT
DTSTART;TZID=America/Chicago:20290206T100000
DTEND;TZID=America/Chicago:20290206T110000
DTSTAMP:20260424T103941
CREATED:20250410T172809Z
LAST-MODIFIED:20250410T172809Z
UID:10002268-1865066400-1865070000@www.fumcrockport.org
SUMMARY:Seniorcise (FH 1)
DESCRIPTION:
URL:https://www.fumcrockport.org/event/seniorcise-fh-1/2029-02-06/
END:VEVENT
BEGIN:VEVENT
DTSTART;TZID=America/Chicago:20290206T130000
DTEND;TZID=America/Chicago:20290206T140000
DTSTAMP:20260424T103941
CREATED:20260113T163457Z
LAST-MODIFIED:20260205T162542Z
UID:10004787-1865077200-1865080800@www.fumcrockport.org
SUMMARY:Chancel Choir Practice (Choir Room)
DESCRIPTION:
URL:https://www.fumcrockport.org/event/chancel-choir-practice-choir-room-2/2029-02-06/
END:VEVENT
BEGIN:VEVENT
DTSTART;TZID=America/Chicago:20290206T163000
DTEND;TZID=America/Chicago:20290206T173000
DTSTAMP:20260424T103941
CREATED:20250410T173434Z
LAST-MODIFIED:20260205T162723Z
UID:10003776-1865089800-1865093400@www.fumcrockport.org
SUMMARY:Community Table (First Presbyterian Church)
DESCRIPTION:
URL:https://www.fumcrockport.org/event/community-table-first-presbyterian-church-2/2029-02-06/
END:VEVENT
END:VCALENDAR